- using R Under development (unstable) (2025-10-22 r88968)
- using platform: x86_64-pc-linux-gnu
- R was compiled by
    clang version 21.1.4
    flang version 21.1.4
- running under: Fedora Linux 42 (Workstation Edition)
- using session charset: UTF-8
- using option ‘--no-stop-on-test-error’
- checking for file ‘officer/DESCRIPTION’ ... OK
- checking extension type ... Package
- this is package ‘officer’ version ‘0.7.0’
- package encoding: UTF-8
- checking package namespace information ... OK
- checking package dependencies ... OK
- checking if this is a source package ... OK
- checking if there is a namespace ... OK
- checking for executable files ... OK
- checking for hidden files and directories ... OK
- checking for portable file names ... OK
- checking for sufficient/correct file permissions ... OK
- checking whether package ‘officer’ can be installed ... [43s/50s] OK
See the install log for details.
- checking installed package size ... OK
- checking package directory ... OK
- checking DESCRIPTION meta-information ... OK
- checking top-level files ... OK
- checking for left-over files ... OK
- checking index information ... OK
- checking package subdirectories ... OK
- checking code files for non-ASCII characters ... OK
- checking R files for syntax errors ... OK
- checking whether the package can be loaded ... OK
- checking whether the package can be loaded with stated dependencies ... OK
- checking whether the package can be unloaded cleanly ... OK
- checking whether the namespace can be loaded with stated dependencies ... OK
- checking whether the namespace can be unloaded cleanly ... OK
- checking loading without being on the library search path ... OK
- checking whether startup messages can be suppressed ... OK
- checking use of S3 registration ... OK
- checking dependencies in R code ... OK
- checking S3 generic/method consistency ... OK
- checking replacement functions ... OK
- checking foreign function calls ... OK
- checking R code for possible problems ... [52s/60s] OK
- checking Rd files ... NOTE
checkRd: (-1) body_add.Rd:169: height/width attributes should be in pixels
checkRd: (-1) body_end_block_section.Rd:23: height/width attributes should be in pixels
checkRd: (-1) body_set_default_section.Rd:21: height/width attributes should be in pixels
checkRd: (-1) ph_with.Rd:178: height/width attributes should be in pixels
checkRd: (-1) prop_section.Rd:63: height/width attributes should be in pixels
checkRd: (-1) read_docx.Rd:70: height/width attributes should be in pixels
checkRd: (-1) read_docx.Rd:72: height/width attributes should be in pixels
- checking Rd metadata ... OK
- checking Rd line widths ... OK
- checking Rd cross-references ... OK
- checking for missing documentation entries ... OK
- checking for code/documentation mismatches ... OK
- checking Rd \usage sections ... OK
- checking Rd contents ... OK
- checking for unstated dependencies in examples ... OK
- checking examples ... [50s/59s] OK
- checking for unstated dependencies in ‘tests’ ... OK
- checking tests ... [105s/129s] OK
  Running ‘testthat.R’ [104s/128s]
- checking PDF version of manual ... [19s/27s] OK
- checking HTML version of manual ... [11s/18s] OK
- checking for non-standard things in the check directory ... OK
- checking for detritus in the temp directory ... OK
- DONE
Status: 1 NOTE