- using R Under development (unstable) (2025-10-22 r88967)
- using platform: x86_64-pc-linux-gnu
- R was compiled by
clang version 21.1.4
flang version 21.1.4
- running under: Fedora Linux 42 (Workstation Edition)
- using session charset: UTF-8
- using option ‘--no-stop-on-test-error’
- checking for file ‘mazealls/DESCRIPTION’ ... OK
- this is package ‘mazealls’ version ‘0.2.0’
- checking package namespace information ... OK
- checking package dependencies ... OK
- checking if this is a source package ... OK
- checking if there is a namespace ... OK
- checking for executable files ... OK
- checking for hidden files and directories ... OK
- checking for portable file names ... OK
- checking for sufficient/correct file permissions ... OK
- checking whether package ‘mazealls’ can be installed ... [6s/12s] OK
See the install log for details.
- checking installed package size ... OK
- checking package directory ... OK
- checking DESCRIPTION meta-information ... OK
- checking top-level files ... OK
- checking for left-over files ... OK
- checking index information ... OK
- checking package subdirectories ... OK
- checking code files for non-ASCII characters ... OK
- checking R files for syntax errors ... OK
- checking whether the package can be loaded ... OK
- checking whether the package can be loaded with stated dependencies ... OK
- checking whether the package can be unloaded cleanly ... OK
- checking whether the namespace can be loaded with stated dependencies ... OK
- checking whether the namespace can be unloaded cleanly ... OK
- checking loading without being on the library search path ... OK
- checking use of S3 registration ... OK
- checking dependencies in R code ... OK
- checking S3 generic/method consistency ... OK
- checking replacement functions ... OK
- checking foreign function calls ... OK
- checking R code for possible problems ... [13s/28s] OK
- checking Rd files ... NOTE
checkRd: (-1) decagon_maze.Rd:93: height/width attributes should be in pixels
checkRd: (-1) dodecagon_maze.Rd:93: height/width attributes should be in pixels
checkRd: (-1) eq_triangle_maze.Rd:138: height/width attributes should be in pixels
checkRd: (-1) eq_triangle_maze.Rd:147: height/width attributes should be in pixels
checkRd: (-1) eq_triangle_maze.Rd:156: height/width attributes should be in pixels
checkRd: (-1) eq_triangle_maze.Rd:165: height/width attributes should be in pixels
checkRd: (-1) eq_triangle_maze.Rd:174: height/width attributes should be in pixels
checkRd: (-1) eq_triangle_maze.Rd:183: height/width attributes should be in pixels
checkRd: (-1) hexaflake_maze.Rd:95: height/width attributes should be in pixels
checkRd: (-1) hexagon_maze.Rd:124: height/width attributes should be in pixels
checkRd: (-1) hexagon_maze.Rd:133: height/width attributes should be in pixels
checkRd: (-1) hexagon_maze.Rd:142: height/width attributes should be in pixels
checkRd: (-1) iso_trapezoid_maze.Rd:124: height/width attributes should be in pixels
checkRd: (-1) iso_trapezoid_maze.Rd:133: height/width attributes should be in pixels
checkRd: (-1) koch_maze.Rd:85: height/width attributes should be in pixels
checkRd: (-1) mazealls.Rd:36: height/width attributes should be in pixels
checkRd: (-1) mazealls.Rd:66: height/width attributes should be in pixels
checkRd: (-1) octagon_maze.Rd:91: height/width attributes should be in pixels
checkRd: (-1) parallelogram_maze.Rd:141: height/width attributes should be in pixels
checkRd: (-1) parallelogram_maze.Rd:154: height/width attributes should be in pixels
checkRd: (-1) sierpinski_maze.Rd:110: height/width attributes should be in pixels
checkRd: (-1) sierpinski_trapezoid_maze.Rd:108: height/width attributes should be in pixels
- checking Rd metadata ... OK
- checking Rd line widths ... OK
- checking Rd cross-references ... OK
- checking for missing documentation entries ... OK
- checking for code/documentation mismatches ... OK
- checking Rd \usage sections ... OK
- checking Rd contents ... OK
- checking for unstated dependencies in examples ... OK
- checking examples ... [34s/74s] OK
- checking for unstated dependencies in ‘tests’ ... OK
- checking tests ... [148s/187s] OK
Running ‘testthat.R’ [147s/187s]
- checking PDF version of manual ... [21s/25s] OK
- checking HTML version of manual ... OK
- checking for non-standard things in the check directory ... OK
- checking for detritus in the temp directory ... OK
- DONE
Status: 1 NOTE