- using R Under development (unstable) (2025-10-22 r88966)
- using platform: x86_64-pc-linux-gnu
- R was compiled by
clang version 21.1.4
flang version 21.1.4
- running under: Fedora Linux 42 (Workstation Edition)
- using session charset: UTF-8
- using option ‘--no-stop-on-test-error’
- checking for file ‘gtExtras/DESCRIPTION’ ... OK
- checking extension type ... Package
- this is package ‘gtExtras’ version ‘0.6.1’
- package encoding: UTF-8
- checking package namespace information ... OK
- checking package dependencies ... OK
- checking if this is a source package ... OK
- checking if there is a namespace ... OK
- checking for executable files ... OK
- checking for hidden files and directories ... OK
- checking for portable file names ... OK
- checking for sufficient/correct file permissions ... OK
- checking whether package ‘gtExtras’ can be installed ... [21s/45s] OK
See the install log for details.
- checking installed package size ... OK
- checking package directory ... OK
- checking DESCRIPTION meta-information ... OK
- checking top-level files ... OK
- checking for left-over files ... OK
- checking index information ... OK
- checking package subdirectories ... OK
- checking code files for non-ASCII characters ... OK
- checking R files for syntax errors ... OK
- checking whether the package can be loaded ... OK
- checking whether the package can be loaded with stated dependencies ... OK
- checking whether the package can be unloaded cleanly ... OK
- checking whether the namespace can be loaded with stated dependencies ... OK
- checking whether the namespace can be unloaded cleanly ... OK
- checking loading without being on the library search path ... OK
- checking whether startup messages can be suppressed ... OK
- checking use of S3 registration ... OK
- checking dependencies in R code ... OK
- checking S3 generic/method consistency ... OK
- checking replacement functions ... OK
- checking foreign function calls ... OK
- checking R code for possible problems ... [31s/71s] OK
- checking Rd files ... NOTE
checkRd: (-1) add_text_img.Rd:43: height/width attributes should be in pixels
checkRd: (-1) fmt_pad_num.Rd:29: height/width attributes should be in pixels
checkRd: (-1) fmt_symbol_first.Rd:48: height/width attributes should be in pixels
checkRd: (-1) get_row_index.Rd:79: height/width attributes should be in pixels
checkRd: (-1) get_row_index.Rd:95: height/width attributes should be in pixels
checkRd: (-1) get_row_index.Rd:107: height/width attributes should be in pixels
checkRd: (-1) get_row_index.Rd:115: height/width attributes should be in pixels
checkRd: (-1) gt_add_divider.Rd:47: height/width attributes should be in pixels
checkRd: (-1) gt_alert_icon.Rd:50: height/width attributes should be in pixels
checkRd: (-1) gt_badge.Rd:45: height/width attributes should be in pixels
checkRd: (-1) gt_color_box.Rd:58: height/width attributes should be in pixels
checkRd: (-1) gt_color_rows.Rd:95: height/width attributes should be in pixels
checkRd: (-1) gt_color_rows.Rd:97: height/width attributes should be in pixels
checkRd: (-1) gt_color_rows.Rd:99: height/width attributes should be in pixels
checkRd: (-1) gt_color_rows.Rd:101: height/width attributes should be in pixels
checkRd: (-1) gt_fa_rank_change.Rd:52: height/width attributes should be in pixels
checkRd: (-1) gt_fa_rating.Rd:51: height/width attributes should be in pixels
checkRd: (-1) gt_highlight_cols.Rd:48: height/width attributes should be in pixels
checkRd: (-1) gt_highlight_rows.Rd:69: height/width attributes should be in pixels
checkRd: (-1) gt_highlight_rows.Rd:70: height/width attributes should be in pixels
checkRd: (-1) gt_hulk_col_numeric.Rd:72: height/width attributes should be in pixels
checkRd: (-1) gt_hulk_col_numeric.Rd:74: height/width attributes should be in pixels
checkRd: (-1) gt_hulk_col_numeric.Rd:76: height/width attributes should be in pixels
checkRd: (-1) gt_img_border.Rd:56: height/width attributes should be in pixels
checkRd: (-1) gt_img_circle.Rd:53: height/width attributes should be in pixels
checkRd: (-1) gt_img_multi_rows.Rd:53: height/width attributes should be in pixels
checkRd: (-1) gt_img_rows.Rd:51: height/width attributes should be in pixels
checkRd: (-1) gt_index.Rd:32: height/width attributes should be in pixels
checkRd: (-1) gt_merge_stack.Rd:71: height/width attributes should be in pixels
checkRd: (-1) gt_merge_stack_color.Rd:59: height/width attributes should be in pixels
checkRd: (-1) gt_plt_bar.Rd:54: height/width attributes should be in pixels
checkRd: (-1) gt_plt_bar_pct.Rd:85: height/width attributes should be in pixels
checkRd: (-1) gt_plt_bar_stack.Rd:78: height/width attributes should be in pixels
checkRd: (-1) gt_plt_bullet.Rd:51: height/width attributes should be in pixels
checkRd: (-1) gt_plt_conf_int.Rd:81: height/width attributes should be in pixels
checkRd: (-1) gt_plt_conf_int.Rd:82: height/width attributes should be in pixels
checkRd: (-1) gt_plt_dist.Rd:65: height/width attributes should be in pixels
checkRd: (-1) gt_plt_dot.Rd:50: height/width attributes should be in pixels
checkRd: (-1) gt_plt_dumbbell.Rd:52: height/width attributes should be in pixels
checkRd: (-1) gt_plt_percentile.Rd:47: height/width attributes should be in pixels
checkRd: (-1) gt_plt_point.Rd:50: height/width attributes should be in pixels
checkRd: (-1) gt_plt_sparkline.Rd:55: height/width attributes should be in pixels
checkRd: (-1) gt_theme_538.Rd:34: height/width attributes should be in pixels
checkRd: (-1) gt_theme_dark.Rd:22: height/width attributes should be in pixels
checkRd: (-1) gt_theme_dot_matrix.Rd:37: height/width attributes should be in pixels
checkRd: (-1) gt_theme_espn.Rd:22: height/width attributes should be in pixels
checkRd: (-1) gt_theme_excel.Rd:24: height/width attributes should be in pixels
checkRd: (-1) gt_theme_guardian.Rd:22: height/width attributes should be in pixels
checkRd: (-1) gt_theme_nytimes.Rd:22: height/width attributes should be in pixels
checkRd: (-1) gt_theme_pff.Rd:74: height/width attributes should be in pixels
checkRd: (-1) gt_two_column_layout.Rd:113: height/width attributes should be in pixels
checkRd: (-1) img_header.Rd:53: height/width attributes should be in pixels
checkRd: (-1) pad_fn.Rd:26: height/width attributes should be in pixels
checkRd: (-1) tab_style_by_grp.Rd:46: height/width attributes should be in pixels
- checking Rd metadata ... OK
- checking Rd line widths ... OK
- checking Rd cross-references ... OK
- checking for missing documentation entries ... OK
- checking for code/documentation mismatches ... OK
- checking Rd \usage sections ... OK
- checking Rd contents ... OK
- checking for unstated dependencies in examples ... OK
- checking R/sysdata.rda ... OK
- checking examples ... [6s/12s] OK
- checking for unstated dependencies in ‘tests’ ... OK
- checking tests ... [90s/83s] OK
Running ‘testthat.R’ [89s/82s]
- checking PDF version of manual ... [13s/20s] OK
- checking HTML version of manual ... [6s/11s] OK
- checking for non-standard things in the check directory ... OK
- checking for detritus in the temp directory ... OK
- DONE
Status: 1 NOTE