- using R Under development (unstable) (2025-10-28 r88973)
 
- using platform: x86_64-pc-linux-gnu
 
- R was compiled by
    clang version 21.1.4
    flang version 21.1.4
 
- running under: Fedora Linux 42 (Workstation Edition)
 
- using session charset: UTF-8
 
- using option ‘--no-stop-on-test-error’
 
- checking for file ‘gap/DESCRIPTION’ ... OK
 
- checking extension type ... Package
 
- this is package ‘gap’ version ‘1.6’
 
- package encoding: UTF-8
 
- checking package namespace information ... OK
 
- checking package dependencies ... INFO
Package suggested but not available for checking: ‘manhattanly’
 
- checking if this is a source package ... OK
 
- checking if there is a namespace ... OK
 
- checking for executable files ... OK
 
- checking for hidden files and directories ... OK
 
- checking for portable file names ... OK
 
- checking for sufficient/correct file permissions ... OK
 
- checking whether package ‘gap’ can be installed ... [42s/97s] OK
See the install log for details.
 
- used C compiler: ‘clang version 21.1.4’
 
- used Fortran compiler: ‘flang version 21.1.4’
 
- checking installed package size ... INFO
  installed size is 10.1Mb
  sub-directories of 1Mb or more:
    doc    7.4Mb
    libs   1.7Mb
 
- checking package directory ... OK
 
- checking ‘build’ directory ... OK
 
- checking DESCRIPTION meta-information ... OK
 
- checking top-level files ... OK
 
- checking for left-over files ... OK
 
- checking index information ... OK
 
- checking package subdirectories ... OK
 
- checking code files for non-ASCII characters ... OK
 
- checking R files for syntax errors ... OK
 
- checking whether the package can be loaded ... OK
 
- checking whether the package can be loaded with stated dependencies ... OK
 
- checking whether the package can be unloaded cleanly ... OK
 
- checking whether the namespace can be loaded with stated dependencies ... OK
 
- checking whether the namespace can be unloaded cleanly ... OK
 
- checking loading without being on the library search path ... OK
 
- checking whether startup messages can be suppressed ... OK
 
- checking use of S3 registration ... OK
 
- checking dependencies in R code ... OK
 
- checking S3 generic/method consistency ... OK
 
- checking replacement functions ... OK
 
- checking foreign function calls ... OK
 
- checking R code for possible problems ... [58s/145s] OK
 
- checking Rd files ... [7s/25s] NOTE
checkRd: (-1) gap.Rd:20-137: Only 2 columns allowed in this table (row 1 has 1)
checkRd: (-1) gap.Rd:20-137: Only 2 columns allowed in this table (row 2 has 1)
checkRd: (-1) gap.Rd:20-137: Only 2 columns allowed in this table (row 3 has 1)
checkRd: (-1) gap.Rd:20-137: Only 2 columns allowed in this table (row 51 has 1)
checkRd: (-1) gap.Rd:20-137: Only 2 columns allowed in this table (row 52 has 1)
checkRd: (-1) gap.Rd:20-137: Only 2 columns allowed in this table (row 53 has 1)
checkRd: (-1) gap.Rd:20-137: Only 2 columns allowed in this table (row 78 has 1)
checkRd: (-1) gap.Rd:20-137: Only 2 columns allowed in this table (row 79 has 1)
checkRd: (-1) gap.Rd:20-137: Only 2 columns allowed in this table (row 80 has 1)
checkRd: (-1) gap.Rd:20-137: Only 2 columns allowed in this table (row 116 has 1)
checkRd: (-1) masize.Rd:129-162: Only 3 columns allowed in this table (row 2 has 1)
checkRd: (-1) masize.Rd:129-162: Only 3 columns allowed in this table (row 7 has 1)
checkRd: (-1) masize.Rd:129-162: Only 3 columns allowed in this table (row 13 has 1)
checkRd: (-1) masize.Rd:129-162: Only 3 columns allowed in this table (row 23 has 1)
 
- checking Rd metadata ... OK
 
- checking Rd line widths ... OK
 
- checking Rd cross-references ... INFO
Undeclared package ‘car’ in Rd xrefs
 
- checking for missing documentation entries ... OK
 
- checking for code/documentation mismatches ... OK
 
- checking Rd \usage sections ... OK
 
- checking Rd contents ... OK
 
- checking for unstated dependencies in examples ... OK
 
- checking contents of ‘data’ directory ... OK
 
- checking data for non-ASCII characters ... OK
 
- checking LazyData ... OK
 
- checking data for ASCII and uncompressed saves ... OK
 
- checking line endings in C/C++/Fortran sources/headers ... OK
 
- checking pragmas in C/C++ headers and code ... OK
 
- checking compilation flags used ... OK
 
- checking compiled code ... OK
 
- checking usage of KIND in Fortran files ... OK
 
- checking sizes of PDF files under ‘inst/doc’ ... OK
 
- checking installed files from ‘inst/doc’ ... OK
 
- checking files in ‘vignettes’ ... OK
 
- checking examples ... [13s/37s] OK
 
- checking for unstated dependencies in vignettes ... OK
 
- checking package vignettes ... OK
 
- checking re-building of vignette outputs ... [234s/545s] OK
 
- checking PDF version of manual ... [17s/45s] OK
 
- checking HTML version of manual ... [10s/23s] OK
 
- checking for non-standard things in the check directory ... OK
 
- checking for detritus in the temp directory ... OK
 
- DONE
 
Status: 1 NOTE