* using log directory ‘/data/gannet/ripley/R/packages/tests-clang/future.apply.Rcheck’ * using R Under development (unstable) (2025-07-11 r88400) * using platform: x86_64-pc-linux-gnu * R was compiled by clang version 20.1.7 flang version 20.1.7 * running under: Fedora Linux 42 (Workstation Edition) * using session charset: UTF-8 * using option ‘--no-stop-on-test-error’ * checking for file ‘future.apply/DESCRIPTION’ ... OK * this is package ‘future.apply’ version ‘1.20.0’ * package encoding: UTF-8 * checking package namespace information ... OK * checking package dependencies ... OK * checking if this is a source package ... OK * checking if there is a namespace ... OK * checking for executable files ... OK * checking for hidden files and directories ... OK * checking for portable file names ... OK * checking for sufficient/correct file permissions ... OK * checking whether package ‘future.apply’ can be installed ... OK See 'https://www.r-project.org/nosvn/R.check/r-devel-linux-x86_64-fedora-clang/future.apply-00install.html' for details. * checking installed package size ... OK * checking package directory ... OK * checking ‘build’ directory ... OK * checking DESCRIPTION meta-information ... OK * checking top-level files ... OK * checking for left-over files ... OK * checking index information ... OK * checking package subdirectories ... OK * checking code files for non-ASCII characters ... OK * checking R files for syntax errors ... OK * checking whether the package can be loaded ... OK * checking whether the package can be loaded with stated dependencies ... OK * checking whether the package can be unloaded cleanly ... OK * checking whether the namespace can be loaded with stated dependencies ... OK * checking whether the namespace can be unloaded cleanly ... OK * checking loading without being on the library search path ... OK * checking whether startup messages can be suppressed ... OK * checking use of S3 registration ... OK * checking dependencies in R code ... OK * checking S3 generic/method consistency ... OK * checking replacement functions ... OK * checking foreign function calls ... OK * checking R code for possible problems ... [13s/16s] OK * checking Rd files ... OK * checking Rd metadata ... OK * checking Rd line widths ... OK * checking Rd cross-references ... OK * checking for missing documentation entries ... OK * checking for code/documentation mismatches ... OK * checking Rd \usage sections ... OK * checking Rd contents ... OK * checking for unstated dependencies in examples ... OK * checking installed files from ‘inst/doc’ ... OK * checking files in ‘vignettes’ ... OK * checking examples ... OK * checking for unstated dependencies in ‘tests’ ... OK * checking tests ... [264s/442s] OK Running ‘test-fold.R’ [8s/11s] Running ‘test-future_Filter.R’ Running ‘test-future_apply.R’ [16s/23s] Running ‘test-future_by.R’ Running ‘test-future_eapply.R’ Running ‘test-future_kernapply.R’ Running ‘test-future_lapply,RNG.R’ [61s/104s] Running ‘test-future_lapply,globals.R’ [16s/30s] Running ‘test-future_lapply.R’ [37s/54s] Running ‘test-future_mapply,globals.R’ [10s/19s] Running ‘test-future_mapply.R’ [13s/23s] Running ‘test-future_replicate.R’ Running ‘test-future_sapply.R’ [37s/64s] Running ‘test-future_tapply.R’ Running ‘test-future_vapply.R’ [16s/25s] Running ‘test-globals,tricky2.R’ Running ‘test-globals,tricky_recursive.R’ Running ‘test-options,nested.R’ Running ‘test-rng.R’ Running ‘test-stdout.R’ [15s/25s] Running ‘test-utils.R’ * checking for unstated dependencies in vignettes ... OK * checking package vignettes ... OK * checking re-building of vignette outputs ... OK * checking PDF version of manual ... OK * checking HTML version of manual ... OK * checking for non-standard things in the check directory ... OK * checking for detritus in the temp directory ... OK * DONE Status: OK