- using R Under development (unstable) (2025-07-13 r88407)
- using platform: x86_64-pc-linux-gnu
- R was compiled by
clang version 20.1.7
flang version 20.1.7
- running under: Fedora Linux 42 (Workstation Edition)
- using session charset: UTF-8
- using option ‘--no-stop-on-test-error’
- checking for file ‘doFuture/DESCRIPTION’ ... OK
- this is package ‘doFuture’ version ‘1.1.2’
- package encoding: UTF-8
- checking package namespace information ... OK
- checking package dependencies ... OK
- checking if this is a source package ... OK
- checking if there is a namespace ... OK
- checking for executable files ... OK
- checking for hidden files and directories ... OK
- checking for portable file names ... OK
- checking for sufficient/correct file permissions ... OK
- checking whether package ‘doFuture’ can be installed ... [7s/15s] OK
See the install log for details.
- checking installed package size ... OK
- checking package directory ... OK
- checking ‘build’ directory ... OK
- checking DESCRIPTION meta-information ... OK
- checking top-level files ... OK
- checking for left-over files ... OK
- checking index information ... OK
- checking package subdirectories ... OK
- checking code files for non-ASCII characters ... OK
- checking R files for syntax errors ... OK
- checking whether the package can be loaded ... OK
- checking whether the package can be loaded with stated dependencies ... OK
- checking whether the package can be unloaded cleanly ... OK
- checking whether the namespace can be loaded with stated dependencies ... OK
- checking whether the namespace can be unloaded cleanly ... OK
- checking loading without being on the library search path ... OK
- checking whether startup messages can be suppressed ... OK
- checking use of S3 registration ... OK
- checking dependencies in R code ... OK
- checking S3 generic/method consistency ... OK
- checking replacement functions ... OK
- checking foreign function calls ... OK
- checking R code for possible problems ... [14s/29s] OK
- checking Rd files ... OK
- checking Rd metadata ... OK
- checking Rd line widths ... OK
- checking Rd cross-references ... OK
- checking for missing documentation entries ... OK
- checking for code/documentation mismatches ... OK
- checking Rd \usage sections ... OK
- checking Rd contents ... OK
- checking for unstated dependencies in examples ... OK
- checking installed files from ‘inst/doc’ ... OK
- checking files in ‘vignettes’ ... OK
- checking examples ... OK
- checking for unstated dependencies in ‘tests’ ... OK
- checking tests ... [5m/16m] OK
Running ‘test-foreach_dofuture,errors.R’ [21s/79s]
Running ‘test-foreach_dofuture,globals.R’ [30s/82s]
Running ‘test-foreach_dofuture,nested_colon.R’ [25s/102s]
Running ‘test-foreach_dofuture,nested_dofuture.R’ [24s/104s]
Running ‘test-foreach_dofuture,rng.R’ [11s/31s]
Running ‘test-foreach_dofuture.R’ [4s/13s]
Running ‘test-foreach_dopar,doRNG,dopar.R’ [4s/11s]
Running ‘test-foreach_dopar,doRNG,dorng.R’ [15s/45s]
Running ‘test-foreach_dopar,errors.R’ [11s/45s]
Running ‘test-foreach_dopar,flavor_dofuture.R’ [5s/11s]
Running ‘test-foreach_dopar,globals.R’ [13s/40s]
Running ‘test-foreach_dopar,nested_colon.R’ [24s/99s]
Running ‘test-foreach_dopar,nested_dopar.R’ [48s/172s]
Running ‘test-foreach_dopar,options-for-export.R’ [11s/30s]
Running ‘test-foreach_dopar.R’ [4s/14s]
Running ‘test-makeChunks.R’ [9s/21s]
Running ‘test-options,nested.R’ [10s/26s]
Running ‘test-registerDoFuture.R’
Running ‘test-times.R’
Running ‘test-utils.R’
Running ‘test-with.DoPar.R’
Running ‘test-withDoRNG.R’ [5s/19s]
- checking for unstated dependencies in vignettes ... OK
- checking package vignettes ... OK
- checking re-building of vignette outputs ... OK
- checking PDF version of manual ... [10s/19s] OK
- checking HTML version of manual ... OK
- checking for non-standard things in the check directory ... OK
- checking for detritus in the temp directory ... OK
- DONE
Status: OK