- using R Under development (unstable) (2021-01-15 r79833)
- using platform: x86_64-pc-linux-gnu (64-bit)
- using session charset: UTF-8
- using option ‘--no-stop-on-test-error’
- checking for file ‘crossmatch/DESCRIPTION’ ... OK
- checking extension type ... Package
- this is package ‘crossmatch’ version ‘1.3-1’
- checking package namespace information ... OK
- checking package dependencies ... OK
- checking if this is a source package ... OK
- checking if there is a namespace ... OK
- checking for executable files ... OK
- checking for hidden files and directories ... OK
- checking for portable file names ... OK
- checking for sufficient/correct file permissions ... OK
- checking whether package ‘crossmatch’ can be installed ... [14s/16s] OK
- checking installed package size ... OK
- checking package directory ... OK
- checking DESCRIPTION meta-information ... OK
- checking top-level files ... OK
- checking for left-over files ... OK
- checking index information ... OK
- checking package subdirectories ... OK
- checking R files for non-ASCII characters ... OK
- checking R files for syntax errors ... OK
- checking whether the package can be loaded ... OK
- checking whether the package can be loaded with stated dependencies ... OK
- checking whether the package can be unloaded cleanly ... OK
- checking whether the namespace can be loaded with stated dependencies ... OK
- checking whether the namespace can be unloaded cleanly ... OK
- checking loading without being on the library search path ... OK
- checking use of S3 registration ... OK
- checking dependencies in R code ... NOTE
Package in Depends field not imported from: ‘survival’
These packages need to be imported from (in the NAMESPACE file)
for when this namespace is loaded but not attached.
- checking S3 generic/method consistency ... OK
- checking replacement functions ... OK
- checking foreign function calls ... OK
- checking R code for possible problems ... [22s/32s] NOTE
crossmatchtest: no visible global function definition for ‘pnorm’
Undefined global functions or variables:
pnorm
Consider adding
importFrom("stats", "pnorm")
to your NAMESPACE file.
- checking Rd files ... OK
- checking Rd metadata ... OK
- checking Rd line widths ... NOTE
Rd file 'crossmatch-package.Rd':
\examples lines wider than 100 characters:
c(0.03,0.11,0.16,-0.1,-0.05,0.16,0.12,0.4,0.04,0.71,0.01,0.21,-0.18,-0.08 ,-0.35,0.26,-0.6,-1.0))
Rd file 'crossmatchtest.Rd':
\examples lines wider than 100 characters:
c(0.03,0.11,0.16,-0.1,-0.05,0.16,0.12,0.4,0.04,0.71,0.01,0.21,-0.18,-0.08 ,-0.35,0.26,-0.6,-1.0))
These lines will be truncated in the PDF manual.
- checking Rd cross-references ... OK
- checking for missing documentation entries ... OK
- checking for code/documentation mismatches ... OK
- checking Rd \usage sections ... OK
- checking Rd contents ... OK
- checking for unstated dependencies in examples ... OK
- checking examples ... OK
- checking PDF version of manual ... OK
- checking for non-standard things in the check directory ... OK
- checking for detritus in the temp directory ... OK
- DONE
Status: 3 NOTEs