- using R Under development (unstable) (2024-03-08 r86072)
- using platform: x86_64-pc-linux-gnu
- R was compiled by
clang version 18.1.1
flang-new version 18.1.1
- running under: Fedora Linux 36 (Workstation Edition)
- using session charset: UTF-8
- using option ‘--no-stop-on-test-error’
- checking for file ‘babsim.hospital/DESCRIPTION’ ... OK
- checking extension type ... Package
- this is package ‘babsim.hospital’ version ‘11.8.8’
- package encoding: UTF-8
- checking package namespace information ... OK
- checking package dependencies ... OK
- checking if this is a source package ... OK
- checking if there is a namespace ... OK
- checking for executable files ... OK
- checking for hidden files and directories ... OK
- checking for portable file names ... OK
- checking for sufficient/correct file permissions ... OK
- checking whether package ‘babsim.hospital’ can be installed ... [33s/46s] OK
See the install log for details.
- checking installed package size ... OK
- checking package directory ... OK
- checking ‘build’ directory ... OK
- checking DESCRIPTION meta-information ... OK
- checking top-level files ... OK
- checking for left-over files ... OK
- checking index information ... OK
- checking package subdirectories ... OK
- checking R files for non-ASCII characters ... OK
- checking R files for syntax errors ... OK
- checking whether the package can be loaded ... OK
- checking whether the package can be loaded with stated dependencies ... OK
- checking whether the package can be unloaded cleanly ... OK
- checking whether the namespace can be loaded with stated dependencies ... OK
- checking whether the namespace can be unloaded cleanly ... OK
- checking loading without being on the library search path ... OK
- checking use of S3 registration ... OK
- checking dependencies in R code ... OK
- checking S3 generic/method consistency ... OK
- checking replacement functions ... OK
- checking foreign function calls ... OK
- checking R code for possible problems ... [49s/63s] OK
- checking Rd files ... NOTE
checkRd: (-1) envToTibble.Rd:79: Lost braces in \itemize; meant \describe ?
checkRd: (-1) envToTibble.Rd:80: Lost braces in \itemize; meant \describe ?
checkRd: (-1) envToTibble.Rd:81: Lost braces in \itemize; meant \describe ?
checkRd: (-1) envToTibble.Rd:82: Lost braces in \itemize; meant \describe ?
checkRd: (-1) envToTibble.Rd:83: Lost braces in \itemize; meant \describe ?
checkRd: (-1) envToTibble.Rd:84: Lost braces in \itemize; meant \describe ?
checkRd: (-1) envToTibble.Rd:85: Lost braces in \itemize; meant \describe ?
checkRd: (-1) envToTibble.Rd:86: Lost braces in \itemize; meant \describe ?
checkRd: (-1) fitExponential.Rd:22: Lost braces; missing escapes or markup?
22 | Fit the model $y = a e^{bx}$ to the provided data.
| ^
checkRd: (-1) getDailyMaxResults.Rd:77: Lost braces in \itemize; meant \describe ?
checkRd: (-1) getDailyMaxResults.Rd:78: Lost braces in \itemize; meant \describe ?
checkRd: (-1) getDailyMaxResults.Rd:79: Lost braces in \itemize; meant \describe ?
checkRd: (-1) getDailyMaxResults.Rd:80: Lost braces in \itemize; meant \describe ?
checkRd: (-1) getDailyMaxResults.Rd:81: Lost braces in \itemize; meant \describe ?
checkRd: (-1) getDailyMaxResults.Rd:82: Lost braces in \itemize; meant \describe ?
checkRd: (-1) getDailyMaxResults.Rd:83: Lost braces in \itemize; meant \describe ?
checkRd: (-1) getDailyMaxResults.Rd:84: Lost braces in \itemize; meant \describe ?
checkRd: (-1) ggVisualizeIcu.Rd:27: Lost braces
27 | |code{05315} fuer Koeln oder \code{05911} fuer Bochum.}
| ^
checkRd: (-1) postprocessEnvs.Rd:41: Lost braces in \itemize; meant \describe ?
checkRd: (-1) postprocessEnvs.Rd:42: Lost braces in \itemize; meant \describe ?
checkRd: (-1) postprocessEnvs.Rd:43: Lost braces in \itemize; meant \describe ?
checkRd: (-1) postprocessEnvs.Rd:44: Lost braces in \itemize; meant \describe ?
checkRd: (-1) postprocessEnvs.Rd:45: Lost braces in \itemize; meant \describe ?
checkRd: (-1) postprocessEnvs.Rd:46: Lost braces in \itemize; meant \describe ?
checkRd: (-1) postprocessEnvs.Rd:47: Lost braces in \itemize; meant \describe ?
checkRd: (-1) postprocessEnvs.Rd:48: Lost braces in \itemize; meant \describe ?
checkRd: (-1) visualizeIcu.Rd:27: Lost braces
27 | |code{05315} fuer Koeln oder \code{05911} fuer Bochum.}
| ^
- checking Rd metadata ... OK
- checking Rd line widths ... OK
- checking Rd cross-references ... OK
- checking for missing documentation entries ... OK
- checking for code/documentation mismatches ... OK
- checking Rd \usage sections ... OK
- checking Rd contents ... OK
- checking for unstated dependencies in examples ... OK
- checking contents of ‘data’ directory ... OK
- checking data for non-ASCII characters ... NOTE
Note: found 64209 marked UTF-8 strings
- checking LazyData ... OK
- checking data for ASCII and uncompressed saves ... OK
- checking installed files from ‘inst/doc’ ... OK
- checking files in ‘vignettes’ ... OK
- checking examples ... [17s/21s] OK
- checking for unstated dependencies in ‘tests’ ... OK
- checking tests ... [90s/59s] OK
Running ‘testthat.R’ [90s/58s]
- checking for unstated dependencies in vignettes ... OK
- checking package vignettes ... OK
- checking re-building of vignette outputs ... [21s/27s] OK
- checking PDF version of manual ... [13s/21s] OK
- checking HTML version of manual ... [7s/11s] OK
- checking for non-standard things in the check directory ... OK
- checking for detritus in the temp directory ... OK
- DONE
Status: 2 NOTEs