- using R Under development (unstable) (2021-01-15 r79833)
- using platform: x86_64-pc-linux-gnu (64-bit)
- using session charset: UTF-8
- using option ‘--no-stop-on-test-error’
- checking for file ‘audiolyzR/DESCRIPTION’ ... OK
- checking extension type ... Package
- this is package ‘audiolyzR’ version ‘0.4-9’
- checking package namespace information ... OK
- checking package dependencies ... OK
- checking if this is a source package ... OK
- checking if there is a namespace ... OK
- checking for executable files ... OK
- checking for hidden files and directories ... OK
- checking for portable file names ... OK
- checking for sufficient/correct file permissions ... OK
- checking whether package ‘audiolyzR’ can be installed ... OK
- checking installed package size ... OK
- checking package directory ... OK
- checking DESCRIPTION meta-information ... NOTE
Malformed Description field: should contain one or more complete sentences.
- checking top-level files ... OK
- checking for left-over files ... OK
- checking index information ... OK
- checking package subdirectories ... OK
- checking R files for non-ASCII characters ... OK
- checking R files for syntax errors ... OK
- checking whether the package can be loaded ... OK
- checking whether the package can be loaded with stated dependencies ... OK
- checking whether the package can be unloaded cleanly ... OK
- checking whether the namespace can be loaded with stated dependencies ... OK
- checking whether the namespace can be unloaded cleanly ... OK
- checking loading without being on the library search path ... OK
- checking use of S3 registration ... OK
- checking dependencies in R code ... NOTE
Packages in Depends field not imported from:
‘RJSONIO’ ‘hexbin’ ‘plotrix’
These packages need to be imported from (in the NAMESPACE file)
for when this namespace is loaded but not attached.
- checking S3 generic/method consistency ... OK
- checking replacement functions ... OK
- checking foreign function calls ... OK
- checking R code for possible problems ... NOTE
audioHist: no visible global function definition for ‘hist’
audioHist: no visible global function definition for ‘rescale’
audioHist: no visible global function definition for ‘toJSON’
audioScatter: no visible binding for global variable ‘formula’
audioScatter: no visible global function definition for ‘hexbinplot’
audioScatter: no visible global function definition for ‘cor’
audioScatter: no visible global function definition for ‘toJSON’
audioSplom: no visible global function definition for ‘hexplom’
audioSplom: no visible binding for global variable ‘BTY’
audioSplom: no visible binding for global variable ‘panel.hexboxplot’
audioSplom: no visible global function definition for ‘combn’
audioSplom : <anonymous>: no visible global function definition for
‘cor’
audioSplom : <anonymous>: no visible global function definition for
‘toJSON’
audiolyzRcheck: no visible global function definition for
‘download.file’
audiolyzRcheck: no visible global function definition for ‘unzip’
matricize: no visible global function definition for ‘hexbin’
panel.audiolyzR: no visible global function definition for
‘panel.hexbinplot’
Undefined global functions or variables:
BTY combn cor download.file formula hexbin hexbinplot hexplom hist
panel.hexbinplot panel.hexboxplot rescale toJSON unzip
Consider adding
importFrom("graphics", "hist")
importFrom("stats", "cor", "formula")
importFrom("utils", "combn", "download.file", "unzip")
to your NAMESPACE file.
- checking Rd files ... OK
- checking Rd metadata ... OK
- checking Rd line widths ... OK
- checking Rd cross-references ... OK
- checking for missing documentation entries ... OK
- checking for code/documentation mismatches ... OK
- checking Rd \usage sections ... OK
- checking Rd contents ... OK
- checking for unstated dependencies in examples ... OK
- checking examples ... OK
- checking PDF version of manual ... OK
- checking for non-standard things in the check directory ... OK
- checking for detritus in the temp directory ... OK
- DONE
Status: 3 NOTEs