- using R Under development (unstable) (2024-04-12 r86412)
- using platform: x86_64-pc-linux-gnu
- R was compiled by
clang version 18.1.2
flang-new version 18.1.2
- running under: Fedora Linux 36 (Workstation Edition)
- using session charset: UTF-8
- using option ‘--no-stop-on-test-error’
- checking for file ‘aods3/DESCRIPTION’ ... OK
- this is package ‘aods3’ version ‘0.4-1.2’
- checking package namespace information ... OK
- checking package dependencies ... OK
- checking if this is a source package ... OK
- checking if there is a namespace ... OK
- checking for executable files ... OK
- checking for hidden files and directories ... OK
- checking for portable file names ... OK
- checking for sufficient/correct file permissions ... OK
- checking whether package ‘aods3’ can be installed ... OK
See the install log for details.
- checking installed package size ... OK
- checking package directory ... OK
- checking DESCRIPTION meta-information ... OK
- checking top-level files ... OK
- checking for left-over files ... OK
- checking index information ... OK
- checking package subdirectories ... OK
- checking code files for non-ASCII characters ... OK
- checking R files for syntax errors ... OK
- checking whether the package can be loaded ... OK
- checking whether the package can be loaded with stated dependencies ... OK
- checking whether the package can be unloaded cleanly ... OK
- checking whether the namespace can be loaded with stated dependencies ... OK
- checking whether the namespace can be unloaded cleanly ... OK
- checking loading without being on the library search path ... OK
- checking use of S3 registration ... OK
- checking dependencies in R code ... OK
- checking S3 generic/method consistency ... OK
- checking replacement functions ... OK
- checking foreign function calls ... OK
- checking R code for possible problems ... [11s/14s] OK
- checking Rd files ... NOTE
checkRd: (-1) gof.Rd:32: Lost braces
32 | Assuming that the data length is \eqn{N} and the number of the parameters in the model is \eqn{p}, eqn{D} and eqn{X^2} are compared to a chi-squared distribution with \eqn{N-p} degrees of freedom.
| ^
checkRd: (-1) gof.Rd:32: Lost braces
32 | Assuming that the data length is \eqn{N} and the number of the parameters in the model is \eqn{p}, eqn{D} and eqn{X^2} are compared to a chi-squared distribution with \eqn{N-p} degrees of freedom.
| ^
checkRd: (-1) iccbin.Rd:23: Lost braces
23 | \item{m}{A vector of the numbers of successes (proportions are eqn{y = m / n}).}
| ^
checkRd: (-1) varbin.Rd:22: Lost braces
22 | \item{m}{A vector of the numbers of successes (proportions are eqn{y = m / n}).}
| ^
- checking Rd metadata ... OK
- checking Rd line widths ... OK
- checking Rd cross-references ... OK
- checking for missing documentation entries ... OK
- checking for code/documentation mismatches ... OK
- checking Rd \usage sections ... OK
- checking Rd contents ... OK
- checking for unstated dependencies in examples ... OK
- checking contents of ‘data’ directory ... OK
- checking data for non-ASCII characters ... OK
- checking LazyData ... OK
- checking data for ASCII and uncompressed saves ... OK
- checking examples ... [8s/11s] OK
- checking PDF version of manual ... [9s/13s] OK
- checking HTML version of manual ... OK
- checking for non-standard things in the check directory ... OK
- checking for detritus in the temp directory ... OK
- DONE
Status: 1 NOTE