- using R Under development (unstable) (2022-06-24 r82518)
- using platform: x86_64-pc-linux-gnu (64-bit)
- using session charset: UTF-8
- using option ‘--no-stop-on-test-error’
- checking for file ‘Rmpi/DESCRIPTION’ ... OK
- this is package ‘Rmpi’ version ‘0.6-9.2’
- checking package namespace information ... OK
- checking package dependencies ... OK
- checking if this is a source package ... OK
- checking if there is a namespace ... OK
- checking for executable files ... OK
- checking for hidden files and directories ... OK
- checking for portable file names ... OK
- checking for sufficient/correct file permissions ... OK
- checking whether package ‘Rmpi’ can be installed ... [9s/17s] OK
- checking installed package size ... OK
- checking package directory ... OK
- checking DESCRIPTION meta-information ... OK
- checking top-level files ... OK
- checking for left-over files ... OK
- checking index information ... OK
- checking package subdirectories ... OK
- checking R files for non-ASCII characters ... OK
- checking R files for syntax errors ... OK
- checking whether the package can be loaded ... OK
- checking whether the package can be loaded with stated dependencies ... OK
- checking whether the package can be unloaded cleanly ... OK
- checking whether the namespace can be loaded with stated dependencies ... OK
- checking whether the namespace can be unloaded cleanly ... OK
- checking loading without being on the library search path ... OK
- checking use of S3 registration ... OK
- checking dependencies in R code ... OK
- checking S3 generic/method consistency ... OK
- checking replacement functions ... OK
- checking foreign function calls ... OK
- checking R code for possible problems ... [13s/18s] OK
- checking Rd files ... NOTE
checkRd: (-1) internal.Rd:7: Escaped LaTeX specials: \_ \_
checkRd: (-1) mpi.abort.Rd:2: Escaped LaTeX specials: \_
checkRd: (-1) mpi.barrier.Rd:2: Escaped LaTeX specials: \_
checkRd: (-1) mpi.bcast.Rd:2: Escaped LaTeX specials: \_
checkRd: (-1) mpi.bcast.Robj.Rd:2: Escaped LaTeX specials: \_
checkRd: (-1) mpi.bcast.cmd.Rd:2: Escaped LaTeX specials: \_
checkRd: (-1) mpi.cart.coords.Rd:2: Escaped LaTeX specials: \_ \_
checkRd: (-1) mpi.cart.create.Rd:2: Escaped LaTeX specials: \_ \_
checkRd: (-1) mpi.cart.get.Rd:2: Escaped LaTeX specials: \_ \_
checkRd: (-1) mpi.cart.rank.Rd:2: Escaped LaTeX specials: \_ \_
checkRd: (-1) mpi.cart.shift.Rd:2: Escaped LaTeX specials: \_ \_
checkRd: (-1) mpi.cartdim.get.Rd:2: Escaped LaTeX specials: \_ \_
checkRd: (-1) mpi.comm.Rd:2: Escaped LaTeX specials: \_ \_ \_ \_ \_ \_ \_ \_
checkRd: (-1) mpi.comm.disconnect.Rd:2: Escaped LaTeX specials: \_ \_
checkRd: (-1) mpi.comm.disconnect.Rd:12: Escaped LaTeX specials: \_ \_
checkRd: (-1) mpi.comm.free.Rd:2: Escaped LaTeX specials: \_ \_
checkRd: (-1) mpi.comm.free.Rd:12: Escaped LaTeX specials: \_ \_
checkRd: (-1) mpi.comm.inter.Rd:2: Escaped LaTeX specials: \_ \_ \_ \_ \_ \_ \_ \_ \_
checkRd: (-1) mpi.comm.set.errhandler.Rd:2: Escaped LaTeX specials: \_ \_ \_
checkRd: (-1) mpi.comm.set.errhandler.Rd:11: Escaped LaTeX specials: \_ \_
checkRd: (-1) mpi.comm.set.errhandler.Rd:13: Escaped LaTeX specials: \_ \_ \_
checkRd: (-1) mpi.comm.set.errhandler.Rd:16: Escaped LaTeX specials: \_ \_
checkRd: (-1) mpi.comm.spawn.Rd:3: Escaped LaTeX specials: \_ \_
checkRd: (-1) mpi.comm.spawn.Rd:9: Escaped LaTeX specials: \_ \_
checkRd: (-1) mpi.const.Rd:7: Escaped LaTeX specials: \_ \_ \_ \_ \_ \_
checkRd: (-1) mpi.const.Rd:25: Escaped LaTeX specials: \_ \_ \_ \_ \_ \_
checkRd: (-1) mpi.dims.create.Rd:2: Escaped LaTeX specials: \_ \_
checkRd: (-1) mpi.finalize.Rd:3: Escaped LaTeX specials: \_
checkRd: (-1) mpi.gather.Rd:2: Escaped LaTeX specials: \_ \_ \_ \_
checkRd: (-1) mpi.gather.Robj.Rd:2: Escaped LaTeX specials: \_ \_
checkRd: (-1) mpi.get.count.Rd:2: Escaped LaTeX specials: \_ \_
checkRd: (-1) mpi.get.processor.name.Rd:2: Escaped LaTeX specials: \_ \_ \_
checkRd: (-1) mpi.info.Rd:6: Escaped LaTeX specials: \_ \_ \_ \_ \_ \_ \_ \_
checkRd: (-1) mpi.info.Rd:14: Escaped LaTeX specials: \_ \_
checkRd: (-1) mpi.intercomm.merge.Rd:2: Escaped LaTeX specials: \_ \_
checkRd: (-1) mpi.probe.Rd:2: Escaped LaTeX specials: \_ \_
checkRd: (-1) mpi.reduce.Rd:2: Escaped LaTeX specials: \_ \_
checkRd: (-1) mpi.scatter.Rd:2: Escaped LaTeX specials: \_ \_
checkRd: (-1) mpi.scatter.Robj.Rd:2: Escaped LaTeX specials: \_ \_
checkRd: (-1) mpi.send.Rd:2: Escaped LaTeX specials: \_ \_ \_ \_
checkRd: (-1) mpi.send.Robj.Rd:2: Escaped LaTeX specials: \_ \_
checkRd: (-1) mpi.sendrecv.Rd:2: Escaped LaTeX specials: \_ \_ \_
checkRd: (-1) mpi.universe.size.Rd:2: Escaped LaTeX specials: \_ \_
checkRd: (-1) mpi.wait.Rd:81: Escaped LaTeX specials: \_ \_
checkRd: (-1) mpi.wait.Rd:69: Escaped LaTeX specials: \$
checkRd: (-1) mpi.wait.Rd:71: Escaped LaTeX specials: \$
checkRd: (-1) mpi.wait.Rd:74: Escaped LaTeX specials: \$
checkRd: (-1) mpi.wait.Rd:75: Escaped LaTeX specials: \$
- checking Rd metadata ... OK
- checking Rd line widths ... OK
- checking Rd cross-references ... OK
- checking for missing documentation entries ... OK
- checking for code/documentation mismatches ... OK
- checking Rd \usage sections ... OK
- checking Rd contents ... OK
- checking for unstated dependencies in examples ... OK
- checking line endings in shell scripts ... OK
- checking line endings in C/C++/Fortran sources/headers ... OK
- checking line endings in Makefiles ... OK
- checking compilation flags in Makevars ... OK
- checking for GNU extensions in Makefiles ... OK
- checking for portable use of $(BLAS_LIBS) and $(LAPACK_LIBS) ... OK
- checking use of PKG_*FLAGS in Makefiles ... OK
- checking use of SHLIB_OPENMP_*FLAGS in Makefiles ... OK
- checking pragmas in C/C++ headers and code ... OK
- checking compilation flags used ... OK
- checking compiled code ... OK
- checking examples ... OK
- checking PDF version of manual ... OK
- checking for non-standard things in the check directory ... OK
- checking for detritus in the temp directory ... OK
- DONE
Status: 1 NOTE