- using R Under development (unstable) (2023-09-21 r85192)
- using platform: x86_64-pc-linux-gnu
- R was compiled by
clang version 17.0.1
flang-new version 17.0.1
- running under: Fedora Linux 36 (Workstation Edition)
- using session charset: UTF-8
- using option ‘--no-stop-on-test-error’
- checking for file ‘NHMSAR/DESCRIPTION’ ... OK
- checking extension type ... Package
- this is package ‘NHMSAR’ version ‘1.19’
- checking package namespace information ... OK
- checking package dependencies ... OK
- checking if this is a source package ... OK
- checking if there is a namespace ... OK
- checking for executable files ... OK
- checking for hidden files and directories ... OK
- checking for portable file names ... OK
- checking for sufficient/correct file permissions ... OK
- checking whether package ‘NHMSAR’ can be installed ... [17s/22s] OK
See the install log for details.
- checking installed package size ... OK
- checking package directory ... OK
- checking DESCRIPTION meta-information ... OK
- checking top-level files ... OK
- checking for left-over files ... OK
- checking index information ... OK
- checking package subdirectories ... OK
- checking R files for non-ASCII characters ... OK
- checking R files for syntax errors ... OK
- checking whether the package can be loaded ... OK
- checking whether the package can be loaded with stated dependencies ... OK
- checking whether the package can be unloaded cleanly ... OK
- checking whether the namespace can be loaded with stated dependencies ... OK
- checking whether the namespace can be unloaded cleanly ... OK
- checking loading without being on the library search path ... OK
- checking use of S3 registration ... OK
- checking dependencies in R code ... OK
- checking S3 generic/method consistency ... OK
- checking replacement functions ... OK
- checking foreign function calls ... OK
- checking R code for possible problems ... [48s/67s] OK
- checking Rd files ... OK
- checking Rd metadata ... NOTE
Invalid package aliases in Rd file 'NH-MSAR-package.Rd':
‘NH-MSAR-package’
- checking Rd line widths ... OK
- checking Rd cross-references ... OK
- checking for missing documentation entries ... OK
- checking for code/documentation mismatches ... OK
- checking Rd \usage sections ... OK
- checking Rd contents ... NOTE
Argument items with no description in Rd object 'ENu_graph':
‘N.s.data’
Argument items with no description in Rd object 'Estep.MSAR.VM':
‘verbose’
Auto-generated content requiring editing in Rd object 'NH-MSAR-package':
\details: ‘...the package, including the most important ~~ ~~ functions ~~’
Argument items with no description in Rd object 'init.theta.MSAR (NH-MSAR)':
‘\dots’
Argument items with no description in Rd object 'init.theta.MSAR.VM':
‘\dots’
- checking for unstated dependencies in examples ... OK
- checking contents of ‘data’ directory ... OK
- checking data for non-ASCII characters ... OK
- checking data for ASCII and uncompressed saves ... OK
- checking examples ... [34s/64s] OK
- checking PDF version of manual ... [10s/26s] OK
- checking HTML version of manual ... [4s/11s] OK
- checking for non-standard things in the check directory ... OK
- checking for detritus in the temp directory ... OK
- DONE
Status: 2 NOTEs