- using R Under development (unstable) (2023-11-24 r85626)
- using platform: x86_64-pc-linux-gnu
- R was compiled by
clang version 17.0.5
flang-new version 17.0.5
- running under: Fedora Linux 36 (Workstation Edition)
- using session charset: UTF-8
- using option ‘--no-stop-on-test-error’
- checking for file ‘Mqrcm/DESCRIPTION’ ... OK
- checking extension type ... Package
- this is package ‘Mqrcm’ version ‘1.2’
- checking package namespace information ... OK
- checking package dependencies ... OK
- checking if this is a source package ... OK
- checking if there is a namespace ... OK
- checking for executable files ... OK
- checking for hidden files and directories ... OK
- checking for portable file names ... OK
- checking for sufficient/correct file permissions ... OK
- checking whether package ‘Mqrcm’ can be installed ... [18s/27s] OK
See the install log for details.
- checking installed package size ... OK
- checking package directory ... OK
- checking DESCRIPTION meta-information ... OK
- checking top-level files ... OK
- checking for left-over files ... OK
- checking index information ... OK
- checking package subdirectories ... OK
- checking R files for non-ASCII characters ... OK
- checking R files for syntax errors ... OK
- checking whether the package can be loaded ... OK
- checking whether the package can be loaded with stated dependencies ... OK
- checking whether the package can be unloaded cleanly ... OK
- checking whether the namespace can be loaded with stated dependencies ... OK
- checking whether the namespace can be unloaded cleanly ... OK
- checking loading without being on the library search path ... OK
- checking use of S3 registration ... OK
- checking dependencies in R code ... OK
- checking S3 generic/method consistency ... OK
- checking replacement functions ... OK
- checking foreign function calls ... OK
- checking R code for possible problems ... [30s/42s] OK
- checking Rd files ... OK
- checking Rd metadata ... OK
- checking Rd line widths ... OK
- checking Rd cross-references ... OK
- checking for missing documentation entries ... OK
- checking for code/documentation mismatches ... OK
- checking Rd \usage sections ... NOTE
Objects in \usage without \alias in Rd file 'Mqrcm-internal.Rd':
‘check.in’ ‘check.out’ ‘start.theta’ ‘iMqr.internal’ ‘cov.theta’
‘iobjfun’ ‘sortH’ ‘isigma’ ‘iMqr.newton’ ‘num.fun’ ‘make.bfun’
‘apply_bfun’ ‘p.bisec’ ‘slp.basis’ ‘is.slp’ ‘iqr.waldtest’
‘extract.p’ ‘pred.beta’ ‘print.iMqr’ ‘print.summary.iMqr’
‘terms.iMqr’ ‘model.matrix.iMqr’ ‘vcov.iMqr’ ‘nobs.iMqr’
Functions with \usage entries need to have the appropriate \alias
entries, and all their arguments documented.
The \usage entries must correspond to syntactically valid R code.
See chapter ‘Writing R documentation files’ in the ‘Writing R
Extensions’ manual.
- checking Rd contents ... OK
- checking for unstated dependencies in examples ... OK
- checking examples ... OK
- checking PDF version of manual ... [7s/11s] OK
- checking HTML version of manual ... OK
- checking for non-standard things in the check directory ... OK
- checking for detritus in the temp directory ... OK
- DONE
Status: 1 NOTE