- using R Under development (unstable) (2022-06-24 r82518)
- using platform: x86_64-pc-linux-gnu (64-bit)
- using session charset: UTF-8
- using option ‘--no-stop-on-test-error’
- checking for file ‘ModelMap/DESCRIPTION’ ... OK
- checking extension type ... Package
- this is package ‘ModelMap’ version ‘3.4.0.1’
- checking package namespace information ... OK
- checking package dependencies ... OK
- checking if this is a source package ... OK
- checking if there is a namespace ... OK
- checking for executable files ... OK
- checking for hidden files and directories ... OK
- checking for portable file names ... OK
- checking for sufficient/correct file permissions ... OK
- checking whether package ‘ModelMap’ can be installed ... [61s/77s] OK
- checking installed package size ... OK
- checking package directory ... OK
- checking ‘build’ directory ... OK
- checking DESCRIPTION meta-information ... OK
- checking top-level files ... OK
- checking for left-over files ... OK
- checking index information ... OK
- checking package subdirectories ... OK
- checking R files for non-ASCII characters ... OK
- checking R files for syntax errors ... OK
- checking whether the package can be loaded ... OK
- checking whether the package can be loaded with stated dependencies ... OK
- checking whether the package can be unloaded cleanly ... OK
- checking whether the namespace can be loaded with stated dependencies ... OK
- checking whether the namespace can be unloaded cleanly ... OK
- checking loading without being on the library search path ... OK
- checking use of S3 registration ... OK
- checking dependencies in R code ... OK
- checking S3 generic/method consistency ... OK
- checking replacement functions ... OK
- checking foreign function calls ... OK
- checking R code for possible problems ... [94s/119s] OK
- checking Rd files ... OK
- checking Rd metadata ... OK
- checking Rd line widths ... OK
- checking Rd cross-references ... OK
- checking for missing documentation entries ... OK
- checking for code/documentation mismatches ... OK
- checking Rd \usage sections ... OK
- checking Rd contents ... OK
- checking for unstated dependencies in examples ... OK
- checking sizes of PDF files under ‘inst/doc’ ... OK
- checking installed files from ‘inst/doc’ ... OK
- checking files in ‘vignettes’ ... OK
- checking examples ... [38s/47s] OK
- checking for unstated dependencies in vignettes ... OK
- checking package vignettes in ‘inst/doc’ ... OK
- checking re-building of vignette outputs ... [435s/538s] OK
- checking PDF version of manual ... OK
- checking for non-standard things in the check directory ... NOTE
Found the following files/directories:
‘BIO_TCandNLCD_NLCD.jpg’ ‘BIO_TCandNLCD_TCB.jpg’
‘BIO_TCandNLCD_TCG.jpg’ ‘BIO_TCandNLCD_TCW.jpg’
‘BIO_TCandNLCD_corrplot.jpg’ ‘BIO_TCandNLCD_mask_all_predictors.jpg’
‘BIO_TCandNLCD_projections.txt’ ‘RF_BIO_TCandNLCD_01.img’
‘RF_BIO_TCandNLCD_01.img.aux.xml’
‘RF_BIO_TCandNLCD_01_mapmake_arguments.txt’
‘RF_BIO_TCandNLCD_01_projections.txt’ ‘RF_BIO_TCandNLCD_OOB.csv’
‘RF_BIO_TCandNLCD_OOB_corrplot.jpg’
‘RF_BIO_TCandNLCD_OOB_corrplot.pdf’ ‘RF_BIO_TCandNLCD_OOB_error.jpg’
‘RF_BIO_TCandNLCD_OOB_error.pdf’
‘RF_BIO_TCandNLCD_OOB_importance.jpg’
‘RF_BIO_TCandNLCD_OOB_importance.pdf’
‘RF_BIO_TCandNLCD_OOB_scatterplot.jpg’
‘RF_BIO_TCandNLCD_OOB_scatterplot.pdf’
‘RF_BIO_TCandNLCD_model_building_arguments.txt’
‘RF_Bio_TC_model_building_arguments.txt’ ‘example.test.csv’
‘example.train.csv’
- checking for detritus in the temp directory ... OK
- DONE
Status: 1 NOTE