- using R Under development (unstable) (2025-11-03 r88978)
- using platform: x86_64-pc-linux-gnu
- R was compiled by
clang version 21.1.4
flang version 21.1.4
- running under: Fedora Linux 42 (Workstation Edition)
- using session charset: UTF-8
- using option ‘--no-stop-on-test-error’
- checking for file ‘MixStable/DESCRIPTION’ ... OK
- checking extension type ... Package
- this is package ‘MixStable’ version ‘0.1.0’
- package encoding: UTF-8
- checking package namespace information ... OK
- checking package dependencies ... OK
- checking if this is a source package ... OK
- checking if there is a namespace ... OK
- checking for executable files ... OK
- checking for hidden files and directories ... OK
- checking for portable file names ... OK
- checking for sufficient/correct file permissions ... OK
- checking whether package ‘MixStable’ can be installed ... [34s/84s] OK
See the install log for details.
- checking installed package size ... OK
- checking package directory ... OK
- checking DESCRIPTION meta-information ... OK
- checking top-level files ... OK
- checking for left-over files ... OK
- checking index information ... OK
- checking package subdirectories ... OK
- checking code files for non-ASCII characters ... OK
- checking R files for syntax errors ... OK
- checking whether the package can be loaded ... [7s/14s] OK
- checking whether the package can be loaded with stated dependencies ... [7s/10s] OK
- checking whether the package can be unloaded cleanly ... [6s/10s] OK
- checking whether the namespace can be loaded with stated dependencies ... [7s/10s] OK
- checking whether the namespace can be unloaded cleanly ... OK
- checking loading without being on the library search path ... OK
- checking use of S3 registration ... OK
- checking dependencies in R code ... OK
- checking S3 generic/method consistency ... OK
- checking replacement functions ... OK
- checking foreign function calls ... OK
- checking R code for possible problems ... [50s/53s] OK
- checking Rd files ... OK
- checking Rd metadata ... OK
- checking Rd line widths ... OK
- checking Rd cross-references ... OK
- checking for missing documentation entries ... OK
- checking for code/documentation mismatches ... OK
- checking Rd \usage sections ... OK
- checking Rd contents ... OK
- checking for unstated dependencies in examples ... OK
- checking contents of ‘data’ directory ... OK
- checking data for non-ASCII characters ... OK
- checking data for ASCII and uncompressed saves ... OK
- checking examples ... NONE
- checking for unstated dependencies in ‘tests’ ... OK
- checking tests ... [11m/11m] OK
Running ‘test_ecf.R’ [33s/34s]
Running ‘test_ecf_2.R’
Running ‘test_em.R’ [16s/17s]
Running ‘test_em_2.R’
Running ‘test_em_3.R’ [14s/14s]
Running ‘test_function.R’ [26s/27s]
Running ‘test_gibbs.R’ [194s/196s]
Running ‘test_helper.R’
Running ‘test_helper_2.R’ [53s/54s]
Running ‘test_helper_3.R’
Running ‘test_integrals.R’
Running ‘test_mcculloch_2.R’
Running ‘test_mle.R’ [285s/288s]
Running ‘test_normalization.R’
- checking PDF version of manual ... [11s/12s] OK
- checking HTML version of manual ... OK
- checking for non-standard things in the check directory ... OK
- checking for detritus in the temp directory ... OK
- DONE
Status: OK