- using R Under development (unstable) (2025-10-28 r88973)
 
- using platform: x86_64-pc-linux-gnu
 
- R was compiled by
    clang version 21.1.4
    flang version 21.1.4
 
- running under: Fedora Linux 42 (Workstation Edition)
 
- using session charset: UTF-8
 
- using option ‘--no-stop-on-test-error’
 
- checking for file ‘Matrix/DESCRIPTION’ ... OK
 
- this is package ‘Matrix’ version ‘1.7-4’
 
- package encoding: UTF-8
 
- checking package namespace information ... OK
 
- checking package dependencies ... OK
 
- checking if this is a source package ... OK
 
- checking if there is a namespace ... OK
 
- checking for executable files ... OK
 
- checking for hidden files and directories ... OK
 
- checking for portable file names ... OK
 
- checking for sufficient/correct file permissions ... OK
 
- checking whether package ‘Matrix’ can be installed ... [9m/32m] OK
See the install log for details.
 
- used C compiler: ‘clang version 21.1.4’
 
- checking installed package size ... OK
 
- checking package directory ... OK
 
- checking ‘build’ directory ... OK
 
- checking DESCRIPTION meta-information ... OK
 
- checking top-level files ... OK
 
- checking for left-over files ... OK
 
- checking index information ... OK
 
- checking package subdirectories ... OK
 
- checking code files for non-ASCII characters ... OK
 
- checking R files for syntax errors ... OK
 
- checking whether the package can be loaded ... OK
 
- checking whether the package can be loaded with stated dependencies ... [3s/12s] OK
 
- checking whether the package can be unloaded cleanly ... [3s/11s] OK
 
- checking whether the namespace can be loaded with stated dependencies ... [3s/14s] OK
 
- checking whether the namespace can be unloaded cleanly ... [4s/13s] OK
 
- checking whether startup messages can be suppressed ... OK
 
- checking use of S3 registration ... OK
 
- checking dependencies in R code ... OK
 
- checking S3 generic/method consistency ... OK
 
- checking replacement functions ... OK
 
- checking foreign function calls ... OK
 
- checking R code for possible problems ... [134s/453s] OK
 
- checking Rd files ... [6s/12s] OK
 
- checking Rd metadata ... OK
 
- checking Rd line widths ... OK
 
- checking Rd cross-references ... OK
 
- checking for missing documentation entries ... OK
 
- checking for code/documentation mismatches ... OK
 
- checking Rd \usage sections ... OK
 
- checking Rd contents ... OK
 
- checking for unstated dependencies in examples ... OK
 
- checking contents of ‘data’ directory ... OK
 
- checking data for non-ASCII characters ... [3s/12s] OK
 
- checking data for ASCII and uncompressed saves ... OK
 
- checking line endings in shell scripts ... OK
 
- checking line endings in C/C++/Fortran sources/headers ... OK
 
- checking line endings in Makefiles ... OK
 
- checking compilation flags in Makevars ... OK
 
- checking for GNU extensions in Makefiles ... OK
 
- checking for portable use of $(BLAS_LIBS) and $(LAPACK_LIBS) ... OK
 
- checking use of PKG_*FLAGS in Makefiles ... OK
 
- checking use of SHLIB_OPENMP_*FLAGS in Makefiles ... OK
 
- checking include directives in Makefiles ... OK
 
- checking pragmas in C/C++ headers and code ... OK
 
- checking compilation flags used ... OK
 
- checking compiled code ... OK
 
- checking sizes of PDF files under ‘inst/doc’ ... OK
 
- checking installed files from ‘inst/doc’ ... OK
 
- checking files in ‘vignettes’ ... OK
 
- checking examples ... [29s/131s] OK
 
- checking for unstated dependencies in ‘tests’ ... OK
 
- checking tests ... [2m/10m] OK
  Running ‘Class+Meth.R’ [4s/14s]
  Running ‘Simple.R’ [19s/71s]
  Running ‘abIndex-tsts.R’ [6s/27s]
  Running ‘base-matrix-fun.R’ [3s/21s]
  Running ‘bind.R’ [4s/13s]
  Comparing ‘bind.Rout’ to ‘bind.Rout.save’ ... OK
  Running ‘dg_Matrix.R’ [4s/14s]
  Running ‘dpo-test.R’ [8s/26s]
  Running ‘dtpMatrix.R’ [4s/15s]
  Running ‘factorizing.R’ [19s/105s]
  Running ‘group-methods.R’ [7s/24s]
  Running ‘indexing.R’ [18s/101s]
  Comparing ‘indexing.Rout’ to ‘indexing.Rout.save’ ... OK
  Running ‘matprod.R’ [18s/45s]
  Running ‘matr-exp.R’ [4s/17s]
  Running ‘other-pkgs.R’ [3s/23s]
  Running ‘packed-unpacked.R’ [5s/11s]
  Running ‘spModel.matrix.R’ [5s/12s]
  Running ‘symmDN.R’ [4s/25s]
  Running ‘validObj.R’ [8s/44s]
  Running ‘write-read.R’ [4s/19s]
 
- checking for unstated dependencies in vignettes ... OK
 
- checking package vignettes ... OK
 
- checking re-building of vignette outputs ... [59s/268s] OK
 
- checking PDF version of manual ... [32s/134s] OK
 
- checking HTML version of manual ... [21s/80s] OK
 
- checking for non-standard things in the check directory ... OK
 
- checking for detritus in the temp directory ... OK
 
- DONE
 
Status: OK