- using R Under development (unstable) (2025-10-22 r88968)
- using platform: x86_64-pc-linux-gnu
- R was compiled by
clang version 21.1.4
flang version 21.1.4
- running under: Fedora Linux 42 (Workstation Edition)
- using session charset: UTF-8
- using option ‘--no-stop-on-test-error’
- checking for file ‘DescTools/DESCRIPTION’ ... OK
- checking extension type ... Package
- this is package ‘DescTools’ version ‘0.99.60’
- package encoding: UTF-8
- checking package namespace information ... OK
- checking package dependencies ... INFO
Package suggested but not available for checking: ‘RDCOMClient’
- checking if this is a source package ... OK
- checking if there is a namespace ... OK
- checking for executable files ... OK
- checking for hidden files and directories ... OK
- checking for portable file names ... OK
- checking for sufficient/correct file permissions ... OK
- checking whether package ‘DescTools’ can be installed ... [166s/238s] OK
See the install log for details.
- used C compiler: ‘clang version 21.1.4’
- used Fortran compiler: ‘flang version 21.1.4’
- used C++ compiler: ‘clang version 21.1.4’
- checking C++ specification ... OK
- checking installed package size ... INFO
installed size is 6.2Mb
sub-directories of 1Mb or more:
R 1.7Mb
doc 1.8Mb
help 1.7Mb
- checking package directory ... OK
- checking ‘build’ directory ... OK
- checking DESCRIPTION meta-information ... OK
- checking top-level files ... OK
- checking for left-over files ... OK
- checking index information ... OK
- checking package subdirectories ... OK
- checking code files for non-ASCII characters ... OK
- checking R files for syntax errors ... OK
- checking whether the package can be loaded ... OK
- checking whether the package can be loaded with stated dependencies ... OK
- checking whether the package can be unloaded cleanly ... OK
- checking whether the namespace can be loaded with stated dependencies ... OK
- checking whether the namespace can be unloaded cleanly ... OK
- checking loading without being on the library search path ... OK
- checking whether startup messages can be suppressed ... OK
- checking use of S3 registration ... OK
- checking dependencies in R code ... OK
- checking S3 generic/method consistency ... OK
- checking replacement functions ... OK
- checking foreign function calls ... OK
- checking R code for possible problems ... [199s/263s] OK
- checking Rd files ... NOTE
checkRd: (-1) ConvUnit.Rd:46-108: Only 3 columns allowed in this table (row 1 has 1)
checkRd: (-1) ConvUnit.Rd:46-108: Only 3 columns allowed in this table (row 2 has 1)
checkRd: (-1) ConvUnit.Rd:46-108: Only 3 columns allowed in this table (row 5 has 2)
checkRd: (-1) ConvUnit.Rd:46-108: Only 3 columns allowed in this table (row 6 has 2)
checkRd: (-1) ConvUnit.Rd:46-108: Only 3 columns allowed in this table (row 7 has 2)
checkRd: (-1) ConvUnit.Rd:46-108: Only 3 columns allowed in this table (row 8 has 1)
checkRd: (-1) ConvUnit.Rd:46-108: Only 3 columns allowed in this table (row 9 has 2)
checkRd: (-1) ConvUnit.Rd:46-108: Only 3 columns allowed in this table (row 11 has 2)
checkRd: (-1) ConvUnit.Rd:46-108: Only 3 columns allowed in this table (row 12 has 2)
checkRd: (-1) ConvUnit.Rd:46-108: Only 3 columns allowed in this table (row 13 has 2)
checkRd: (-1) ConvUnit.Rd:46-108: Only 3 columns allowed in this table (row 14 has 2)
checkRd: (-1) ConvUnit.Rd:46-108: Only 3 columns allowed in this table (row 15 has 2)
checkRd: (-1) ConvUnit.Rd:46-108: Only 3 columns allowed in this table (row 18 has 2)
checkRd: (-1) ConvUnit.Rd:46-108: Only 3 columns allowed in this table (row 19 has 1)
checkRd: (-1) ConvUnit.Rd:46-108: Only 3 columns allowed in this table (row 20 has 2)
checkRd: (-1) ConvUnit.Rd:46-108: Only 3 columns allowed in this table (row 21 has 2)
checkRd: (-1) ConvUnit.Rd:46-108: Only 3 columns allowed in this table (row 22 has 2)
checkRd: (-1) ConvUnit.Rd:46-108: Only 3 columns allowed in this table (row 23 has 2)
checkRd: (-1) ConvUnit.Rd:46-108: Only 3 columns allowed in this table (row 24 has 2)
checkRd: (-1) ConvUnit.Rd:46-108: Only 3 columns allowed in this table (row 25 has 2)
checkRd: (-1) ConvUnit.Rd:46-108: Only 3 columns allowed in this table (row 26 has 1)
checkRd: (-1) ConvUnit.Rd:46-108: Only 3 columns allowed in this table (row 27 has 2)
checkRd: (-1) ConvUnit.Rd:46-108: Only 3 columns allowed in this table (row 28 has 2)
checkRd: (-1) ConvUnit.Rd:46-108: Only 3 columns allowed in this table (row 29 has 2)
checkRd: (-1) ConvUnit.Rd:46-108: Only 3 columns allowed in this table (row 30 has 2)
checkRd: (-1) ConvUnit.Rd:46-108: Only 3 columns allowed in this table (row 31 has 2)
checkRd: (-1) ConvUnit.Rd:46-108: Only 3 columns allowed in this table (row 32 has 2)
checkRd: (-1) ConvUnit.Rd:46-108: Only 3 columns allowed in this table (row 33 has 2)
checkRd: (-1) ConvUnit.Rd:46-108: Only 3 columns allowed in this table (row 34 has 1)
checkRd: (-1) ConvUnit.Rd:46-108: Only 3 columns allowed in this table (row 35 has 2)
checkRd: (-1) ConvUnit.Rd:46-108: Only 3 columns allowed in this table (row 39 has 2)
checkRd: (-1) ConvUnit.Rd:46-108: Only 3 columns allowed in this table (row 40 has 1)
checkRd: (-1) ConvUnit.Rd:46-108: Only 3 columns allowed in this table (row 41 has 2)
checkRd: (-1) ConvUnit.Rd:46-108: Only 3 columns allowed in this table (row 42 has 2)
checkRd: (-1) ConvUnit.Rd:46-108: Only 3 columns allowed in this table (row 43 has 2)
checkRd: (-1) ConvUnit.Rd:46-108: Only 3 columns allowed in this table (row 45 has 2)
checkRd: (-1) ConvUnit.Rd:46-108: Only 3 columns allowed in this table (row 46 has 1)
checkRd: (-1) ConvUnit.Rd:46-108: Only 3 columns allowed in this table (row 47 has 2)
checkRd: (-1) ConvUnit.Rd:46-108: Only 3 columns allowed in this table (row 48 has 2)
checkRd: (-1) ConvUnit.Rd:46-108: Only 3 columns allowed in this table (row 49 has 2)
checkRd: (-1) ConvUnit.Rd:46-108: Only 3 columns allowed in this table (row 51 has 1)
checkRd: (-1) ConvUnit.Rd:46-108: Only 3 columns allowed in this table (row 52 has 2)
checkRd: (-1) ConvUnit.Rd:46-108: Only 3 columns allowed in this table (row 53 has 2)
checkRd: (-1) ConvUnit.Rd:46-108: Only 3 columns allowed in this table (row 54 has 2)
checkRd: (-1) DescTools-package.Rd:23-444: Only 2 columns allowed in this table (row 1 has 1)
checkRd: (-1) DescTools-package.Rd:23-444: Only 2 columns allowed in this table (row 2 has 1)
checkRd: (-1) DescTools-package.Rd:23-444: Only 2 columns allowed in this table (row 51 has 1)
checkRd: (-1) DescTools-package.Rd:23-444: Only 2 columns allowed in this table (row 52 has 1)
checkRd: (-1) DescTools-package.Rd:23-444: Only 2 columns allowed in this table (row 90 has 1)
checkRd: (-1) DescTools-package.Rd:23-444: Only 2 columns allowed in this table (row 91 has 1)
checkRd: (-1) DescTools-package.Rd:23-444: Only 2 columns allowed in this table (row 110 has 1)
checkRd: (-1) DescTools-package.Rd:23-444: Only 2 columns allowed in this table (row 111 has 1)
checkRd: (-1) DescTools-package.Rd:23-444: Only 2 columns allowed in this table (row 128 has 1)
checkRd: (-1) DescTools-package.Rd:23-444: Only 2 columns allowed in this table (row 129 has 1)
checkRd: (-1) DescTools-package.Rd:23-444: Only 2 columns allowed in this table (row 137 has 1)
checkRd: (-1) DescTools-package.Rd:23-444: Only 2 columns allowed in this table (row 138 has 1)
checkRd: (-1) DescTools-package.Rd:23-444: Only 2 columns allowed in this table (row 167 has 1)
checkRd: (-1) DescTools-package.Rd:23-444: Only 2 columns allowed in this table (row 168 has 1)
checkRd: (-1) DescTools-package.Rd:23-444: Only 2 columns allowed in this table (row 201 has 1)
checkRd: (-1) DescTools-package.Rd:23-444: Only 2 columns allowed in this table (row 202 has 1)
checkRd: (-1) DescTools-package.Rd:23-444: Only 2 columns allowed in this table (row 216 has 1)
checkRd: (-1) DescTools-package.Rd:23-444: Only 2 columns allowed in this table (row 217 has 1)
checkRd: (-1) DescTools-package.Rd:23-444: Only 2 columns allowed in this table (row 298 has 1)
checkRd: (-1) DescTools-package.Rd:23-444: Only 2 columns allowed in this table (row 299 has 1)
checkRd: (-1) DescTools-package.Rd:23-444: Only 2 columns allowed in this table (row 340 has 1)
checkRd: (-1) DescTools-package.Rd:23-444: Only 2 columns allowed in this table (row 341 has 1)
checkRd: (-1) DescTools-package.Rd:23-444: Only 2 columns allowed in this table (row 361 has 1)
checkRd: (-1) DescTools-package.Rd:23-444: Only 2 columns allowed in this table (row 362 has 1)
checkRd: (-1) DescTools-package.Rd:23-444: Only 2 columns allowed in this table (row 370 has 1)
checkRd: (-1) DescTools-package.Rd:23-444: Only 2 columns allowed in this table (row 371 has 1)
checkRd: (-1) DescTools-package.Rd:23-444: Only 2 columns allowed in this table (row 374 has 1)
checkRd: (-1) DescTools-package.Rd:23-444: Only 2 columns allowed in this table (row 375 has 1)
checkRd: (-1) DescTools-package.Rd:23-444: Only 2 columns allowed in this table (row 411 has 1)
checkRd: (-1) DescTools-package.Rd:23-444: Only 2 columns allowed in this table (row 412 has 1)
checkRd: (-1) DescTools-package.Rd:23-444: Only 2 columns allowed in this table (row 424 has 1)
checkRd: (-1) DescTools-package.Rd:23-444: Only 2 columns allowed in this table (row 425 has 1)
checkRd: (-1) DescTools-package.Rd:23-444: Only 2 columns allowed in this table (row 429 has 1)
checkRd: (-1) DescTools-package.Rd:23-444: Only 2 columns allowed in this table (row 430 has 1)
checkRd: (-1) Format.Rd:98-112: Only 2 columns allowed in this table (row 13 has 1)
checkRd: (-1) Format.Rd:118-144: Only 3 columns allowed in this table (row 4 has 2)
checkRd: (-1) Format.Rd:118-144: Only 3 columns allowed in this table (row 9 has 2)
checkRd: (-1) Format.Rd:118-144: Only 3 columns allowed in this table (row 12 has 2)
checkRd: (-1) Format.Rd:118-144: Only 3 columns allowed in this table (row 15 has 2)
- checking Rd metadata ... OK
- checking Rd line widths ... OK
- checking Rd cross-references ... INFO
Undeclared packages ‘ineq’, ‘randtests’, ‘Hmisc’, ‘plotrix’, ‘caret’, ‘pcaPP’, ‘polycor’, ‘lmtest’, ‘car’, ‘gmp’, ‘vcdExtra’, ‘chron’, ‘coin’, ‘caTools’, ‘forecast’, ‘sfsmisc’, ‘vcd’, ‘areaplot’, ‘corrgram’, ‘UsingR’, ‘memisc’, ‘gtools’, ‘BSDA’, ‘prettyR’, ‘robustHD’ in Rd xrefs
- checking for missing documentation entries ... OK
- checking for code/documentation mismatches ... OK
- checking Rd \usage sections ... OK
- checking Rd contents ... OK
- checking for unstated dependencies in examples ... OK
- checking contents of ‘data’ directory ... OK
- checking data for non-ASCII characters ... OK
- checking LazyData ... OK
- checking data for ASCII and uncompressed saves ... OK
- checking line endings in C/C++/Fortran sources/headers ... OK
- checking pragmas in C/C++ headers and code ... OK
- checking compilation flags used ... OK
- checking compiled code ... OK
- checking usage of KIND in Fortran files ... OK
- checking sizes of PDF files under ‘inst/doc’ ... OK
- checking installed files from ‘inst/doc’ ... OK
- checking files in ‘vignettes’ ... OK
- checking examples ... [72s/111s] OK
- checking for unstated dependencies in ‘tests’ ... OK
- checking tests ... OK
Running ‘TestsPseudoR2.R’
Running ‘misc.R’
- checking for unstated dependencies in vignettes ... OK
- checking package vignettes ... OK
- checking re-building of vignette outputs ... OK
- checking PDF version of manual ... [62s/84s] OK
- checking HTML version of manual ... [40s/65s] OK
- checking for non-standard things in the check directory ... OK
- checking for detritus in the temp directory ... OK
- DONE
Status: 1 NOTE