- using R Under development (unstable) (2023-09-09 r85116)
- using platform: x86_64-pc-linux-gnu
- R was compiled by
clang version 16.0.6
GNU Fortran (GCC) 13.2.0
- running under: Fedora Linux 36 (Workstation Edition)
- using session charset: UTF-8
- using option ‘--no-stop-on-test-error’
- checking for file ‘DOBAD/DESCRIPTION’ ... OK
- checking extension type ... Package
- this is package ‘DOBAD’ version ‘1.0.6’
- checking package namespace information ... OK
- checking package dependencies ... OK
- checking if this is a source package ... OK
- checking if there is a namespace ... OK
- checking for executable files ... OK
- checking for hidden files and directories ... OK
- checking for portable file names ... OK
- checking for sufficient/correct file permissions ... OK
- checking whether package ‘DOBAD’ can be installed ... [18s/26s] OK
See the install log for details.
- checking installed package size ... OK
- checking package directory ... OK
- checking ‘build’ directory ... OK
- checking DESCRIPTION meta-information ... OK
- checking top-level files ... OK
- checking for left-over files ... OK
- checking index information ... OK
- checking package subdirectories ... OK
- checking R files for non-ASCII characters ... OK
- checking R files for syntax errors ... OK
- checking whether the package can be loaded ... OK
- checking whether the package can be loaded with stated dependencies ... OK
- checking whether the package can be unloaded cleanly ... OK
- checking whether the namespace can be loaded with stated dependencies ... OK
- checking whether the namespace can be unloaded cleanly ... OK
- checking loading without being on the library search path ... OK
- checking use of S3 registration ... OK
- checking dependencies in R code ... OK
- checking S3 generic/method consistency ... OK
- checking replacement functions ... OK
- checking foreign function calls ... OK
- checking R code for possible problems ... [36s/54s] OK
- checking Rd files ... OK
- checking Rd metadata ... OK
- checking Rd line widths ... OK
- checking Rd cross-references ... OK
- checking for missing documentation entries ... OK
- checking for code/documentation mismatches ... OK
- checking Rd \usage sections ... NOTE
S3 methods shown with full name in documentation object 'add.joint.mean.many':
‘all.cond.mean.PO’ ‘all.cond.mean2.PO’
The \usage entries for S3 methods should use the \method markup and not
their full name.
See chapter ‘Writing R documentation files’ in the ‘Writing R
Extensions’ manual.
- checking Rd contents ... NOTE
Argument items with no description in Rd object 'derivType':
‘L’ ‘mu’ ‘eps’
Argument items with no description in Rd object 'getNewParams.SC':
‘n.fft’
Argument items with no description in Rd object 'graph.CTMC':
‘\dots’
Argument items with no description in Rd object 'num.deriv':
‘\dots’
Argument items with no description in Rd object 'power.coef.one':
‘\dots’
- checking for unstated dependencies in examples ... OK
- checking sizes of PDF files under ‘inst/doc’ ... OK
- checking installed files from ‘inst/doc’ ... OK
- checking files in ‘vignettes’ ... OK
- checking examples ... OK
- checking for unstated dependencies in vignettes ... OK
- checking package vignettes in ‘inst/doc’ ... OK
- checking re-building of vignette outputs ... [179s/244s] OK
- checking PDF version of manual ... [9s/14s] OK
- checking HTML version of manual ... OK
- checking for non-standard things in the check directory ... OK
- checking for detritus in the temp directory ... OK
- DONE
Status: 2 NOTEs