- using R Under development (unstable) (2019-11-29 r77486)
- using platform: x86_64-pc-linux-gnu (64-bit)
- using session charset: UTF-8
- using option ‘--no-stop-on-test-error’
- checking for file ‘ACCLMA/DESCRIPTION’ ... OK
- checking extension type ... Package
- this is package ‘ACCLMA’ version ‘1.0’
- checking package namespace information ... OK
- checking package dependencies ... OK
- checking if this is a source package ... OK
- checking if there is a namespace ... OK
- checking for executable files ... OK
- checking for hidden files and directories ... OK
- checking for portable file names ... OK
- checking for sufficient/correct file permissions ... OK
- checking whether package ‘ACCLMA’ can be installed ... OK
- checking installed package size ... OK
- checking package directory ... OK
- checking DESCRIPTION meta-information ... NOTE
Malformed Description field: should contain one or more complete sentences.
- checking top-level files ... OK
- checking for left-over files ... OK
- checking index information ... OK
- checking package subdirectories ... OK
- checking R files for non-ASCII characters ... OK
- checking R files for syntax errors ... OK
- checking whether the package can be loaded ... OK
- checking whether the package can be loaded with stated dependencies ... OK
- checking whether the package can be unloaded cleanly ... OK
- checking whether the namespace can be loaded with stated dependencies ... OK
- checking whether the namespace can be unloaded cleanly ... OK
- checking loading without being on the library search path ... OK
- checking use of S3 registration ... OK
- checking dependencies in R code ... OK
- checking S3 generic/method consistency ... OK
- checking replacement functions ... OK
- checking foreign function calls ... OK
- checking R code for possible problems ... NOTE
fillCSVData: no visible global function definition for ‘read.table’
fillData: no visible global function definition for ‘edit’
plotGraphs: no visible global function definition for ‘par’
plotGraphs: no visible global function definition for ‘plot’
plotGraphs: no visible global function definition for ‘lines’
plotGraphs: no visible global function definition for ‘legend’
plotGraphs: no visible global function definition for ‘dev.new’
Undefined global functions or variables:
dev.new edit legend lines par plot read.table
Consider adding
importFrom("grDevices", "dev.new")
importFrom("graphics", "legend", "lines", "par", "plot")
importFrom("utils", "edit", "read.table")
to your NAMESPACE file.
- checking Rd files ... NOTE
prepare_Rd: ACCLMA-package.Rd:33-34: Dropping empty section \seealso
prepare_Rd: averageSameXs.Rd:16-18: Dropping empty section \details
prepare_Rd: averageSameXs.Rd:24-26: Dropping empty section \note
prepare_Rd: averageSameXs.Rd:20-22: Dropping empty section \references
prepare_Rd: averageSameXs.Rd:30-32: Dropping empty section \seealso
prepare_Rd: calcFX.Rd:14-16: Dropping empty section \details
prepare_Rd: calcFX.Rd:22-24: Dropping empty section \note
prepare_Rd: calcFX.Rd:18-20: Dropping empty section \references
prepare_Rd: calcFX.Rd:28-30: Dropping empty section \seealso
prepare_Rd: calcFY.Rd:17-19: Dropping empty section \details
prepare_Rd: calcFY.Rd:25-27: Dropping empty section \note
prepare_Rd: calcFY.Rd:21-23: Dropping empty section \references
prepare_Rd: calcFY.Rd:31-33: Dropping empty section \seealso
prepare_Rd: calcLMA.Rd:17-19: Dropping empty section \details
prepare_Rd: calcLMA.Rd:25-27: Dropping empty section \note
prepare_Rd: calcLMA.Rd:21-23: Dropping empty section \references
prepare_Rd: calcLMA.Rd:31-33: Dropping empty section \seealso
prepare_Rd: calcLOI.Rd:16-18: Dropping empty section \details
prepare_Rd: calcLOI.Rd:24-26: Dropping empty section \note
prepare_Rd: calcLOI.Rd:20-22: Dropping empty section \references
prepare_Rd: calcLOI.Rd:30-32: Dropping empty section \seealso
prepare_Rd: calcWeights.Rd:16-18: Dropping empty section \details
prepare_Rd: calcWeights.Rd:24-26: Dropping empty section \note
prepare_Rd: calcWeights.Rd:20-22: Dropping empty section \references
prepare_Rd: calcWeights.Rd:30-32: Dropping empty section \seealso
prepare_Rd: fillCSVData.Rd:19-21: Dropping empty section \details
prepare_Rd: fillCSVData.Rd:27-29: Dropping empty section \note
prepare_Rd: fillCSVData.Rd:23-25: Dropping empty section \references
prepare_Rd: fillCSVData.Rd:33-35: Dropping empty section \seealso
prepare_Rd: fillData.Rd:12-14: Dropping empty section \details
prepare_Rd: fillData.Rd:20-22: Dropping empty section \note
prepare_Rd: fillData.Rd:16-18: Dropping empty section \references
prepare_Rd: fillData.Rd:26-28: Dropping empty section \seealso
prepare_Rd: plotGraphs.Rd:17-19: Dropping empty section \details
prepare_Rd: plotGraphs.Rd:25-27: Dropping empty section \note
prepare_Rd: plotGraphs.Rd:21-23: Dropping empty section \references
prepare_Rd: plotGraphs.Rd:31-33: Dropping empty section \seealso
prepare_Rd: plotLMA.Rd:17-19: Dropping empty section \details
prepare_Rd: plotLMA.Rd:25-27: Dropping empty section \note
prepare_Rd: plotLMA.Rd:21-23: Dropping empty section \references
prepare_Rd: plotLMA.Rd:31-33: Dropping empty section \seealso
prepare_Rd: size.Rd:15-17: Dropping empty section \details
prepare_Rd: size.Rd:23-25: Dropping empty section \note
prepare_Rd: size.Rd:19-21: Dropping empty section \references
prepare_Rd: size.Rd:29-31: Dropping empty section \seealso
- checking Rd metadata ... OK
- checking Rd line widths ... OK
- checking Rd cross-references ... OK
- checking for missing documentation entries ... OK
- checking for code/documentation mismatches ... OK
- checking Rd \usage sections ... OK
- checking Rd contents ... OK
- checking for unstated dependencies in examples ... OK
- checking examples ... OK
- checking PDF version of manual ... OK
- checking for non-standard things in the check directory ... OK
- checking for detritus in the temp directory ... OK
- DONE
Status: 3 NOTEs