- using R Under development (unstable) (2025-10-19 r88945)
- using platform: x86_64-pc-linux-gnu
- R was compiled by
gcc-15 (Debian 15.2.0-4) 15.2.0
GNU Fortran (Debian 15.2.0-4) 15.2.0
- running under: Debian GNU/Linux forky/sid
- using session charset: UTF-8
- checking for file ‘xtdml/DESCRIPTION’ ... OK
- checking extension type ... Package
- this is package ‘xtdml’ version ‘0.1.6’
- package encoding: UTF-8
- checking CRAN incoming feasibility ... [1s/1s] OK
- checking package namespace information ... OK
- checking package dependencies ... OK
- checking if this is a source package ... OK
- checking if there is a namespace ... OK
- checking for executable files ... OK
- checking for hidden files and directories ... OK
- checking for portable file names ... OK
- checking for sufficient/correct file permissions ... OK
- checking whether package ‘xtdml’ can be installed ... OK
See the install log for details.
- checking package directory ... OK
- checking for future file timestamps ... OK
- checking DESCRIPTION meta-information ... OK
- checking top-level files ... OK
- checking for left-over files ... OK
- checking index information ... OK
- checking package subdirectories ... OK
- checking code files for non-ASCII characters ... OK
- checking R files for syntax errors ... OK
- checking whether the package can be loaded ... [1s/1s] OK
- checking whether the package can be loaded with stated dependencies ... [1s/1s] OK
- checking whether the package can be unloaded cleanly ... [1s/1s] OK
- checking whether the namespace can be loaded with stated dependencies ... [1s/2s] OK
- checking whether the namespace can be unloaded cleanly ... [1s/2s] OK
- checking loading without being on the library search path ... [1s/2s] OK
- checking use of S3 registration ... OK
- checking dependencies in R code ... OK
- checking S3 generic/method consistency ... OK
- checking replacement functions ... OK
- checking foreign function calls ... OK
- checking R code for possible problems ... [8s/10s] OK
- checking Rd files ... [0s/1s] OK
- checking Rd metadata ... OK
- checking Rd line widths ... OK
- checking Rd cross-references ... OK
- checking for missing documentation entries ... OK
- checking for code/documentation mismatches ... OK
- checking Rd \usage sections ... OK
- checking Rd contents ... OK
- checking for unstated dependencies in examples ... OK
- checking examples ... [5s/7s] OK
- checking PDF version of manual ... [5s/6s] OK
- checking HTML version of manual ... [1s/1s] NOTE
Found the following HTML validation problems:
xtdml.html:231:1 (xtdml.Rd:169): Warning: <h5> anchor "Usage" already defined
xtdml.html:247:1 (xtdml.Rd:179): Warning: <h5> anchor "Usage" already defined
xtdml.html:293:1 (xtdml.Rd:209): Warning: <h5> anchor "Usage" already defined
xtdml.html:299:1 (xtdml.Rd:213): Warning: <h5> anchor "Returns" already defined
xtdml.html:322:1 (xtdml.Rd:228): Warning: <h5> anchor "Usage" already defined
xtdml.html:334:1 (xtdml.Rd:238): Warning: <h5> anchor "Arguments" already defined
xtdml.html:405:1 (xtdml.Rd:290): Warning: <h5> anchor "Returns" already defined
xtdml.html:422:1 (xtdml.Rd:299): Warning: <h5> anchor "Usage" already defined
xtdml.html:428:1 (xtdml.Rd:303): Warning: <h5> anchor "Arguments" already defined
xtdml.html:452:1 (xtdml.Rd:317): Warning: <h5> anchor "Usage" already defined
xtdml.html:458:1 (xtdml.Rd:321): Warning: <h5> anchor "Arguments" already defined
xtdml.html:482:1 (xtdml.Rd:339): Warning: <h5> anchor "Returns" already defined
xtdml.html:499:1 (xtdml.Rd:348): Warning: <h5> anchor "Usage" already defined
xtdml.html:505:1 (xtdml.Rd:352): Warning: <h5> anchor "Returns" already defined
xtdml.html:522:1 (xtdml.Rd:361): Warning: <h5> anchor "Usage" already defined
xtdml.html:528:1 (xtdml.Rd:365): Warning: <h5> anchor "Returns" already defined
xtdml.html:548:1 (xtdml.Rd:377): Warning: <h5> anchor "Usage" already defined
xtdml.html:559:1 (xtdml.Rd:386): Warning: <h5> anchor "Arguments" already defined
xtdml.html:591:1 (xtdml.Rd:412): Warning: <h5> anchor "Returns" already defined
xtdml.html:608:1 (xtdml.Rd:421): Warning: <h5> anchor "Usage" already defined
xtdml.html:614:1 (xtdml.Rd:425): Warning: <h5> anchor "Arguments" already defined
xtdml.html:628:1 (xtdml.Rd:433): Warning: <h5> anchor "Returns" already defined
xtdml.html:645:1 (xtdml.Rd:442): Warning: <h5> anchor "Usage" already defined
xtdml.html:651:1 (xtdml.Rd:446): Warning: <h5> anchor "Arguments" already defined
xtdml_data.html:271:1 (xtdml_data.Rd:182): Warning: missing </ul> before </div>
xtdml_data.html:199:1 (xtdml_data.Rd:140): Warning: <h5> anchor "Usage" already defined
xtdml_data.html:218:1 (xtdml_data.Rd:153): Warning: <h5> anchor "Usage" already defined
xtdml_data.html:224:1 (xtdml_data.Rd:157): Warning: <h5> anchor "Arguments" already defined
xtdml_data.html:248:1 (xtdml_data.Rd:171): Warning: <h5> anchor "Usage" already defined
xtdml_data.html:254:1 (xtdml_data.Rd:175): Warning: <h5> anchor "Arguments" already defined
xtdml_plr.html:207:1 (xtdml_plr.Rd:231): Warning: <h5> anchor "Usage" already defined
xtdml_plr.html:218:1 (xtdml_plr.Rd:240): Warning: <h5> anchor "Arguments" already defined
xtdml_plr.html:271:1 (xtdml_plr.Rd:279): Warning: <h5> anchor "Usage" already defined
xtdml_plr.html:283:1 (xtdml_plr.Rd:289): Warning: <h5> anchor "Arguments" already defined
xtdml_plr.html:354:1 (xtdml_plr.Rd:341): Warning: <h5> anchor "Returns" already defined
xtdml_plr.html:422:1 (xtdml_plr.Rd:400): Warning: <h5> anchor "Usage" already defined
xtdml_plr.html:428:1 (xtdml_plr.Rd:404): Warning: <h5> anchor "Arguments" already defined
- checking for non-standard things in the check directory ... OK
- DONE
Status: 1 NOTE