- using R Under development (unstable) (2023-09-26 r85226)
- using platform: x86_64-pc-linux-gnu
- R was compiled by
gcc-13 (Debian 13.2.0-4) 13.2.0
GNU Fortran (Debian 13.2.0-4) 13.2.0
- running under: Debian GNU/Linux trixie/sid
- using session charset: UTF-8
- checking for file ‘wpa/DESCRIPTION’ ... OK
- checking extension type ... Package
- this is package ‘wpa’ version ‘1.9.0’
- package encoding: UTF-8
- checking package namespace information ... OK
- checking package dependencies ... OK
- checking if this is a source package ... OK
- checking if there is a namespace ... OK
- checking for executable files ... OK
- checking for hidden files and directories ... OK
- checking for portable file names ... OK
- checking for sufficient/correct file permissions ... OK
- checking serialization versions ... OK
- checking whether package ‘wpa’ can be installed ... OK
See the install log for details.
- checking package directory ... OK
- checking for future file timestamps ... OK
- checking DESCRIPTION meta-information ... OK
- checking top-level files ... OK
- checking for left-over files ... OK
- checking index information ... OK
- checking package subdirectories ... OK
- checking R files for non-ASCII characters ... OK
- checking R files for syntax errors ... OK
- checking whether the package can be loaded ... [3s/6s] OK
- checking whether the package can be loaded with stated dependencies ... [3s/5s] OK
- checking whether the package can be unloaded cleanly ... [3s/4s] OK
- checking whether the namespace can be loaded with stated dependencies ... [3s/4s] OK
- checking whether the namespace can be unloaded cleanly ... [3s/5s] OK
- checking loading without being on the library search path ... [3s/5s] OK
- checking whether startup messages can be suppressed ... [3s/5s] OK
- checking use of S3 registration ... OK
- checking dependencies in R code ... OK
- checking S3 generic/method consistency ... OK
- checking replacement functions ... OK
- checking foreign function calls ... OK
- checking R code for possible problems ... [35s/60s] OK
- checking Rd files ... [3s/6s] OK
- checking Rd metadata ... OK
- checking Rd line widths ... OK
- checking Rd cross-references ... OK
- checking for missing documentation entries ... OK
- checking for code/documentation mismatches ... OK
- checking Rd \usage sections ... OK
- checking Rd contents ... OK
- checking for unstated dependencies in examples ... OK
- checking contents of ‘data’ directory ... OK
- checking data for non-ASCII characters ... [1s/1s] OK
- checking LazyData ... OK
- checking data for ASCII and uncompressed saves ... OK
- checking examples ... [102s/172s] OK
Examples with CPU (user + system) or elapsed time > 5s
user system elapsed
create_rank 3.852 0.066 6.246
workloads_rank 3.477 0.016 6.385
meeting_rank 3.465 0.012 6.191
email_rank 3.347 0.055 5.492
collaboration_rank 3.367 0.029 5.517
one2one_rank 3.296 0.012 6.613
network_p2p 3.236 0.056 5.630
identify_shifts_wp 3.189 0.024 6.401
mgrrel_matrix 2.603 0.005 5.160
- checking for unstated dependencies in ‘tests’ ... OK
- checking tests ... [67s/91s] OK
Running ‘testthat.R’ [67s/90s]
- checking PDF version of manual ... [22s/22s] OK
- checking HTML version of manual ... [12s/13s] OK
- checking for non-standard things in the check directory ... OK
- DONE
Status: OK