- using R Under development (unstable) (2023-05-27 r84465)
- using platform: x86_64-pc-linux-gnu
- R was compiled by
gcc-12 (Debian 12.2.0-14) 12.2.0
GNU Fortran (Debian 12.2.0-14) 12.2.0
- running under: Debian GNU/Linux 12 (bookworm)
- using session charset: UTF-8
- checking for file ‘webSDM/DESCRIPTION’ ... OK
- this is package ‘webSDM’ version ‘1.1-3’
- package encoding: UTF-8
- checking package namespace information ... OK
- checking package dependencies ... OK
- checking if this is a source package ... OK
- checking if there is a namespace ... OK
- checking for executable files ... OK
- checking for hidden files and directories ... OK
- checking for portable file names ... OK
- checking for sufficient/correct file permissions ... OK
- checking whether package ‘webSDM’ can be installed ... OK
- checking package directory ... OK
- checking for future file timestamps ... OK
- checking ‘build’ directory ... OK
- checking DESCRIPTION meta-information ... OK
- checking top-level files ... OK
- checking for left-over files ... OK
- checking index information ... OK
- checking package subdirectories ... OK
- checking R files for non-ASCII characters ... OK
- checking R files for syntax errors ... OK
- checking whether the package can be loaded ... [16s/25s] OK
- checking whether the package can be loaded with stated dependencies ... [14s/21s] OK
- checking whether the package can be unloaded cleanly ... [16s/26s] OK
- checking whether the namespace can be loaded with stated dependencies ... [16s/26s] OK
- checking whether the namespace can be unloaded cleanly ... [16s/25s] OK
- checking loading without being on the library search path ... [16s/25s] OK
- checking use of S3 registration ... OK
- checking dependencies in R code ... OK
- checking S3 generic/method consistency ... OK
- checking replacement functions ... OK
- checking foreign function calls ... OK
- checking R code for possible problems ... [68s/99s] OK
- checking Rd files ... [0s/1s] OK
- checking Rd metadata ... OK
- checking Rd line widths ... OK
- checking Rd cross-references ... OK
- checking for missing documentation entries ... OK
- checking for code/documentation mismatches ... OK
- checking Rd \usage sections ... OK
- checking Rd contents ... OK
- checking for unstated dependencies in examples ... OK
- checking contents of ‘data’ directory ... OK
- checking data for non-ASCII characters ... [0s/1s] OK
- checking data for ASCII and uncompressed saves ... OK
- checking installed files from ‘inst/doc’ ... OK
- checking files in ‘vignettes’ ... OK
- checking examples ... [98s/141s] OK
Examples with CPU (user + system) or elapsed time > 5s
user system elapsed
evaluateModelFit 6.785 0.022 10.354
predict.trophicSDMfit 6.467 0.059 9.454
coef.SDMfit 6.024 0.067 8.931
coef.trophicSDMfit 5.839 0.024 8.474
summary.trophicSDMfit 5.741 0.008 7.574
print.SDMfit 5.612 0.024 7.802
predict.SDMfit 5.600 0.027 8.520
print.trophicSDMfit 5.584 0.025 9.522
summary.SDMfit 5.496 0.002 7.113
trophicSDM 4.490 0.032 5.792
plot.trophicSDMfit 3.653 0.098 5.492
predictFundamental 3.665 0.075 6.342
computeVariableImportance 3.572 0.056 5.952
- checking for unstated dependencies in vignettes ... OK
- checking package vignettes in ‘inst/doc’ ... OK
- checking re-building of vignette outputs ... [5s/8s] OK
- checking PDF version of manual ... [5s/9s] OK
- checking HTML version of manual ... [1s/2s] OK
- checking for non-standard things in the check directory ... OK
- DONE
Status: OK