- using R Under development (unstable) (2022-05-26 r82405)
- using platform: x86_64-pc-linux-gnu (64-bit)
- using session charset: UTF-8
- checking for file ‘ursa/DESCRIPTION’ ... OK
- checking extension type ... Package
- this is package ‘ursa’ version ‘3.9.6’
- checking package namespace information ... OK
- checking package dependencies ... OK
- checking if this is a source package ... OK
- checking if there is a namespace ... OK
- checking for executable files ... OK
- checking for hidden files and directories ... OK
- checking for portable file names ... OK
- checking for sufficient/correct file permissions ... OK
- checking whether package ‘ursa’ can be installed ... OK
- checking package directory ... OK
- checking for future file timestamps ... OK
- checking DESCRIPTION meta-information ... OK
- checking top-level files ... OK
- checking for left-over files ... OK
- checking index information ... OK
- checking package subdirectories ... OK
- checking R files for non-ASCII characters ... OK
- checking R files for syntax errors ... OK
- checking whether the package can be loaded ... OK
- checking whether the package can be loaded with stated dependencies ... OK
- checking whether the package can be unloaded cleanly ... OK
- checking whether the namespace can be loaded with stated dependencies ... OK
- checking whether the namespace can be unloaded cleanly ... OK
- checking loading without being on the library search path ... OK
- checking use of S3 registration ... OK
- checking dependencies in R code ... OK
- checking S3 generic/method consistency ... OK
- checking replacement functions ... OK
- checking foreign function calls ... OK
- checking R code for possible problems ... [95s/149s] OK
- checking Rd files ... [3s/5s] OK
- checking Rd metadata ... OK
- checking Rd line widths ... OK
- checking Rd cross-references ... OK
- checking for missing documentation entries ... OK
- checking for code/documentation mismatches ... OK
- checking Rd \usage sections ... OK
- checking Rd contents ... OK
- checking for unstated dependencies in examples ... OK
- checking line endings in C/C++/Fortran sources/headers ... OK
- checking pragmas in C/C++ headers and code ... OK
- checking compilation flags used ... OK
- checking compiled code ... OK
- checking examples ... [181s/314s] OK
Examples with CPU (user + system) or elapsed time > 5s
user system elapsed
compose_open 4.951 0.282 9.234
ursa_000 4.936 0.190 7.919
panel_raster 4.763 0.341 7.742
panel_graticule 4.644 0.316 7.283
panel_shading 4.660 0.299 9.016
ursa_as 4.436 0.261 8.135
legend_colorbar 4.474 0.221 9.043
ursa_new 4.423 0.238 6.851
panel_scalebar 4.181 0.273 7.371
regrid 4.026 0.362 7.781
display_brick 4.149 0.234 6.784
panel_contour 4.026 0.305 6.787
compose_legend 4.027 0.206 6.813
Ops.focal_special 3.971 0.186 7.068
compose_design 4.001 0.143 7.046
classRaster_plot 3.878 0.149 6.431
ursa_dummy 3.825 0.153 6.822
Ops.local_group 3.713 0.237 6.483
panel_new 3.611 0.143 5.583
panel_plot 3.527 0.176 5.671
Ops.local_stat 3.421 0.195 6.472
panel_coastline 3.146 0.230 5.307
ursa_crop 3.083 0.113 5.383
cubehelix 2.915 0.252 6.568
display 3.005 0.158 5.036
compose_plot 2.859 0.203 5.605
classStack 2.923 0.122 5.683
classRaster_as.raster 2.822 0.125 5.739
compose_close 2.212 0.130 5.724
- checking PDF version of manual ... OK
- checking HTML version of manual ... OK
- checking for non-standard things in the check directory ... OK
- DONE
Status: OK