- using R Under development (unstable) (2023-06-07 r84521)
- using platform: x86_64-pc-linux-gnu
- R was compiled by
gcc-12 (Debian 12.2.0-14) 12.2.0
GNU Fortran (Debian 12.2.0-14) 12.2.0
- running under: Debian GNU/Linux 12 (bookworm)
- using session charset: UTF-8
- checking for file ‘urbin/DESCRIPTION’ ... OK
- this is package ‘urbin’ version ‘0.1-12’
- checking package namespace information ... OK
- checking package dependencies ... OK
- checking if this is a source package ... OK
- checking if there is a namespace ... OK
- checking for executable files ... OK
- checking for hidden files and directories ... OK
- checking for portable file names ... OK
- checking for sufficient/correct file permissions ... OK
- checking serialization versions ... OK
- checking whether package ‘urbin’ can be installed ... OK
- checking package directory ... OK
- checking for future file timestamps ... OK
- checking ‘build’ directory ... OK
- checking DESCRIPTION meta-information ... OK
- checking top-level files ... OK
- checking for left-over files ... OK
- checking index information ... OK
- checking package subdirectories ... OK
- checking R files for non-ASCII characters ... OK
- checking R files for syntax errors ... OK
- checking whether the package can be loaded ... [0s/1s] OK
- checking whether the package can be loaded with stated dependencies ... [0s/0s] OK
- checking whether the package can be unloaded cleanly ... [0s/0s] OK
- checking whether the namespace can be loaded with stated dependencies ... [0s/0s] OK
- checking whether the namespace can be unloaded cleanly ... [0s/1s] OK
- checking loading without being on the library search path ... [0s/1s] OK
- checking use of S3 registration ... OK
- checking dependencies in R code ... OK
- checking S3 generic/method consistency ... OK
- checking replacement functions ... OK
- checking foreign function calls ... OK
- checking R code for possible problems ... [6s/12s] OK
- checking Rd files ... [0s/1s] OK
- checking Rd metadata ... OK
- checking Rd line widths ... OK
- checking Rd cross-references ... OK
- checking for missing documentation entries ... OK
- checking for code/documentation mismatches ... OK
- checking Rd \usage sections ... OK
- checking Rd contents ... OK
- checking for unstated dependencies in examples ... OK
- checking sizes of PDF files under ‘inst/doc’ ... OK
- checking installed files from ‘inst/doc’ ... OK
- checking files in ‘vignettes’ ... OK
- checking examples ... [3s/5s] OK
- checking for unstated dependencies in ‘tests’ ... OK
- checking tests ... [32s/53s] OK
Running ‘logit.R’ [4s/6s]
Comparing ‘logit.Rout’ to ‘logit.Rout.save’ ...39a40,43
> Deviance Residuals:
> Min 1Q Median 3Q Max
> -1.873 -1.232 0.803 1.056 1.587
>
137a142,145
> Deviance Residuals:
> Min 1Q Median 3Q Max
> -1.899 -1.232 0.789 1.051 1.649
>
292a301,304
>
> Deviance Residuals:
> Min 1Q Median 3Q Max
> -1.874 -1.216 0.805 1.067 1.722
Running ‘logitEffCat.R’ [0s/1s]
Comparing ‘logitEffCat.Rout’ to ‘logitEffCat.Rout.save’ ... OK
Running ‘logitEffInt.R’ [0s/1s]
Comparing ‘logitEffInt.Rout’ to ‘logitEffInt.Rout.save’ ... OK
Running ‘logitEla.R’ [0s/1s]
Comparing ‘logitEla.Rout’ to ‘logitEla.Rout.save’ ... OK
Running ‘logitElaInt.R’ [0s/1s]
Comparing ‘logitElaInt.Rout’ to ‘logitElaInt.Rout.save’ ... OK
Running ‘lpm.R’ [3s/5s]
Comparing ‘lpm.Rout’ to ‘lpm.Rout.save’ ... OK
Running ‘mlogit.R’ [6s/10s]
Comparing ‘mlogit.Rout’ to ‘mlogit.Rout.save’ ... OK
Running ‘mvprobit.R’ [12s/18s]
Comparing ‘mvprobit.Rout’ to ‘mvprobit.Rout.save’ ... OK
Running ‘oprobit.R’ [3s/5s]
Comparing ‘oprobit.Rout’ to ‘oprobit.Rout.save’ ... OK
Running ‘probit.R’ [4s/5s]
Comparing ‘probit.Rout’ to ‘probit.Rout.save’ ...39a40,43
> Deviance Residuals:
> Min 1Q Median 3Q Max
> -1.895 -1.234 0.802 1.059 1.589
>
137a142,145
> Deviance Residuals:
> Min 1Q Median 3Q Max
> -1.927 -1.231 0.785 1.053 1.654
>
292a301,304
>
> Deviance Residuals:
> Min 1Q Median 3Q Max
> -1.897 -1.215 0.804 1.069 1.729
- checking for unstated dependencies in vignettes ... OK
- checking package vignettes in ‘inst/doc’ ... OK
- checking re-building of vignette outputs ... [28s/53s] OK
- checking PDF version of manual ... [4s/11s] OK
- checking HTML version of manual ... [1s/1s] OK
- checking for non-standard things in the check directory ... OK
- DONE
Status: OK