- using R Under development (unstable) (2025-06-30 r88369)
- using platform: x86_64-pc-linux-gnu
- R was compiled by
gcc-14 (Debian 14.2.0-19) 14.2.0
GNU Fortran (Debian 14.2.0-19) 14.2.0
- running under: Debian GNU/Linux 13 (trixie)
- using session charset: UTF-8
- checking for file ‘tscount/DESCRIPTION’ ... OK
- checking extension type ... Package
- this is package ‘tscount’ version ‘1.4.3’
- package encoding: UTF-8
- checking CRAN incoming feasibility ... [1s/1s] NOTE
Maintainer: ‘Tobias Liboschik <liboschik@statistik.tu-dortmund.de>’
Found the following URLs which should use \doi (with the DOI name only):
File ‘QIC.Rd’:
http://dx.doi.org/10.1111/j.0006-341X.2001.00120.x
File ‘campy.Rd’:
http://dx.doi.org/10.1111/j.1467-9892.2006.00496.x
File ‘ingarch.analytical.Rd’:
http://dx.doi.org/10.1111/j.1467-9892.2006.00496.x
File ‘interv_covariate.Rd’:
http://dx.doi.org/10.1111/j.1467-9892.2010.00657.x
http://dx.doi.org/10.1177/1471082X1201200401
http://dx.doi.org/10.17877/DE290R-17191
http://dx.doi.org/10.1080/00207160.2014.949250
File ‘interv_detect.tsglm.Rd’:
http://dx.doi.org/10.1111/j.1467-9892.2010.00657.x
http://dx.doi.org/10.1177/1471082X1201200401
http://dx.doi.org/10.17877/DE290R-17191
http://dx.doi.org/10.1080/00207160.2014.949250
File ‘interv_multiple.tsglm.Rd’:
http://dx.doi.org/10.1111/j.1467-9892.2010.00657.x
http://dx.doi.org/10.1177/1471082X1201200401
http://dx.doi.org/10.17877/DE290R-17191
http://dx.doi.org/10.1080/00207160.2014.949250
File ‘interv_test.tsglm.Rd’:
http://dx.doi.org/10.1111/j.1467-9892.2010.00657.x
http://dx.doi.org/10.1177/1471082X1201200401
http://dx.doi.org/10.17877/DE290R-17191
http://dx.doi.org/10.1080/00207160.2014.949250
File ‘marcal.Rd’:
http://dx.doi.org/10.1080/00949655.2013.823612
http://dx.doi.org/10.1111/j.1541-0420.2009.01191.x
http://dx.doi.org/10.1111/j.1467-9868.2007.00587.x
File ‘pit.Rd’:
http://dx.doi.org/10.1080/00949655.2013.823612
http://dx.doi.org/10.1111/j.1541-0420.2009.01191.x
http://dx.doi.org/10.1111/j.1467-9868.2007.00587.x
File ‘predict.tsglm.Rd’:
http://dx.doi.org/10.18637/jss.v082.i05
File ‘scoring.Rd’:
http://dx.doi.org/10.1080/00949655.2013.823612
http://dx.doi.org/10.1111/j.1541-0420.2009.01191.x
http://dx.doi.org/10.1111/j.1467-9868.2007.00587.x
http://dx.doi.org/10.1002/sim.4177
File ‘se.tsglm.Rd’:
http://dx.doi.org/10.18637/jss.v082.i05
File ‘tscount-package.Rd’:
http://dx.doi.org/10.1002/jtsa.12050
http://dx.doi.org/10.1214/15-EJS1044
http://dx.doi.org/10.1111/j.1467-9892.2006.00496.x
http://dx.doi.org/10.1111/j.1467-9892.2010.00657.x
http://dx.doi.org/10.1177/1471082X1201200401
http://dx.doi.org/10.1198/jasa.2009.tm08270
http://dx.doi.org/10.1016/j.jmva.2010.11.002
http://dx.doi.org/10.17877/DE290R-17191
http://dx.doi.org/10.1080/00207160.2014.949250
http://dx.doi.org/10.18637/jss.v082.i05
File ‘tsglm.Rd’:
http://dx.doi.org/10.1002/jtsa.12050
http://dx.doi.org/10.1214/15-EJS1044
http://dx.doi.org/10.1111/j.1467-9892.2006.00496.x
http://dx.doi.org/10.1111/j.1467-9892.2010.00657.x
http://dx.doi.org/10.1177/1471082X1201200401
http://dx.doi.org/10.1198/jasa.2009.tm08270
http://dx.doi.org/10.1016/j.jmva.2010.11.002
http://dx.doi.org/10.18637/jss.v082.i05
File ‘tsglm.sim.Rd’:
http://dx.doi.org/10.18637/jss.v082.i05
- checking package namespace information ... OK
- checking package dependencies ... OK
- checking if this is a source package ... OK
- checking if there is a namespace ... OK
- checking for executable files ... OK
- checking for hidden files and directories ... OK
- checking for portable file names ... OK
- checking for sufficient/correct file permissions ... OK
- checking serialization versions ... OK
- checking whether package ‘tscount’ can be installed ... OK
See the install log for details.
- checking package directory ... OK
- checking for future file timestamps ... OK
- checking DESCRIPTION meta-information ... OK
- checking top-level files ... OK
- checking for left-over files ... OK
- checking index information ... OK
- checking package subdirectories ... OK
- checking code files for non-ASCII characters ... OK
- checking R files for syntax errors ... OK
- checking whether the package can be loaded ... [0s/0s] OK
- checking whether the package can be loaded with stated dependencies ... [0s/0s] OK
- checking whether the package can be unloaded cleanly ... [0s/0s] OK
- checking whether the namespace can be loaded with stated dependencies ... [0s/0s] OK
- checking whether the namespace can be unloaded cleanly ... [0s/0s] OK
- checking loading without being on the library search path ... [0s/0s] OK
- checking use of S3 registration ... OK
- checking dependencies in R code ... OK
- checking S3 generic/method consistency ... OK
- checking replacement functions ... OK
- checking foreign function calls ... OK
- checking R code for possible problems ... [7s/8s] OK
- checking Rd files ... [0s/1s] OK
- checking Rd metadata ... OK
- checking Rd line widths ... OK
- checking Rd cross-references ... OK
- checking for missing documentation entries ... OK
- checking for code/documentation mismatches ... OK
- checking Rd \usage sections ... OK
- checking Rd contents ... OK
- checking for unstated dependencies in examples ... OK
- checking contents of ‘data’ directory ... OK
- checking data for non-ASCII characters ... [0s/0s] OK
- checking LazyData ... OK
- checking data for ASCII and uncompressed saves ... OK
- checking sizes of PDF files under ‘inst/doc’ ... OK
- checking installed files from ‘inst/doc’ ... OK
- checking files in ‘vignettes’ ... OK
- checking examples ... [10s/11s] OK
- checking for unstated dependencies in ‘tests’ ... OK
- checking tests ... [26s/31s] OK
Running ‘test_code.R’ [26s/31s]
- checking for unstated dependencies in vignettes ... OK
- checking package vignettes ... OK
- checking re-building of vignette outputs ... [22s/28s] OK
- checking PDF version of manual ... [5s/6s] OK
- checking HTML version of manual ... [2s/2s] OK
- checking for non-standard things in the check directory ... OK
- DONE
Status: 1 NOTE