- using R Under development (unstable) (2023-03-18 r84003)
- using platform: x86_64-pc-linux-gnu (64-bit)
- R was compiled by
gcc-12 (Debian 12.2.0-14) 12.2.0
GNU Fortran (Debian 12.2.0-14) 12.2.0
- running under: Debian GNU/Linux bookworm/sid
- using session charset: UTF-8
- checking for file ‘tinytiger/DESCRIPTION’ ... OK
- this is package ‘tinytiger’ version ‘0.0.4’
- package encoding: UTF-8
- checking package namespace information ... OK
- checking package dependencies ... OK
- checking if this is a source package ... OK
- checking if there is a namespace ... OK
- checking for executable files ... OK
- checking for hidden files and directories ... OK
- checking for portable file names ... OK
- checking for sufficient/correct file permissions ... OK
- checking serialization versions ... OK
- checking whether package ‘tinytiger’ can be installed ... OK
- checking package directory ... OK
- checking for future file timestamps ... OK
- checking ‘build’ directory ... OK
- checking DESCRIPTION meta-information ... OK
- checking top-level files ... OK
- checking for left-over files ... OK
- checking index information ... OK
- checking package subdirectories ... OK
- checking R files for non-ASCII characters ... OK
- checking R files for syntax errors ... OK
- checking whether the package can be loaded ... [0s/1s] OK
- checking whether the package can be loaded with stated dependencies ... [0s/1s] OK
- checking whether the package can be unloaded cleanly ... [0s/1s] OK
- checking whether the namespace can be loaded with stated dependencies ... [0s/1s] OK
- checking whether the namespace can be unloaded cleanly ... [1s/1s] OK
- checking loading without being on the library search path ... [0s/1s] OK
- checking startup messages can be suppressed ... [0s/1s] OK
- checking use of S3 registration ... OK
- checking dependencies in R code ... OK
- checking S3 generic/method consistency ... OK
- checking replacement functions ... OK
- checking foreign function calls ... OK
- checking R code for possible problems ... [6s/11s] OK
- checking Rd files ... [0s/1s] OK
- checking Rd metadata ... OK
- checking Rd line widths ... OK
- checking Rd cross-references ... OK
- checking for missing documentation entries ... OK
- checking for code/documentation mismatches ... OK
- checking Rd \usage sections ... OK
- checking Rd contents ... OK
- checking for unstated dependencies in examples ... OK
- checking contents of ‘data’ directory ... OK
- checking data for non-ASCII characters ... [0s/1s] OK
- checking LazyData ... OK
- checking data for ASCII and uncompressed saves ... OK
- checking installed files from ‘inst/doc’ ... OK
- checking files in ‘vignettes’ ... OK
- checking examples ... [157s/340s] OK
Examples with CPU (user + system) or elapsed time > 5s
user system elapsed
tt_roads 48.720 0.487 78.261
tt_ai_an_nh_areas 14.583 0.278 25.288
tt_blocks 13.815 0.397 24.158
tt_tribal_block_groups 13.816 0.178 24.007
tt_tribal_tracts 11.097 0.118 19.000
tt_address_ranges 8.114 0.391 14.016
tt_polygon_faces 7.769 0.318 12.221
tt_linear_water 6.876 0.118 12.086
tt_polygon_edges 6.423 0.275 10.630
tt_tribal_subdivisions 4.452 0.103 9.319
tt_primary_secondary_roads 3.328 0.023 5.508
tt_military 3.138 0.072 6.321
tt_elementary_school_districts 0.320 0.012 61.634
tt_consolidated_cities 0.019 0.004 5.211
- checking for unstated dependencies in ‘tests’ ... OK
- checking tests ... [22s/158s] OK
Running ‘testthat.R’ [22s/157s]
- checking for unstated dependencies in vignettes ... OK
- checking package vignettes in ‘inst/doc’ ... OK
- checking re-building of vignette outputs ... [5s/12s] OK
- checking PDF version of manual ... [5s/13s] OK
- checking HTML version of manual ... [1s/3s] OK
- checking for non-standard things in the check directory ... OK
- DONE
Status: OK