- using R Under development (unstable) (2025-10-19 r88945)
- using platform: x86_64-pc-linux-gnu
- R was compiled by
gcc-15 (Debian 15.2.0-4) 15.2.0
GNU Fortran (Debian 15.2.0-4) 15.2.0
- running under: Debian GNU/Linux forky/sid
- using session charset: UTF-8
- checking for file ‘thredds/DESCRIPTION’ ... OK
- this is package ‘thredds’ version ‘0.1-4’
- package encoding: UTF-8
- checking CRAN incoming feasibility ... [1s/1s] OK
- checking package namespace information ... OK
- checking package dependencies ... OK
- checking if this is a source package ... OK
- checking if there is a namespace ... OK
- checking for executable files ... OK
- checking for hidden files and directories ... OK
- checking for portable file names ... OK
- checking for sufficient/correct file permissions ... OK
- checking serialization versions ... OK
- checking whether package ‘thredds’ can be installed ... OK
See the install log for details.
- checking package directory ... OK
- checking for future file timestamps ... OK
- checking DESCRIPTION meta-information ... OK
- checking top-level files ... OK
- checking for left-over files ... OK
- checking index information ... OK
- checking package subdirectories ... OK
- checking code files for non-ASCII characters ... OK
- checking R files for syntax errors ... OK
- checking whether the package can be loaded ... [0s/1s] OK
- checking whether the package can be loaded with stated dependencies ... [0s/0s] OK
- checking whether the package can be unloaded cleanly ... [0s/1s] OK
- checking whether the namespace can be loaded with stated dependencies ... [0s/0s] OK
- checking whether the namespace can be unloaded cleanly ... [0s/1s] OK
- checking loading without being on the library search path ... [0s/1s] OK
- checking use of S3 registration ... OK
- checking dependencies in R code ... OK
- checking S3 generic/method consistency ... OK
- checking replacement functions ... OK
- checking foreign function calls ... OK
- checking R code for possible problems ... [3s/5s] OK
- checking Rd files ... [0s/1s] OK
- checking Rd metadata ... OK
- checking Rd line widths ... OK
- checking Rd cross-references ... OK
- checking for missing documentation entries ... OK
- checking for code/documentation mismatches ... OK
- checking Rd \usage sections ... OK
- checking Rd contents ... OK
- checking for unstated dependencies in examples ... OK
- checking examples ... [0s/1s] OK
- checking for unstated dependencies in ‘tests’ ... OK
- checking tests ... [1s/2s] OK
Running ‘test-all.R’ [1s/2s]
- checking PDF version of manual ... [5s/6s] OK
- checking HTML version of manual ... [1s/1s] NOTE
Found the following HTML validation problems:
CatalogNode.html:138:1 (CatalogNode.Rd:101): Warning: <h5> anchor "Usage" already defined
CatalogNode.html:147:1 (CatalogNode.Rd:108): Warning: <h5> anchor "Arguments" already defined
CatalogNode.html:162:1 (CatalogNode.Rd:117): Warning: <h5> anchor "Returns" already defined
CatalogNode.html:179:1 (CatalogNode.Rd:126): Warning: <h5> anchor "Usage" already defined
CatalogNode.html:188:1 (CatalogNode.Rd:133): Warning: <h5> anchor "Arguments" already defined
CatalogNode.html:203:1 (CatalogNode.Rd:142): Warning: <h5> anchor "Returns" already defined
CatalogNode.html:220:1 (CatalogNode.Rd:151): Warning: <h5> anchor "Usage" already defined
CatalogNode.html:229:1 (CatalogNode.Rd:158): Warning: <h5> anchor "Arguments" already defined
CatalogNode.html:244:1 (CatalogNode.Rd:167): Warning: <h5> anchor "Returns" already defined
CatalogNode.html:261:1 (CatalogNode.Rd:176): Warning: <h5> anchor "Usage" already defined
CatalogNode.html:270:1 (CatalogNode.Rd:183): Warning: <h5> anchor "Arguments" already defined
CatalogNode.html:285:1 (CatalogNode.Rd:192): Warning: <h5> anchor "Returns" already defined
CatalogNode.html:303:1 (CatalogNode.Rd:202): Warning: <h5> anchor "Usage" already defined
CatalogNode.html:311:1 (CatalogNode.Rd:208): Warning: <h5> anchor "Arguments" already defined
CatalogNode.html:326:1 (CatalogNode.Rd:217): Warning: <h5> anchor "Returns" already defined
CatalogNode.html:344:1 (CatalogNode.Rd:227): Warning: <h5> anchor "Usage" already defined
CatalogNode.html:352:1 (CatalogNode.Rd:233): Warning: <h5> anchor "Arguments" already defined
CatalogNode.html:367:1 (CatalogNode.Rd:242): Warning: <h5> anchor "Returns" already defined
CatalogNode.html:384:1 (CatalogNode.Rd:251): Warning: <h5> anchor "Usage" already defined
CatalogNode.html:390:1 (CatalogNode.Rd:255): Warning: <h5> anchor "Arguments" already defined
CatalogNode.html:403:1 (CatalogNode.Rd:262): Warning: <h5> anchor "Returns" already defined
CatalogNode.html:420:1 (CatalogNode.Rd:271): Warning: <h5> anchor "Usage" already defined
CatalogNode.html:426:1 (CatalogNode.Rd:275): Warning: <h5> anchor "Arguments" already defined
CatalogNode.html:439:1 (CatalogNode.Rd:282): Warning: <h5> anchor "Returns" already defined
CatalogNode.html:456:1 (CatalogNode.Rd:291): Warning: <h5> anchor "Usage" already defined
CatalogNode.html:462:1 (CatalogNode.Rd:295): Warning: <h5> anchor "Arguments" already defined
CatalogNode.html:487:1 (CatalogNode.Rd:310): Warning: <h5> anchor "Usage" already defined
CatalogNode.html:493:1 (CatalogNode.Rd:314): Warning: <h5> anchor "Arguments" already defined
DatasetNode.html:127:1 (DatasetNode.Rd:69): Warning: <h5> anchor "Usage" already defined
DatasetNode.html:150:1 (DatasetNode.Rd:82): Warning: <h5> anchor "Usage" already defined
DatasetNode.html:160:1 (DatasetNode.Rd:90): Warning: <h5> anchor "Arguments" already defined
DatasetNode.html:178:1 (DatasetNode.Rd:102): Warning: <h5> anchor "Returns" already defined
DatasetNode.html:195:1 (DatasetNode.Rd:111): Warning: <h5> anchor "Usage" already defined
DatasetNode.html:201:1 (DatasetNode.Rd:115): Warning: <h5> anchor "Arguments" already defined
DatasetNode.html:214:1 (DatasetNode.Rd:122): Warning: <h5> anchor "Returns" already defined
DatasetNode.html:231:1 (DatasetNode.Rd:131): Warning: <h5> anchor "Usage" already defined
DatasetNode.html:237:1 (DatasetNode.Rd:135): Warning: <h5> anchor "Arguments" already defined
DatasetNode.html:262:1 (DatasetNode.Rd:150): Warning: <h5> anchor "Usage" already defined
DatasetNode.html:268:1 (DatasetNode.Rd:154): Warning: <h5> anchor "Arguments" already defined
ServiceNode.html:119:1 (ServiceNode.Rd:67): Warning: <h5> anchor "Usage" already defined
ServiceNode.html:125:1 (ServiceNode.Rd:71): Warning: <h5> anchor "Arguments" already defined
ServiceNode.html:150:1 (ServiceNode.Rd:86): Warning: <h5> anchor "Usage" already defined
ServiceNode.html:156:1 (ServiceNode.Rd:90): Warning: <h5> anchor "Arguments" already defined
ThreddsNode.html:139:1 (ThreddsNode.Rd:84): Warning: <h5> anchor "Usage" already defined
ThreddsNode.html:145:1 (ThreddsNode.Rd:88): Warning: <h5> anchor "Arguments" already defined
ThreddsNode.html:170:1 (ThreddsNode.Rd:103): Warning: <h5> anchor "Usage" already defined
ThreddsNode.html:193:1 (ThreddsNode.Rd:116): Warning: <h5> anchor "Usage" already defined
ThreddsNode.html:209:1 (ThreddsNode.Rd:126): Warning: <h5> anchor "Usage" already defined
ThreddsNode.html:215:1 (ThreddsNode.Rd:130): Warning: <h5> anchor "Arguments" already defined
ThreddsNode.html:228:1 (ThreddsNode.Rd:137): Warning: <h5> anchor "Returns" already defined
ThreddsNode.html:245:1 (ThreddsNode.Rd:146): Warning: <h5> anchor "Usage" already defined
ThreddsNode.html:251:1 (ThreddsNode.Rd:150): Warning: <h5> anchor "Arguments" already defined
- checking for non-standard things in the check directory ... OK
- DONE
Status: 1 NOTE