- using R Under development (unstable) (2025-06-27 r88363)
- using platform: x86_64-pc-linux-gnu
- R was compiled by
gcc-14 (Debian 14.2.0-19) 14.2.0
GNU Fortran (Debian 14.2.0-19) 14.2.0
- running under: Debian GNU/Linux 13 (trixie)
- using session charset: UTF-8
- checking for file ‘sumFREGAT/DESCRIPTION’ ... OK
- this is package ‘sumFREGAT’ version ‘1.2.5’
- checking CRAN incoming feasibility ... [0s/0s] NOTE
Maintainer: ‘Nadezhda M. Belonogova <belon@bionet.nsc.ru>’
No Authors@R field in DESCRIPTION.
Please add one, modifying
Authors@R: c(person(given = c("Nadezhda", "M."),
family = "Belonogova",
role = c("aut", "cre"),
email = "belon@bionet.nsc.ru"),
person(given = c("Gulnara", "R.", "Svishcheva", "with", "contributions", "from:", "Seunggeun"),
family = "Lee",
role = "aut",
email = "gulsvi@bionet.nsc.ru",
comment = "kernel functions"),
person(given = c("Pierre", "Lafaye"),
family = "de Micheaux",
role = "aut",
comment = "'davies' method"),
person(given = "Thomas",
family = "Lumley",
role = "aut",
comment = "'kuonen' method"),
person(given = "Minghui",
family = "Wang",
role = "aut"),
person(given = "Yiyuan",
family = "Liu",
role = "aut"),
person(given = "Shizhong",
family = "Han",
role = "aut",
comment = "simpleM function"),
person(given = "Yaowu",
family = "Liu",
role = "aut",
comment = "ACAT function"),
person(given = c("James", "O."),
family = "Ramsay",
role = "aut",
comment = "functional data analysis functions"),
person(given = "Xihao",
family = "Li",
role = "aut"),
person(given = "Zilin",
family = "Li",
role = "aut"),
person(given = "Han",
family = "Chen",
role = "aut",
comment = "conception of the STAAR procedure"))
as necessary.
- checking package namespace information ... OK
- checking package dependencies ... OK
- checking if this is a source package ... OK
- checking if there is a namespace ... OK
- checking for executable files ... OK
- checking for hidden files and directories ... OK
- checking for portable file names ... OK
- checking for sufficient/correct file permissions ... OK
- checking serialization versions ... OK
- checking whether package ‘sumFREGAT’ can be installed ... OK
See the install log for details.
- used C compiler: ‘gcc-14 (Debian 14.2.0-19) 14.2.0’
- used C++ compiler: ‘g++-14 (Debian 14.2.0-19) 14.2.0’
- checking package directory ... OK
- checking for future file timestamps ... OK
- checking DESCRIPTION meta-information ... OK
- checking top-level files ... OK
- checking for left-over files ... OK
- checking index information ... OK
- checking package subdirectories ... OK
- checking code files for non-ASCII characters ... OK
- checking R files for syntax errors ... OK
- checking whether the package can be loaded ... [1s/2s] OK
- checking whether the package can be loaded with stated dependencies ... [1s/2s] OK
- checking whether the package can be unloaded cleanly ... [1s/1s] OK
- checking whether the namespace can be loaded with stated dependencies ... [1s/2s] OK
- checking whether the namespace can be unloaded cleanly ... [1s/2s] OK
- checking loading without being on the library search path ... [1s/1s] OK
- checking use of S3 registration ... OK
- checking dependencies in R code ... OK
- checking S3 generic/method consistency ... OK
- checking replacement functions ... OK
- checking foreign function calls ... OK
- checking R code for possible problems ... [13s/18s] OK
- checking Rd files ... [0s/0s] OK
- checking Rd metadata ... OK
- checking Rd line widths ... OK
- checking Rd cross-references ... OK
- checking for missing documentation entries ... OK
- checking for code/documentation mismatches ... OK
- checking Rd \usage sections ... OK
- checking Rd contents ... OK
- checking for unstated dependencies in examples ... OK
- checking line endings in C/C++/Fortran sources/headers ... OK
- checking pragmas in C/C++ headers and code ... OK
- checking compilation flags used ... OK
- checking compiled code ... OK
- checking examples ... [10s/12s] OK
- checking PDF version of manual ... [4s/6s] OK
- checking HTML version of manual ... [1s/1s] OK
- checking for non-standard things in the check directory ... OK
- DONE
Status: 1 NOTE