- using R Under development (unstable) (2025-10-20 r88955)
- using platform: x86_64-pc-linux-gnu
- R was compiled by
gcc-15 (Debian 15.2.0-4) 15.2.0
GNU Fortran (Debian 15.2.0-4) 15.2.0
- running under: Debian GNU/Linux forky/sid
- using session charset: UTF-8
- checking for file ‘soundgen/DESCRIPTION’ ... OK
- checking extension type ... Package
- this is package ‘soundgen’ version ‘2.7.4’
- package encoding: UTF-8
- checking CRAN incoming feasibility ... [3s/4s] OK
- checking package namespace information ... OK
- checking package dependencies ... OK
- checking if this is a source package ... OK
- checking if there is a namespace ... OK
- checking for executable files ... OK
- checking for hidden files and directories ... OK
- checking for portable file names ... OK
- checking for sufficient/correct file permissions ... OK
- checking whether package ‘soundgen’ can be installed ... OK
See the install log for details.
- checking package directory ... OK
- checking for future file timestamps ... OK
- checking DESCRIPTION meta-information ... OK
- checking top-level files ... OK
- checking for left-over files ... OK
- checking index information ... OK
- checking package subdirectories ... OK
- checking code files for non-ASCII characters ... OK
- checking R files for syntax errors ... OK
- checking whether the package can be loaded ... [1s/1s] OK
- checking whether the package can be loaded with stated dependencies ... [1s/1s] OK
- checking whether the package can be unloaded cleanly ... [1s/1s] OK
- checking whether the namespace can be loaded with stated dependencies ... [0s/0s] OK
- checking whether the namespace can be unloaded cleanly ... [0s/0s] OK
- checking loading without being on the library search path ... [1s/1s] OK
- checking whether startup messages can be suppressed ... [1s/1s] OK
- checking use of S3 registration ... OK
- checking dependencies in R code ... OK
- checking S3 generic/method consistency ... OK
- checking replacement functions ... OK
- checking foreign function calls ... OK
- checking R code for possible problems ... [32s/38s] OK
- checking Rd files ... [1s/2s] OK
- checking Rd metadata ... OK
- checking Rd line widths ... OK
- checking Rd cross-references ... OK
- checking for missing documentation entries ... OK
- checking for code/documentation mismatches ... OK
- checking Rd \usage sections ... OK
- checking Rd contents ... OK
- checking for unstated dependencies in examples ... OK
- checking contents of ‘data’ directory ... OK
- checking data for non-ASCII characters ... [0s/0s] OK
- checking LazyData ... OK
- checking data for ASCII and uncompressed saves ... OK
- checking R/sysdata.rda ... OK
- checking examples ... [39s/47s] OK
- checking PDF version of manual ... [16s/20s] OK
- checking HTML version of manual ... [9s/14s] NOTE
Found the following HTML validation problems:
dPhase.html:82:1 (dPhase.Rd:34): Warning: missing </ul> before </div>
dot-addAM.html:87:1 (dot-addAM.Rd:37): Warning: missing </ul> before </div>
dot-addFormants.html:203:1 (dot-addFormants.Rd:121): Warning: missing </ul> before </div>
dot-audSpectrogram.html:234:1 (dot-audSpectrogram.Rd:142): Warning: missing </ul> before </div>
dot-bandpass.html:109:1 (dot-bandpass.Rd:55): Warning: missing </ul> before </div>
dot-detectNLP.html:107:1 (dot-detectNLP.Rd:57): Warning: missing </ul> before </div>
dot-fade.html:100:1 (dot-fade.Rd:48): Warning: missing </ul> before </div>
dot-filterSoundByMS.html:128:1 (dot-filterSoundByMS.Rd:68): Warning: missing </ul> before </div>
dot-flatEnv.html:108:1 (dot-flatEnv.Rd:52): Warning: missing </ul> before </div>
dot-flatSpectrum.html:108:1 (dot-flatSpectrum.Rd:52): Warning: missing </ul> before </div>
dot-getDuration.html:57:1 (dot-getDuration.Rd:17): Warning: missing </ul> before </div>
dot-getLoudness.html:125:1 (dot-getLoudness.Rd:63): Warning: missing </ul> before </div>
dot-getPitchZc.html:90:1 (dot-getPitchZc.Rd:40): Warning: missing </ul> before </div>
dot-getRMS.html:124:1 (dot-getRMS.Rd:64): Warning: missing </ul> before </div>
dot-getSurprisal.html:207:1 (dot-getSurprisal.Rd:127): Warning: missing </ul> before </div>
dot-modulationSpectrum.html:246:1 (dot-modulationSpectrum.Rd:154): Warning: missing </ul> before </div>
dot-osc.html:111:1 (dot-osc.Rd:53): Warning: missing </ul> before </div>
dot-phasegram.html:171:1 (dot-phasegram.Rd:99): Warning: missing </ul> before </div>
dot-pitchDescriptives.html:85:1 (dot-pitchDescriptives.Rd:37): Warning: missing </ul> before </div>
dot-prosody.html:99:1 (dot-prosody.Rd:47): Warning: missing </ul> before </div>
dot-resample.html:104:1 (dot-resample.Rd:50): Warning: missing </ul> before </div>
dot-reverb.html:107:1 (dot-reverb.Rd:49): Warning: missing </ul> before </div>
dot-segment.html:226:1 (dot-segment.Rd:136): Warning: missing </ul> before </div>
dot-shiftFormants.html:117:1 (dot-shiftFormants.Rd:59): Warning: missing </ul> before </div>
dot-shiftPitch.html:144:1 (dot-shiftPitch.Rd:78): Warning: missing </ul> before </div>
dot-spectrogram.html:280:1 (dot-spectrogram.Rd:175): Warning: missing </ul> before </div>
dot-ssm.html:170:1 (dot-ssm.Rd:94): Warning: missing </ul> before </div>
dot-timeStretch.html:63:1 (dot-timeStretch.Rd:21): Warning: missing </ul> before </div>
getSurprisal_matrix.html:82:1 (getSurprisal_matrix.Rd:36): Warning: missing </ul> before </div>
isNeighbour_mod.html:47:1 (isNeighbour_mod.Rd:10): Warning: missing </ul> before </div>
istft_mod.html:65:1 (istft_mod.Rd:22): Warning: missing </ul> before </div>
jet.col.html:51:1 (jet.col.Rd:12): Warning: missing </ul> before </div>
logistic.html:46:1 (logistic.Rd:10): Warning: missing </ul> before </div>
logit.html:46:1 (logit.Rd:10): Warning: missing </ul> before </div>
morphFormants.html:51:1 (morphFormants.Rd:13): Warning: missing </ul> before </div>
naiveBayes_train.html:54:1 (naiveBayes_train.Rd:12): Warning: missing </ul> before </div>
nonLinearPrediction_mod.html:59:1 (nonLinearPrediction_mod.Rd:19): Warning: missing </ul> before </div>
phasePropagate.html:68:1 (phasePropagate.Rd:20): Warning: missing </ul> before </div>
readAudio.html:78:1 (readAudio.Rd:32): Warning: missing </ul> before </div>
summarizeAnalyze.html:58:1 (summarizeAnalyze.Rd:18): Warning: missing </ul> before </div>
- checking for non-standard things in the check directory ... OK
- DONE
Status: 1 NOTE