- using R Under development (unstable) (2025-10-20 r88955)
- using platform: x86_64-pc-linux-gnu
- R was compiled by
gcc-15 (Debian 15.2.0-4) 15.2.0
GNU Fortran (Debian 15.2.0-4) 15.2.0
- running under: Debian GNU/Linux forky/sid
- using session charset: UTF-8
- checking for file ‘shinytest2/DESCRIPTION’ ... OK
- this is package ‘shinytest2’ version ‘0.4.1’
- package encoding: UTF-8
- checking CRAN incoming feasibility ... [1s/2s] OK
- checking package namespace information ... OK
- checking package dependencies ... OK
- checking if this is a source package ... OK
- checking if there is a namespace ... OK
- checking for executable files ... OK
- checking for hidden files and directories ... OK
- checking for portable file names ... OK
- checking for sufficient/correct file permissions ... OK
- checking serialization versions ... OK
- checking whether package ‘shinytest2’ can be installed ... OK
See the install log for details.
- used C++ compiler: ‘g++-15 (Debian 15.2.0-4) 15.2.0’
- checking package directory ... OK
- checking for future file timestamps ... OK
- checking ‘build’ directory ... OK
- checking DESCRIPTION meta-information ... OK
- checking top-level files ... OK
- checking for left-over files ... OK
- checking index information ... OK
- checking package subdirectories ... OK
- checking code files for non-ASCII characters ... OK
- checking R files for syntax errors ... OK
- checking whether the package can be loaded ... [0s/1s] OK
- checking whether the package can be loaded with stated dependencies ... [0s/0s] OK
- checking whether the package can be unloaded cleanly ... [0s/1s] OK
- checking whether the namespace can be loaded with stated dependencies ... [0s/0s] OK
- checking whether the namespace can be unloaded cleanly ... [0s/1s] OK
- checking loading without being on the library search path ... [0s/1s] OK
- checking use of S3 registration ... OK
- checking dependencies in R code ... OK
- checking S3 generic/method consistency ... OK
- checking replacement functions ... OK
- checking foreign function calls ... OK
- checking R code for possible problems ... [8s/9s] OK
- checking Rd files ... [0s/1s] OK
- checking Rd metadata ... OK
- checking Rd line widths ... OK
- checking Rd cross-references ... OK
- checking for missing documentation entries ... OK
- checking for code/documentation mismatches ... OK
- checking Rd \usage sections ... OK
- checking Rd contents ... OK
- checking for unstated dependencies in examples ... OK
- checking line endings in C/C++/Fortran sources/headers ... OK
- checking pragmas in C/C++ headers and code ... OK
- checking compilation flags used ... OK
- checking compiled code ... OK
- checking installed files from ‘inst/doc’ ... OK
- checking files in ‘vignettes’ ... OK
- checking examples ... [1s/1s] OK
- checking for unstated dependencies in ‘tests’ ... OK
- checking tests ... [6s/10s] OK
Running ‘spelling.R’ [0s/0s]
Running ‘testthat.R’ [5s/9s]
- checking for unstated dependencies in vignettes ... OK
- checking package vignettes ... OK
- checking re-building of vignette outputs ... [15s/23s] OK
- checking PDF version of manual ... [8s/10s] OK
- checking HTML version of manual ... [2s/2s] NOTE
Found the following HTML validation problems:
AppDriver.html:460:1 (AppDriver.Rd:1193): Warning: <h5> anchor "Usage" already defined
AppDriver.html:466:1 (AppDriver.Rd:1197): Warning: <h5> anchor "Examples" already defined
AppDriver.html:494:1 (AppDriver.Rd:1220): Warning: <h5> anchor "Usage" already defined
AppDriver.html:505:1 (AppDriver.Rd:1229): Warning: <h5> anchor "Arguments" already defined
AppDriver.html:524:1 (AppDriver.Rd:1242): Warning: <h5> anchor "Examples" already defined
AppDriver.html:557:1 (AppDriver.Rd:1270): Warning: <h5> anchor "Usage" already defined
AppDriver.html:569:1 (AppDriver.Rd:1280): Warning: <h5> anchor "Arguments" already defined
AppDriver.html:596:1 (AppDriver.Rd:1301): Warning: <h5> anchor "Examples" already defined
AppDriver.html:625:1 (AppDriver.Rd:1325): Warning: <h5> anchor "Usage" already defined
AppDriver.html:631:1 (AppDriver.Rd:1329): Warning: <h5> anchor "Arguments" already defined
AppDriver.html:650:1 (AppDriver.Rd:1342): Warning: <h5> anchor "Examples" already defined
AppDriver.html:687:1 (AppDriver.Rd:1374): Warning: <h5> anchor "Usage" already defined
AppDriver.html:702:1 (AppDriver.Rd:1387): Warning: <h5> anchor "Arguments" already defined
AppDriver.html:756:1 (AppDriver.Rd:1428): Warning: <h5> anchor "Returns" already defined
AppDriver.html:763:1 (AppDriver.Rd:1431): Warning: <h5> anchor "Examples" already defined
AppDriver.html:823:1 (AppDriver.Rd:1486): Warning: <h5> anchor "Usage" already defined
AppDriver.html:835:1 (AppDriver.Rd:1496): Warning: <h5> anchor "Arguments" already defined
AppDriver.html:855:1 (AppDriver.Rd:1510): Warning: <h5> anchor "Returns" already defined
AppDriver.html:862:1 (AppDriver.Rd:1513): Warning: <h5> anchor "Examples" already defined
AppDriver.html:897:1 (AppDriver.Rd:1543): Warning: <h5> anchor "Usage" already defined
AppDriver.html:909:1 (AppDriver.Rd:1553): Warning: <h5> anchor "Arguments" already defined
AppDriver.html:934:1 (AppDriver.Rd:1572): Warning: <h5> anchor "Returns" already defined
AppDriver.html:941:1 (AppDriver.Rd:1575): Warning: <h5> anchor "Examples" already defined
AppDriver.html:1017:1 (AppDriver.Rd:1646): Warning: <h5> anchor "Usage" already defined
AppDriver.html:1030:1 (AppDriver.Rd:1657): Warning: <h5> anchor "Arguments" already defined
AppDriver.html:1061:1 (AppDriver.Rd:1682): Warning: <h5> anchor "Examples" already defined
AppDriver.html:1090:1 (AppDriver.Rd:1706): Warning: <h5> anchor "Usage" already defined
AppDriver.html:1096:1 (AppDriver.Rd:1710): Warning: <h5> anchor "Arguments" already defined
AppDriver.html:1111:1 (AppDriver.Rd:1719): Warning: <h5> anchor "Returns" already defined
AppDriver.html:1136:1 (AppDriver.Rd:1733): Warning: <h5> anchor "Examples" already defined
AppDriver.html:1179:1 (AppDriver.Rd:1771): Warning: <h5> anchor "Usage" already defined
AppDriver.html:1185:1 (AppDriver.Rd:1775): Warning: <h5> anchor "Arguments" already defined
AppDriver.html:1203:1 (AppDriver.Rd:1787): Warning: <h5> anchor "Examples" already defined
AppDriver.html:1233:1 (AppDriver.Rd:1812): Warning: <h5> anchor "Usage" already defined
AppDriver.html:1239:1 (AppDriver.Rd:1816): Warning: <h5> anchor "Arguments" already defined
AppDriver.html:1252:1 (AppDriver.Rd:1823): Warning: <h5> anchor "Returns" already defined
AppDriver.html:1259:1 (AppDriver.Rd:1826): Warning: <h5> anchor "Examples" already defined
AppDriver.html:1299:1 (AppDriver.Rd:1861): Warning: <h5> anchor "Usage" already defined
AppDriver.html:1305:1 (AppDriver.Rd:1865): Warning: <h5> anchor "Arguments" already defined
AppDriver.html:1326:1 (AppDriver.Rd:1880): Warning: <h5> anchor "Examples" already defined
AppDriver.html:1362:1 (AppDriver.Rd:1911): Warning: <h5> anchor "Usage" already defined
AppDriver.html:1368:1 (AppDriver.Rd:1915): Warning: <h5> anchor "Arguments" already defined
AppDriver.html:1386:1 (AppDriver.Rd:1927): Warning: <h5> anchor "Examples" already defined
AppDriver.html:1421:1 (AppDriver.Rd:1957): Warning: <h5> anchor "Usage" already defined
AppDriver.html:1434:1 (AppDriver.Rd:1968): Warning: <h5> anchor "Arguments" already defined
AppDriver.html:1460:1 (AppDriver.Rd:1988): Warning: <h5> anchor "Examples" already defined
AppDriver.html:1504:1 (AppDriver.Rd:2027): Warning: <h5> anchor "Usage" already defined
AppDriver.html:1515:1 (AppDriver.Rd:2036): Warning: <h5> anchor "Arguments" already defined
AppDriver.html:1538:1 (AppDriver.Rd:2053): Warning: <h5> anchor "Returns" already defined
AppDriver.html:1545:1 (AppDriver.Rd:2056): Warning: <h5> anchor "Examples" already defined
AppDriver.html:1608:1 (AppDriver.Rd:2114): Warning: <h5> anchor "Usage" already defined
AppDriver.html:1619:1 (AppDriver.Rd:2123): Warning: <h5> anchor "Arguments" already defined
AppDriver.html:1640:1 (AppDriver.Rd:2138): Warning: <h5> anchor "Examples" already defined
AppDriver.html:1702:1 (AppDriver.Rd:2186): Warning: <h5> anchor "Usage" already defined
AppDriver.html:1719:1 (AppDriver.Rd:2201): Warning: <h5> anchor "Arguments" already defined
AppDriver.html:1845:1 (AppDriver.Rd:2306): Warning: <h5> anchor "Examples" already defined
AppDriver.html:1925:1 (AppDriver.Rd:2381): Warning: <h5> anchor "Usage" already defined
AppDriver.html:1937:1 (AppDriver.Rd:2391): Warning: <h5> anchor "Arguments" already defined
AppDriver.html:2022:1 (AppDriver.Rd:2455): Warning: <h5> anchor "Examples" already defined
AppDriver.html:2077:1 (AppDriver.Rd:2500): Warning: <h5> anchor "Usage" already defined
AppDriver.html:2083:1 (AppDriver.Rd:2504): Warning: <h5> anchor "Arguments" already defined
AppDriver.html:2100:1 (AppDriver.Rd:2515): Warning: <h5> anchor "Returns" already defined
AppDriver.html:2108:1 (AppDriver.Rd:2519): Warning: <h5> anchor "Examples" already defined
AppDriver.html:2163:1 (AppDriver.Rd:2569): Warning: <h5> anchor "Usage" already defined
AppDriver.html:2177:1 (AppDriver.Rd:2581): Warning: <h5> anchor "Arguments" already defined
AppDriver.html:2204:1 (AppDriver.Rd:2602): Warning: <h5> anchor "Returns" already defined
AppDriver.html:2211:1 (AppDriver.Rd:2605): Warning: <h5> anchor "Examples" already defined
AppDriver.html:2273:1 (AppDriver.Rd:2662): Warning: <h5> anchor "Usage" already defined
AppDriver.html:2279:1 (AppDriver.Rd:2666): Warning: <h5> anchor "Arguments" already defined
AppDriver.html:2299:1 (AppDriver.Rd:2680): Warning: <h5> anchor "Returns" already defined
AppDriver.html:2307:1 (AppDriver.Rd:2684): Warning: <h5> anchor "Examples" already defined
AppDriver.html:2348:1 (AppDriver.Rd:2720): Warning: <h5> anchor "Usage" already defined
AppDriver.html:2354:1 (AppDriver.Rd:2724): Warning: <h5> anchor "Examples" already defined
AppDriver.html:2401:1 (AppDriver.Rd:2766): Warning: <h5> anchor "Usage" already defined
AppDriver.html:2407:1 (AppDriver.Rd:2770): Warning: <h5> anchor "Returns" already defined
AppDriver.html:2416:1 (AppDriver.Rd:2775): Warning: <h5> anchor "Examples" already defined
AppDriver.html:2441:1 (AppDriver.Rd:2795): Warning: <h5> anchor "Usage" already defined
AppDriver.html:2447:1 (AppDriver.Rd:2799): Warning: <h5> anchor "Returns" already defined
AppDriver.html:2454:1 (AppDriver.Rd:2802): Warning: <h5> anchor "Examples" already defined
AppDriver.html:2481:1 (AppDriver.Rd:2824): Warning: <h5> anchor "Usage" already defined
AppDriver.html:2487:1 (AppDriver.Rd:2828): Warning: <h5> anchor "Examples" already defined
AppDriver.html:2516:1 (AppDriver.Rd:2852): Warning: <h5> anchor "Usage" already defined
AppDriver.html:2522:1 (AppDriver.Rd:2856): Warning: <h5> anchor "Arguments" already defined
AppDriver.html:2539:1 (AppDriver.Rd:2867): Warning: <h5> anchor "Examples" already defined
AppDriver.html:2580:1 (AppDriver.Rd:2903): Warning: <h5> anchor "Usage" already defined
AppDriver.html:2586:1 (AppDriver.Rd:2907): Warning: <h5> anchor "Returns" already defined
AppDriver.html:2593:1 (AppDriver.Rd:2910): Warning: <h5> anchor "Examples" already defined
AppDriver.html:2629:1 (AppDriver.Rd:2941): Warning: <h5> anchor "Usage" already defined
AppDriver.html:2635:1 (AppDriver.Rd:2945): Warning: <h5> anchor "Returns" already defined
AppDriver.html:2643:1 (AppDriver.Rd:2949): Warning: <h5> anchor "Examples" already defined
AppDriver.html:2675:1 (AppDriver.Rd:2976): Warning: <h5> anchor "Usage" already defined
AppDriver.html:2681:1 (AppDriver.Rd:2980): Warning: <h5> anchor "Returns" already defined
AppDriver.html:2734:1 (AppDriver.Rd:3006): Warning: <h5> anchor "Examples" already defined
AppDriver.html:2857:1 (AppDriver.Rd:3124): Warning: <h5> anchor "Usage" already defined
AppDriver.html:2863:1 (AppDriver.Rd:3128): Warning: <h5> anchor "Arguments" already defined
AppDriver.html:2876:1 (AppDriver.Rd:3135): Warning: <h5> anchor "Examples" already defined
AppDriver.html:2924:1 (AppDriver.Rd:3171): Warning: <h5> anchor "Usage" already defined
AppDriver.html:2930:1 (AppDriver.Rd:3175): Warning: <h5> anchor "Arguments" already defined
AppDriver.html:2947:1 (AppDriver.Rd:3186): Warning: <h5> anchor "Returns" already defined
AppDriver.html:2955:1 (AppDriver.Rd:3190): Warning: <h5> anchor "Examples" already defined
register_input_processor.html:58:1 (register_input_processor.Rd:16): Warning: missing </ul> before </div>
- checking for non-standard things in the check directory ... OK
- DONE
Status: 1 NOTE