- using R Under development (unstable) (2025-10-19 r88945)
- using platform: x86_64-pc-linux-gnu
- R was compiled by
gcc-15 (Debian 15.2.0-4) 15.2.0
GNU Fortran (Debian 15.2.0-4) 15.2.0
- running under: Debian GNU/Linux forky/sid
- using session charset: UTF-8
- checking for file ‘shiny.i18n/DESCRIPTION’ ... OK
- this is package ‘shiny.i18n’ version ‘0.3.0’
- package encoding: UTF-8
- checking CRAN incoming feasibility ... [1s/1s] OK
- checking package namespace information ... OK
- checking package dependencies ... OK
- checking if this is a source package ... OK
- checking if there is a namespace ... OK
- checking for executable files ... OK
- checking for hidden files and directories ... OK
- checking for portable file names ... OK
- checking for sufficient/correct file permissions ... OK
- checking serialization versions ... OK
- checking whether package ‘shiny.i18n’ can be installed ... OK
See the install log for details.
- checking package directory ... OK
- checking for future file timestamps ... OK
- checking DESCRIPTION meta-information ... OK
- checking top-level files ... OK
- checking for left-over files ... OK
- checking index information ... OK
- checking package subdirectories ... OK
- checking code files for non-ASCII characters ... OK
- checking R files for syntax errors ... OK
- checking whether the package can be loaded ... [1s/1s] OK
- checking whether the package can be loaded with stated dependencies ... [1s/1s] OK
- checking whether the package can be unloaded cleanly ... [1s/1s] OK
- checking whether the namespace can be loaded with stated dependencies ... [1s/1s] OK
- checking whether the namespace can be unloaded cleanly ... [1s/1s] OK
- checking loading without being on the library search path ... [1s/1s] OK
- checking whether startup messages can be suppressed ... [1s/1s] OK
- checking use of S3 registration ... OK
- checking dependencies in R code ... OK
- checking S3 generic/method consistency ... OK
- checking replacement functions ... OK
- checking foreign function calls ... OK
- checking R code for possible problems ... [4s/6s] OK
- checking Rd files ... [0s/0s] OK
- checking Rd metadata ... OK
- checking Rd line widths ... OK
- checking Rd cross-references ... OK
- checking for missing documentation entries ... OK
- checking for code/documentation mismatches ... OK
- checking Rd \usage sections ... OK
- checking Rd contents ... OK
- checking for unstated dependencies in examples ... OK
- checking examples ... [1s/1s] OK
- checking for unstated dependencies in ‘tests’ ... OK
- checking tests ... [1s/2s] OK
Running ‘testthat.R’ [1s/1s]
- checking PDF version of manual ... [5s/7s] OK
- checking HTML version of manual ... [1s/1s] NOTE
Found the following HTML validation problems:
Translator.html:149:1 (Translator.Rd:99): Warning: <h5> anchor "Usage" already defined
Translator.html:165:1 (Translator.Rd:109): Warning: <h5> anchor "Usage" already defined
Translator.html:181:1 (Translator.Rd:119): Warning: <h5> anchor "Usage" already defined
Translator.html:197:1 (Translator.Rd:129): Warning: <h5> anchor "Usage" already defined
Translator.html:213:1 (Translator.Rd:139): Warning: <h5> anchor "Usage" already defined
Translator.html:219:1 (Translator.Rd:143): Warning: <h5> anchor "Arguments" already defined
Translator.html:245:1 (Translator.Rd:159): Warning: <h5> anchor "Usage" already defined
Translator.html:251:1 (Translator.Rd:163): Warning: <h5> anchor "Arguments" already defined
Translator.html:277:1 (Translator.Rd:179): Warning: <h5> anchor "Usage" already defined
Translator.html:283:1 (Translator.Rd:183): Warning: <h5> anchor "Arguments" already defined
Translator.html:306:1 (Translator.Rd:196): Warning: <h5> anchor "Usage" already defined
Translator.html:312:1 (Translator.Rd:200): Warning: <h5> anchor "Arguments" already defined
Translator.html:335:1 (Translator.Rd:213): Warning: <h5> anchor "Usage" already defined
Translator.html:341:1 (Translator.Rd:217): Warning: <h5> anchor "Arguments" already defined
Translator.html:372:1 (Translator.Rd:234): Warning: <h5> anchor "Usage" already defined
Translator.html:378:1 (Translator.Rd:238): Warning: <h5> anchor "Arguments" already defined
Translator.html:405:1 (Translator.Rd:255): Warning: <h5> anchor "Usage" already defined
Translator.html:411:1 (Translator.Rd:259): Warning: <h5> anchor "Arguments" already defined
Translator.html:438:1 (Translator.Rd:276): Warning: <h5> anchor "Usage" already defined
Translator.html:454:1 (Translator.Rd:286): Warning: <h5> anchor "Usage" already defined
Translator.html:460:1 (Translator.Rd:290): Warning: <h5> anchor "Arguments" already defined
create_translation_file.html:62:1 (create_translation_file.Rd:19): Warning: missing </ul> before </div>
dot-onLoad.html:50:1 (dot-onLoad.Rd:12): Warning: missing </ul> before </div>
save_to_csv.html:52:1 (save_to_csv.Rd:13): Warning: missing </ul> before </div>
save_to_json.html:52:1 (save_to_json.Rd:13): Warning: missing </ul> before </div>
translate_with_google_cloud.html:52:1 (translate_with_google_cloud.Rd:13): Warning: missing </ul> before </div>
- checking for non-standard things in the check directory ... OK
- DONE
Status: 1 NOTE