- using R Under development (unstable) (2025-10-19 r88945)
- using platform: x86_64-pc-linux-gnu
- R was compiled by
gcc-15 (Debian 15.2.0-4) 15.2.0
GNU Fortran (Debian 15.2.0-4) 15.2.0
- running under: Debian GNU/Linux forky/sid
- using session charset: UTF-8
- checking for file ‘semPower/DESCRIPTION’ ... OK
- checking extension type ... Package
- this is package ‘semPower’ version ‘2.1.3’
- package encoding: UTF-8
- checking CRAN incoming feasibility ... [1s/1s] OK
- checking package namespace information ... OK
- checking package dependencies ... OK
- checking if this is a source package ... OK
- checking if there is a namespace ... OK
- checking for executable files ... OK
- checking for hidden files and directories ... OK
- checking for portable file names ... OK
- checking for sufficient/correct file permissions ... OK
- checking serialization versions ... OK
- checking whether package ‘semPower’ can be installed ... OK
See the install log for details.
- checking package directory ... OK
- checking for future file timestamps ... OK
- checking ‘build’ directory ... OK
- checking DESCRIPTION meta-information ... OK
- checking top-level files ... OK
- checking for left-over files ... OK
- checking index information ... OK
- checking package subdirectories ... OK
- checking code files for non-ASCII characters ... OK
- checking R files for syntax errors ... OK
- checking whether the package can be loaded ... [0s/0s] OK
- checking whether the package can be loaded with stated dependencies ... [0s/0s] OK
- checking whether the package can be unloaded cleanly ... [0s/0s] OK
- checking whether the namespace can be loaded with stated dependencies ... [0s/0s] OK
- checking whether the namespace can be unloaded cleanly ... [0s/0s] OK
- checking loading without being on the library search path ... [0s/0s] OK
- checking whether startup messages can be suppressed ... [0s/0s] OK
- checking use of S3 registration ... OK
- checking dependencies in R code ... OK
- checking S3 generic/method consistency ... OK
- checking replacement functions ... OK
- checking foreign function calls ... OK
- checking R code for possible problems ... [27s/37s] OK
- checking Rd files ... [1s/1s] OK
- checking Rd metadata ... OK
- checking Rd line widths ... OK
- checking Rd cross-references ... OK
- checking for missing documentation entries ... OK
- checking for code/documentation mismatches ... OK
- checking Rd \usage sections ... OK
- checking Rd contents ... OK
- checking for unstated dependencies in examples ... OK
- checking installed files from ‘inst/doc’ ... OK
- checking files in ‘vignettes’ ... OK
- checking examples ... [1s/1s] OK
- checking for unstated dependencies in vignettes ... OK
- checking package vignettes ... OK
- checking re-building of vignette outputs ... [1s/1s] OK
- checking PDF version of manual ... [9s/16s] OK
- checking HTML version of manual ... [4s/6s] NOTE
Found the following HTML validation problems:
checkBounded.html:58:1 (checkBounded.Rd:16): Warning: missing </ul> before </div>
checkEllipsis.html:46:1 (checkEllipsis.Rd:10): Warning: missing </ul> before </div>
checkPositive.html:50:1 (checkPositive.Rd:12): Warning: missing </ul> before </div>
checkPositiveDefinite.html:54:1 (checkPositiveDefinite.Rd:14): Warning: missing </ul> before </div>
checkSquare.html:50:1 (checkSquare.Rd:12): Warning: missing </ul> before </div>
checkSymmetricSquare.html:50:1 (checkSymmetricSquare.Rd:12): Warning: missing </ul> before </div>
semPower.showPlot.html:62:1 (semPower.showPlot.Rd:18): Warning: missing </ul> before </div>
summary.semPower.aPriori.html:51:1 (summary.semPower.aPriori.Rd:12): Warning: missing </ul> before </div>
summary.semPower.compromise.html:51:1 (summary.semPower.compromise.Rd:12): Warning: missing </ul> before </div>
summary.semPower.postHoc.html:51:1 (summary.semPower.postHoc.Rd:12): Warning: missing </ul> before </div>
validateInput.html:158:1 (validateInput.Rd:78): Warning: missing </ul> before </div>
- checking for non-standard things in the check directory ... OK
- DONE
Status: 1 NOTE