- using R Under development (unstable) (2025-10-19 r88945)
- using platform: x86_64-pc-linux-gnu
- R was compiled by
gcc-15 (Debian 15.2.0-4) 15.2.0
GNU Fortran (Debian 15.2.0-4) 15.2.0
- running under: Debian GNU/Linux forky/sid
- using session charset: UTF-8
- checking for file ‘selectr/DESCRIPTION’ ... OK
- checking extension type ... Package
- this is package ‘selectr’ version ‘0.4-2’
- checking CRAN incoming feasibility ... [1s/2s] OK
- checking package namespace information ... OK
- checking package dependencies ... OK
- checking if this is a source package ... OK
- checking if there is a namespace ... OK
- checking for executable files ... OK
- checking for hidden files and directories ... OK
- checking for portable file names ... OK
- checking for sufficient/correct file permissions ... OK
- checking serialization versions ... OK
- checking whether package ‘selectr’ can be installed ... OK
See the install log for details.
- checking package directory ... OK
- checking for future file timestamps ... OK
- checking DESCRIPTION meta-information ... OK
- checking top-level files ... NOTE
Found the following validation problem for the NEWS.Rd HTML conversion:
NEWS.html:393:1 (inst/NEWS.Rd:274): Warning: missing </ul> before </div>
NEWS.html:67:1 (inst/NEWS.Rd:37): Warning: <h4> anchor "MINOR-CHANGES" already defined
NEWS.html:96:1 (inst/NEWS.Rd:61): Warning: <h4> anchor "BUG-FIXES" already defined
NEWS.html:114:1 (inst/NEWS.Rd:75): Warning: <h4> anchor "MINOR-CHANGES" already defined
NEWS.html:127:1 (inst/NEWS.Rd:85): Warning: <h4> anchor "BUG-FIXES" already defined
NEWS.html:146:1 (inst/NEWS.Rd:99): Warning: <h4> anchor "MINOR-CHANGES" already defined
NEWS.html:166:1 (inst/NEWS.Rd:115): Warning: <h4> anchor "BUG-FIXES" already defined
NEWS.html:205:1 (inst/NEWS.Rd:144): Warning: <h4> anchor "BUG-FIXES" already defined
NEWS.html:221:1 (inst/NEWS.Rd:155): Warning: <h4> anchor "MINOR-CHANGES" already defined
NEWS.html:236:1 (inst/NEWS.Rd:165): Warning: <h4> anchor "BUG-FIXES" already defined
NEWS.html:258:1 (inst/NEWS.Rd:181): Warning: <h4> anchor "MINOR-CHANGES" already defined
NEWS.html:299:1 (inst/NEWS.Rd:211): Warning: <h4> anchor "BUG-FIXES" already defined
NEWS.html:328:1 (inst/NEWS.Rd:231): Warning: <h4> anchor "BUG-FIXES" already defined
NEWS.html:351:1 (inst/NEWS.Rd:247): Warning: <h4> anchor "BUG-FIXES" already defined
NEWS.html:368:1 (inst/NEWS.Rd:259): Warning: <h4> anchor "NEW-FEATURES" already defined
- checking for left-over files ... OK
- checking index information ... OK
- checking package subdirectories ... OK
- checking code files for non-ASCII characters ... OK
- checking R files for syntax errors ... OK
- checking whether the package can be loaded ... [0s/1s] OK
- checking whether the package can be loaded with stated dependencies ... [0s/0s] OK
- checking whether the package can be unloaded cleanly ... [0s/0s] OK
- checking whether the namespace can be loaded with stated dependencies ... [0s/0s] OK
- checking whether the namespace can be unloaded cleanly ... [0s/1s] OK
- checking loading without being on the library search path ... [0s/1s] OK
- checking whether startup messages can be suppressed ... [0s/1s] OK
- checking use of S3 registration ... OK
- checking dependencies in R code ... OK
- checking S3 generic/method consistency ... OK
- checking replacement functions ... OK
- checking foreign function calls ... OK
- checking R code for possible problems ... [5s/7s] OK
- checking Rd files ... [0s/0s] OK
- checking Rd metadata ... OK
- checking Rd line widths ... OK
- checking Rd cross-references ... OK
- checking for missing documentation entries ... OK
- checking for code/documentation mismatches ... OK
- checking Rd \usage sections ... OK
- checking Rd contents ... OK
- checking for unstated dependencies in examples ... OK
- checking examples ... [1s/1s] OK
- checking for unstated dependencies in ‘tests’ ... OK
- checking tests ... [6s/7s] OK
Running ‘test-all.R’ [6s/7s]
- checking PDF version of manual ... [4s/6s] OK
- checking HTML version of manual ... [0s/0s] OK
- checking for non-standard things in the check directory ... OK
- DONE
Status: 1 NOTE