- using R Under development (unstable) (2025-10-19 r88945)
- using platform: x86_64-pc-linux-gnu
- R was compiled by
gcc-15 (Debian 15.2.0-4) 15.2.0
GNU Fortran (Debian 15.2.0-4) 15.2.0
- running under: Debian GNU/Linux forky/sid
- using session charset: UTF-8
- checking for file ‘sbm/DESCRIPTION’ ... OK
- this is package ‘sbm’ version ‘0.4.7’
- package encoding: UTF-8
- checking CRAN incoming feasibility ... [1s/2s] OK
- checking package namespace information ... OK
- checking package dependencies ... OK
- checking if this is a source package ... OK
- checking if there is a namespace ... OK
- checking for executable files ... OK
- checking for hidden files and directories ... OK
- checking for portable file names ... OK
- checking for sufficient/correct file permissions ... OK
- checking whether package ‘sbm’ can be installed ... OK
See the install log for details.
- used C++ compiler: ‘g++-15 (Debian 15.2.0-4) 15.2.0’
- checking package directory ... OK
- checking for future file timestamps ... OK
- checking ‘build’ directory ... OK
- checking DESCRIPTION meta-information ... OK
- checking top-level files ... OK
- checking for left-over files ... OK
- checking index information ... OK
- checking package subdirectories ... OK
- checking code files for non-ASCII characters ... OK
- checking R files for syntax errors ... OK
- checking whether the package can be loaded ... [3s/3s] OK
- checking whether the package can be loaded with stated dependencies ... [3s/3s] OK
- checking whether the package can be unloaded cleanly ... [2s/3s] OK
- checking whether the namespace can be loaded with stated dependencies ... [2s/3s] OK
- checking whether the namespace can be unloaded cleanly ... [3s/3s] OK
- checking loading without being on the library search path ... [3s/3s] OK
- checking use of S3 registration ... OK
- checking dependencies in R code ... OK
- checking S3 generic/method consistency ... OK
- checking replacement functions ... OK
- checking foreign function calls ... OK
- checking R code for possible problems ... [16s/20s] OK
- checking Rd files ... [0s/1s] OK
- checking Rd metadata ... OK
- checking Rd line widths ... OK
- checking Rd cross-references ... OK
- checking for missing documentation entries ... OK
- checking for code/documentation mismatches ... OK
- checking Rd \usage sections ... OK
- checking Rd contents ... OK
- checking for unstated dependencies in examples ... OK
- checking contents of ‘data’ directory ... OK
- checking data for non-ASCII characters ... [0s/1s] OK
- checking LazyData ... OK
- checking data for ASCII and uncompressed saves ... OK
- checking line endings in C/C++/Fortran sources/headers ... OK
- checking line endings in Makefiles ... OK
- checking compilation flags in Makevars ... OK
- checking for GNU extensions in Makefiles ... OK
- checking for portable use of $(BLAS_LIBS) and $(LAPACK_LIBS) ... OK
- checking use of PKG_*FLAGS in Makefiles ... OK
- checking use of SHLIB_OPENMP_*FLAGS in Makefiles ... OK
- checking pragmas in C/C++ headers and code ... OK
- checking compilation flags used ... OK
- checking compiled code ... OK
- checking installed files from ‘inst/doc’ ... OK
- checking files in ‘vignettes’ ... OK
- checking examples ... [26s/27s] OK
Examples with CPU (user + system) or elapsed time > 5s
user system elapsed
estimateBipartiteSBM 4.419 4.469 8.499
estimateSimpleSBM 4.216 2.563 6.592
- checking for unstated dependencies in ‘tests’ ... OK
- checking tests ... [143s/147s] OK
Running ‘spelling.R’ [0s/0s]
Running ‘testthat.R’ [142s/146s]
- checking for unstated dependencies in vignettes ... OK
- checking package vignettes ... OK
- checking re-building of vignette outputs ... [84s/108s] OK
- checking PDF version of manual ... [6s/8s] OK
- checking HTML version of manual ... [2s/4s] NOTE
Found the following HTML validation problems:
BipartiteSBM.html:361:1 (BipartiteSBM.Rd:214): Warning: missing </ul> before </div>
BipartiteSBM.html:162:1 (BipartiteSBM.Rd:99): Warning: <h5> anchor "Usage" already defined
BipartiteSBM.html:168:1 (BipartiteSBM.Rd:103): Warning: <h5> anchor "Arguments" already defined
BipartiteSBM.html:198:1 (BipartiteSBM.Rd:119): Warning: <h5> anchor "Usage" already defined
BipartiteSBM.html:204:1 (BipartiteSBM.Rd:123): Warning: <h5> anchor "Arguments" already defined
BipartiteSBM.html:217:1 (BipartiteSBM.Rd:130): Warning: <h5> anchor "Returns" already defined
BipartiteSBM.html:234:1 (BipartiteSBM.Rd:139): Warning: <h5> anchor "Usage" already defined
BipartiteSBM.html:240:1 (BipartiteSBM.Rd:143): Warning: <h5> anchor "Arguments" already defined
BipartiteSBM.html:265:1 (BipartiteSBM.Rd:158): Warning: <h5> anchor "Usage" already defined
BipartiteSBM.html:271:1 (BipartiteSBM.Rd:162): Warning: <h5> anchor "Arguments" already defined
BipartiteSBM.html:294:1 (BipartiteSBM.Rd:175): Warning: <h5> anchor "Usage" already defined
BipartiteSBM.html:304:1 (BipartiteSBM.Rd:183): Warning: <h5> anchor "Arguments" already defined
BipartiteSBM.html:321:1 (BipartiteSBM.Rd:194): Warning: <h5> anchor "Returns" already defined
BipartiteSBM.html:338:1 (BipartiteSBM.Rd:203): Warning: <h5> anchor "Usage" already defined
BipartiteSBM.html:344:1 (BipartiteSBM.Rd:207): Warning: <h5> anchor "Arguments" already defined
BipartiteSBM_fit.html:279:1 (BipartiteSBM_fit.Rd:161): Warning: missing </ul> before </div>
BipartiteSBM_fit.html:152:1 (BipartiteSBM_fit.Rd:88): Warning: <h5> anchor "Usage" already defined
BipartiteSBM_fit.html:158:1 (BipartiteSBM_fit.Rd:92): Warning: <h5> anchor "Arguments" already defined
BipartiteSBM_fit.html:182:1 (BipartiteSBM_fit.Rd:106): Warning: <h5> anchor "Usage" already defined
BipartiteSBM_fit.html:188:1 (BipartiteSBM_fit.Rd:110): Warning: <h5> anchor "Arguments" already defined
BipartiteSBM_fit.html:211:1 (BipartiteSBM_fit.Rd:123): Warning: <h5> anchor "Usage" already defined
BipartiteSBM_fit.html:227:1 (BipartiteSBM_fit.Rd:133): Warning: <h5> anchor "Usage" already defined
BipartiteSBM_fit.html:233:1 (BipartiteSBM_fit.Rd:137): Warning: <h5> anchor "Arguments" already defined
BipartiteSBM_fit.html:256:1 (BipartiteSBM_fit.Rd:150): Warning: <h5> anchor "Usage" already defined
BipartiteSBM_fit.html:262:1 (BipartiteSBM_fit.Rd:154): Warning: <h5> anchor "Arguments" already defined
MultipartiteSBM.html:262:1 (MultipartiteSBM.Rd:161): Warning: missing </ul> before </div>
MultipartiteSBM.html:157:1 (MultipartiteSBM.Rd:98): Warning: <h5> anchor "Usage" already defined
MultipartiteSBM.html:163:1 (MultipartiteSBM.Rd:102): Warning: <h5> anchor "Arguments" already defined
MultipartiteSBM.html:186:1 (MultipartiteSBM.Rd:115): Warning: <h5> anchor "Usage" already defined
MultipartiteSBM.html:202:1 (MultipartiteSBM.Rd:125): Warning: <h5> anchor "Usage" already defined
MultipartiteSBM.html:212:1 (MultipartiteSBM.Rd:133): Warning: <h5> anchor "Arguments" already defined
MultipartiteSBM.html:239:1 (MultipartiteSBM.Rd:150): Warning: <h5> anchor "Usage" already defined
MultipartiteSBM.html:245:1 (MultipartiteSBM.Rd:154): Warning: <h5> anchor "Arguments" already defined
MultipartiteSBM_fit.html:268:1 (MultipartiteSBM_fit.Rd:146): Warning: missing </ul> before </div>
MultipartiteSBM_fit.html:134:1 (MultipartiteSBM_fit.Rd:70): Warning: <h5> anchor "Usage" already defined
MultipartiteSBM_fit.html:140:1 (MultipartiteSBM_fit.Rd:74): Warning: <h5> anchor "Arguments" already defined
MultipartiteSBM_fit.html:163:1 (MultipartiteSBM_fit.Rd:87): Warning: <h5> anchor "Usage" already defined
MultipartiteSBM_fit.html:187:1 (MultipartiteSBM_fit.Rd:101): Warning: <h5> anchor "Usage" already defined
MultipartiteSBM_fit.html:193:1 (MultipartiteSBM_fit.Rd:105): Warning: <h5> anchor "Arguments" already defined
MultipartiteSBM_fit.html:216:1 (MultipartiteSBM_fit.Rd:118): Warning: <h5> anchor "Usage" already defined
MultipartiteSBM_fit.html:222:1 (MultipartiteSBM_fit.Rd:122): Warning: <h5> anchor "Arguments" already defined
MultipartiteSBM_fit.html:245:1 (MultipartiteSBM_fit.Rd:135): Warning: <h5> anchor "Usage" already defined
MultipartiteSBM_fit.html:251:1 (MultipartiteSBM_fit.Rd:139): Warning: <h5> anchor "Arguments" already defined
MultiplexSBM_fit.html:302:1 (MultiplexSBM_fit.Rd:167): Warning: missing </ul> before </div>
MultiplexSBM_fit.html:161:1 (MultiplexSBM_fit.Rd:84): Warning: <h5> anchor "Usage" already defined
MultiplexSBM_fit.html:167:1 (MultiplexSBM_fit.Rd:88): Warning: <h5> anchor "Arguments" already defined
MultiplexSBM_fit.html:190:1 (MultiplexSBM_fit.Rd:101): Warning: <h5> anchor "Usage" already defined
MultiplexSBM_fit.html:200:1 (MultiplexSBM_fit.Rd:109): Warning: <h5> anchor "Arguments" already defined
MultiplexSBM_fit.html:227:1 (MultiplexSBM_fit.Rd:126): Warning: <h5> anchor "Usage" already defined
MultiplexSBM_fit.html:233:1 (MultiplexSBM_fit.Rd:130): Warning: <h5> anchor "Arguments" already defined
MultiplexSBM_fit.html:256:1 (MultiplexSBM_fit.Rd:143): Warning: <h5> anchor "Usage" already defined
MultiplexSBM_fit.html:279:1 (MultiplexSBM_fit.Rd:156): Warning: <h5> anchor "Usage" already defined
MultiplexSBM_fit.html:285:1 (MultiplexSBM_fit.Rd:160): Warning: <h5> anchor "Arguments" already defined
SBM.html:257:1 (SBM.Rd:155): Warning: missing </ul> before </div>
SBM.html:153:1 (SBM.Rd:97): Warning: <h5> anchor "Usage" already defined
SBM.html:159:1 (SBM.Rd:101): Warning: <h5> anchor "Arguments" already defined
SBM.html:189:1 (SBM.Rd:117): Warning: <h5> anchor "Usage" already defined
SBM.html:195:1 (SBM.Rd:121): Warning: <h5> anchor "Arguments" already defined
SBM.html:218:1 (SBM.Rd:134): Warning: <h5> anchor "Usage" already defined
SBM.html:234:1 (SBM.Rd:144): Warning: <h5> anchor "Usage" already defined
SBM.html:240:1 (SBM.Rd:148): Warning: <h5> anchor "Arguments" already defined
SimpleSBM.html:371:1 (SimpleSBM.Rd:220): Warning: missing </ul> before </div>
SimpleSBM.html:165:1 (SimpleSBM.Rd:102): Warning: <h5> anchor "Usage" already defined
SimpleSBM.html:171:1 (SimpleSBM.Rd:106): Warning: <h5> anchor "Arguments" already defined
SimpleSBM.html:201:1 (SimpleSBM.Rd:122): Warning: <h5> anchor "Usage" already defined
SimpleSBM.html:207:1 (SimpleSBM.Rd:126): Warning: <h5> anchor "Arguments" already defined
SimpleSBM.html:220:1 (SimpleSBM.Rd:133): Warning: <h5> anchor "Returns" already defined
SimpleSBM.html:237:1 (SimpleSBM.Rd:142): Warning: <h5> anchor "Usage" already defined
SimpleSBM.html:243:1 (SimpleSBM.Rd:146): Warning: <h5> anchor "Arguments" already defined
SimpleSBM.html:258:1 (SimpleSBM.Rd:155): Warning: <h5> anchor "Returns" already defined
SimpleSBM.html:275:1 (SimpleSBM.Rd:164): Warning: <h5> anchor "Usage" already defined
SimpleSBM.html:281:1 (SimpleSBM.Rd:168): Warning: <h5> anchor "Arguments" already defined
SimpleSBM.html:304:1 (SimpleSBM.Rd:181): Warning: <h5> anchor "Usage" already defined
SimpleSBM.html:314:1 (SimpleSBM.Rd:189): Warning: <h5> anchor "Arguments" already defined
SimpleSBM.html:331:1 (SimpleSBM.Rd:200): Warning: <h5> anchor "Returns" already defined
SimpleSBM.html:348:1 (SimpleSBM.Rd:209): Warning: <h5> anchor "Usage" already defined
SimpleSBM.html:354:1 (SimpleSBM.Rd:213): Warning: <h5> anchor "Arguments" already defined
SimpleSBM_fit.html:282:1 (SimpleSBM_fit.Rd:164): Warning: missing </ul> before </div>
SimpleSBM_fit.html:155:1 (SimpleSBM_fit.Rd:91): Warning: <h5> anchor "Usage" already defined
SimpleSBM_fit.html:161:1 (SimpleSBM_fit.Rd:95): Warning: <h5> anchor "Arguments" already defined
SimpleSBM_fit.html:185:1 (SimpleSBM_fit.Rd:109): Warning: <h5> anchor "Usage" already defined
SimpleSBM_fit.html:191:1 (SimpleSBM_fit.Rd:113): Warning: <h5> anchor "Arguments" already defined
SimpleSBM_fit.html:214:1 (SimpleSBM_fit.Rd:126): Warning: <h5> anchor "Usage" already defined
SimpleSBM_fit.html:230:1 (SimpleSBM_fit.Rd:136): Warning: <h5> anchor "Usage" already defined
SimpleSBM_fit.html:236:1 (SimpleSBM_fit.Rd:140): Warning: <h5> anchor "Arguments" already defined
SimpleSBM_fit.html:259:1 (SimpleSBM_fit.Rd:153): Warning: <h5> anchor "Usage" already defined
SimpleSBM_fit.html:265:1 (SimpleSBM_fit.Rd:157): Warning: <h5> anchor "Arguments" already defined
- checking for non-standard things in the check directory ... OK
- DONE
Status: 1 NOTE