- using R Under development (unstable) (2023-06-07 r84521)
- using platform: x86_64-pc-linux-gnu
- R was compiled by
gcc-12 (Debian 12.2.0-14) 12.2.0
GNU Fortran (Debian 12.2.0-14) 12.2.0
- running under: Debian GNU/Linux 12 (bookworm)
- using session charset: UTF-8
- checking for file ‘rtop/DESCRIPTION’ ... OK
- checking extension type ... Package
- this is package ‘rtop’ version ‘0.6-6’
- package encoding: UTF-8
- checking package namespace information ... OK
- checking package dependencies ... OK
- checking if this is a source package ... OK
- checking if there is a namespace ... OK
- checking for executable files ... OK
- checking for hidden files and directories ... OK
- checking for portable file names ... OK
- checking for sufficient/correct file permissions ... OK
- checking serialization versions ... OK
- checking whether package ‘rtop’ can be installed ... OK
- used C compiler: ‘gcc-12 (Debian 12.2.0-14) 12.2.0’
- used Fortran compiler: ‘GNU Fortran (Debian 12.2.0-14) 12.2.0’
- checking package directory ... OK
- checking for future file timestamps ... OK
- checking DESCRIPTION meta-information ... OK
- checking top-level files ... OK
- checking for left-over files ... OK
- checking index information ... OK
- checking package subdirectories ... OK
- checking R files for non-ASCII characters ... OK
- checking R files for syntax errors ... OK
- checking whether the package can be loaded ... [3s/4s] OK
- checking whether the package can be loaded with stated dependencies ... [2s/4s] OK
- checking whether the package can be unloaded cleanly ... [2s/3s] OK
- checking whether the namespace can be loaded with stated dependencies ... [2s/4s] OK
- checking whether the namespace can be unloaded cleanly ... [3s/4s] OK
- checking loading without being on the library search path ... [2s/3s] OK
- checking use of S3 registration ... OK
- checking dependencies in R code ... OK
- checking S3 generic/method consistency ... OK
- checking replacement functions ... OK
- checking foreign function calls ... OK
- checking R code for possible problems ... [25s/39s] OK
- checking Rd files ... [1s/1s] OK
- checking Rd metadata ... OK
- checking Rd line widths ... OK
- checking Rd cross-references ... OK
- checking for missing documentation entries ... OK
- checking for code/documentation mismatches ... OK
- checking Rd \usage sections ... OK
- checking Rd contents ... OK
- checking for unstated dependencies in examples ... OK
- checking line endings in C/C++/Fortran sources/headers ... OK
- checking pragmas in C/C++ headers and code ... OK
- checking compilation flags used ... OK
- checking compiled code ... OK
- checking examples ... [3s/5s] OK
- checking for unstated dependencies in ‘tests’ ... OK
- checking tests ... [72s/117s] OK
Running ‘rtop.R’ [33s/53s]
Running ‘rtop_sf.R’ [38s/64s]
Comparing ‘rtop_sf.Rout’ to ‘rtop_sf.Rout.save’ ...11,26d10
< Please note that rgdal will be retired during October 2023,
< plan transition to sf/stars/terra functions using GDAL and PROJ
< at your earliest convenience.
< See https://r-spatial.org/r/2023/05/15/evolution4.html and https://github.com/r-spatial/evolution
< rgdal: version: 1.6-7, (SVN revision 1203)
< Geospatial Data Abstraction Library extensions to R successfully loaded
< Loaded GDAL runtime: GDAL 3.6.2, released 2023/01/02
< Path to GDAL shared files: /usr/share/gdal
< GDAL does not use iconv for recoding strings.
< GDAL binary built with GEOS: TRUE
< Loaded PROJ runtime: Rel. 9.1.1, December 1st, 2022, [PJ_VERSION: 911]
< Path to PROJ shared files: /home/hornik/.local/share/proj:/usr/share/proj
< PROJ CDN enabled: FALSE
< Linking to sp version:1.6-1
< To mute warnings of possible GDAL/OSR exportToProj4() degradation,
< use options("rgdal_show_exportToProj4_warnings"="none") before loading sp or rgdal.
- checking PDF version of manual ... [5s/13s] OK
- checking HTML version of manual ... [1s/3s] OK
- checking for non-standard things in the check directory ... OK
- DONE
Status: OK