- using R Under development (unstable) (2025-10-20 r88955)
- using platform: x86_64-pc-linux-gnu
- R was compiled by
gcc-15 (Debian 15.2.0-4) 15.2.0
GNU Fortran (Debian 15.2.0-4) 15.2.0
- running under: Debian GNU/Linux forky/sid
- using session charset: UTF-8
- checking for file ‘robotstxt/DESCRIPTION’ ... OK
- checking extension type ... Package
- this is package ‘robotstxt’ version ‘0.7.15’
- package encoding: UTF-8
- checking CRAN incoming feasibility ... [0s/1s] OK
- checking package namespace information ... OK
- checking package dependencies ... OK
- checking if this is a source package ... OK
- checking if there is a namespace ... OK
- checking for executable files ... OK
- checking for hidden files and directories ... OK
- checking for portable file names ... OK
- checking for sufficient/correct file permissions ... OK
- checking serialization versions ... OK
- checking whether package ‘robotstxt’ can be installed ... OK
See the install log for details.
- checking package directory ... OK
- checking for future file timestamps ... OK
- checking ‘build’ directory ... OK
- checking DESCRIPTION meta-information ... OK
- checking top-level files ... OK
- checking for left-over files ... OK
- checking index information ... OK
- checking package subdirectories ... OK
- checking code files for non-ASCII characters ... OK
- checking R files for syntax errors ... OK
- checking whether the package can be loaded ... [0s/0s] OK
- checking whether the package can be loaded with stated dependencies ... [0s/0s] OK
- checking whether the package can be unloaded cleanly ... [0s/0s] OK
- checking whether the namespace can be loaded with stated dependencies ... [0s/0s] OK
- checking whether the namespace can be unloaded cleanly ... [0s/0s] OK
- checking loading without being on the library search path ... [0s/0s] OK
- checking use of S3 registration ... OK
- checking dependencies in R code ... OK
- checking S3 generic/method consistency ... OK
- checking replacement functions ... OK
- checking foreign function calls ... OK
- checking R code for possible problems ... [4s/5s] OK
- checking Rd files ... [0s/0s] OK
- checking Rd metadata ... OK
- checking Rd line widths ... OK
- checking Rd cross-references ... OK
- checking for missing documentation entries ... OK
- checking for code/documentation mismatches ... OK
- checking Rd \usage sections ... OK
- checking Rd contents ... OK
- checking for unstated dependencies in examples ... OK
- checking installed files from ‘inst/doc’ ... OK
- checking files in ‘vignettes’ ... OK
- checking examples ... [0s/1s] OK
- checking for unstated dependencies in ‘tests’ ... OK
- checking tests ... [8s/11s] OK
Running ‘testthat.R’ [8s/11s]
- checking for unstated dependencies in vignettes ... OK
- checking package vignettes ... OK
- checking re-building of vignette outputs ... [1s/1s] OK
- checking PDF version of manual ... [5s/7s] OK
- checking HTML version of manual ... [1s/1s] NOTE
Found the following HTML validation problems:
as.list.robotstxt_text.html:51:1 (as.list.robotstxt_text.Rd:12): Warning: missing </ul> before </div>
fix_url.html:46:1 (fix_url.Rd:10): Warning: missing </ul> before </div>
get_robotstxt.html:132:1 (get_robotstxt.Rd:66): Warning: missing </ul> before </div>
get_robotstxts.html:136:1 (get_robotstxts.Rd:70): Warning: missing </ul> before </div>
guess_domain.html:46:1 (guess_domain.Rd:10): Warning: missing </ul> before </div>
is_suspect_robotstxt.html:46:1 (is_suspect_robotstxt.Rd:10): Warning: missing </ul> before </div>
is_valid_robotstxt.html:50:1 (is_valid_robotstxt.Rd:12): Warning: missing </ul> before </div>
named_list.html:46:1 (named_list.Rd:10): Warning: missing </ul> before </div>
null_to_defeault.html:50:1 (null_to_defeault.Rd:12): Warning: missing </ul> before </div>
paths_allowed.html:160:1 (paths_allowed.Rd:86): Warning: missing </ul> before </div>
paths_allowed_worker_spiderbar.html:62:1 (paths_allowed_worker_spiderbar.Rd:20): Warning: missing </ul> before </div>
print.robotstxt.html:51:1 (print.robotstxt.Rd:12): Warning: missing </ul> before </div>
print.robotstxt_text.html:51:1 (print.robotstxt_text.Rd:12): Warning: missing </ul> before </div>
remove_domain.html:46:1 (remove_domain.Rd:10): Warning: missing </ul> before </div>
rt_get_comments.html:46:1 (rt_get_comments.Rd:10): Warning: missing </ul> before </div>
rt_get_fields.html:54:1 (rt_get_fields.Rd:14): Warning: missing </ul> before </div>
rt_get_fields_worker.html:59:1 (rt_get_fields_worker.Rd:17): Warning: missing </ul> before </div>
rt_get_rtxt.html:47:1 (rt_get_rtxt.Rd:10): Warning: missing </ul> before </div>
rt_get_useragent.html:46:1 (rt_get_useragent.Rd:10): Warning: missing </ul> before </div>
- checking for non-standard things in the check directory ... OK
- DONE
Status: 1 NOTE