- using R Under development (unstable) (2025-10-20 r88955)
- using platform: x86_64-pc-linux-gnu
- R was compiled by
gcc-15 (Debian 15.2.0-4) 15.2.0
GNU Fortran (Debian 15.2.0-4) 15.2.0
- running under: Debian GNU/Linux forky/sid
- using session charset: UTF-8
- checking for file ‘risk.assessr/DESCRIPTION’ ... OK
- this is package ‘risk.assessr’ version ‘2.0.1’
- package encoding: UTF-8
- checking CRAN incoming feasibility ... [1s/2s] OK
- checking package namespace information ... OK
- checking package dependencies ... OK
- checking if this is a source package ... OK
- checking if there is a namespace ... OK
- checking for executable files ... OK
- checking for hidden files and directories ... OK
- checking for portable file names ... OK
- checking for sufficient/correct file permissions ... OK
- checking whether package ‘risk.assessr’ can be installed ... OK
See the install log for details.
- checking package directory ... OK
- checking for future file timestamps ... OK
- checking ‘build’ directory ... OK
- checking DESCRIPTION meta-information ... OK
- checking top-level files ... OK
- checking for left-over files ... OK
- checking index information ... OK
- checking package subdirectories ... OK
- checking code files for non-ASCII characters ... OK
- checking R files for syntax errors ... OK
- checking whether the package can be loaded ... [1s/1s] OK
- checking whether the package can be loaded with stated dependencies ... [0s/1s] OK
- checking whether the package can be unloaded cleanly ... [0s/1s] OK
- checking whether the namespace can be loaded with stated dependencies ... [0s/1s] OK
- checking whether the namespace can be unloaded cleanly ... [1s/1s] OK
- checking loading without being on the library search path ... [1s/1s] OK
- checking use of S3 registration ... OK
- checking dependencies in R code ... OK
- checking S3 generic/method consistency ... OK
- checking replacement functions ... OK
- checking foreign function calls ... OK
- checking R code for possible problems ... [8s/9s] OK
- checking Rd files ... [0s/1s] OK
- checking Rd metadata ... OK
- checking Rd line widths ... OK
- checking Rd cross-references ... OK
- checking for missing documentation entries ... OK
- checking for code/documentation mismatches ... OK
- checking Rd \usage sections ... OK
- checking Rd contents ... OK
- checking for unstated dependencies in examples ... OK
- checking installed files from ‘inst/doc’ ... OK
- checking files in ‘vignettes’ ... OK
- checking examples ... [1s/1s] OK
- checking for unstated dependencies in ‘tests’ ... OK
- checking tests ... [30s/42s] OK
Running ‘testthat.R’ [30s/42s]
- checking for unstated dependencies in vignettes ... OK
- checking package vignettes ... OK
- checking re-building of vignette outputs ... [2s/2s] OK
- checking PDF version of manual ... [7s/9s] OK
- checking HTML version of manual ... [2s/3s] NOTE
Found the following HTML validation problems:
add_default_risk_weights.html:46:1 (add_default_risk_weights.Rd:10): Warning: missing </ul> before </div>
assess_exports.html:46:1 (assess_exports.Rd:10): Warning: missing </ul> before </div>
calc_dependencies.html:46:1 (calc_dependencies.Rd:10): Warning: missing </ul> before </div>
calc_reverse_dependencies.html:46:1 (calc_reverse_dependencies.Rd:10): Warning: missing </ul> before </div>
check_ggproto.html:46:1 (check_ggproto.Rd:10): Warning: missing </ul> before </div>
check_risk_weights.html:46:1 (check_risk_weights.Rd:10): Warning: missing </ul> before </div>
create_file_coverage_df.html:58:1 (create_file_coverage_df.Rd:16): Warning: missing </ul> before </div>
create_items_matched.html:51:1 (create_items_matched.Rd:12): Warning: missing </ul> before </div>
extract_ggproto_methods.html:46:1 (extract_ggproto_methods.Rd:10): Warning: missing </ul> before </div>
filter_symbol_functions.html:50:1 (filter_symbol_functions.Rd:12): Warning: missing </ul> before </div>
find_reverse_dependencies.html:46:1 (find_reverse_dependencies.Rd:10): Warning: missing </ul> before </div>
function_is_ggproto.html:46:1 (function_is_ggproto.Rd:10): Warning: missing </ul> before </div>
generate_coverage_section.html:46:1 (generate_coverage_section.Rd:10): Warning: missing </ul> before </div>
generate_deps_section.html:46:1 (generate_deps_section.Rd:10): Warning: missing </ul> before </div>
generate_doc_metrics_section.html:46:1 (generate_doc_metrics_section.Rd:10): Warning: missing </ul> before </div>
generate_rcmd_check_section.html:46:1 (generate_rcmd_check_section.Rd:10): Warning: missing </ul> before </div>
generate_rev_deps_section.html:46:1 (generate_rev_deps_section.Rd:10): Warning: missing </ul> before </div>
generate_risk_details.html:46:1 (generate_risk_details.Rd:10): Warning: missing </ul> before </div>
generate_risk_summary.html:46:1 (generate_risk_summary.Rd:10): Warning: missing </ul> before </div>
generate_trace_matrix_section.html:46:1 (generate_trace_matrix_section.Rd:10): Warning: missing </ul> before </div>
get_func_descriptions.html:46:1 (get_func_descriptions.Rd:10): Warning: missing </ul> before </div>
get_regular_function_body.html:50:1 (get_regular_function_body.Rd:12): Warning: missing </ul> before </div>
get_s3_method.html:54:1 (get_s3_method.Rd:14): Warning: missing </ul> before </div>
parse_dcf_dependencies.html:46:1 (parse_dcf_dependencies.Rd:10): Warning: missing </ul> before </div>
preprocess_func_full_name.html:46:1 (preprocess_func_full_name.Rd:10): Warning: missing </ul> before </div>
remove_base_packages.html:46:1 (remove_base_packages.Rd:10): Warning: missing </ul> before </div>
run_covr.html:50:1 (run_covr.Rd:12): Warning: missing </ul> before </div>
standardize_risk_weights.html:50:1 (standardize_risk_weights.Rd:12): Warning: missing </ul> before </div>
unpack_tarball.html:50:1 (unpack_tarball.Rd:12): Warning: missing </ul> before </div>
- checking for non-standard things in the check directory ... OK
- DONE
Status: 1 NOTE