- using R Under development (unstable) (2025-10-19 r88945)
- using platform: x86_64-pc-linux-gnu
- R was compiled by
gcc-15 (Debian 15.2.0-4) 15.2.0
GNU Fortran (Debian 15.2.0-4) 15.2.0
- running under: Debian GNU/Linux forky/sid
- using session charset: UTF-8
- checking for file ‘reticulate/DESCRIPTION’ ... OK
- checking extension type ... Package
- this is package ‘reticulate’ version ‘1.43.0’
- package encoding: UTF-8
- checking CRAN incoming feasibility ... [1s/2s] OK
- checking package namespace information ... OK
- checking package dependencies ... OK
- checking if this is a source package ... OK
- checking if there is a namespace ... OK
- checking for executable files ... OK
- checking for hidden files and directories ... OK
- checking for portable file names ... OK
- checking for sufficient/correct file permissions ... OK
- checking whether package ‘reticulate’ can be installed ... OK
See the install log for details.
- used C++ compiler: ‘g++-15 (Debian 15.2.0-4) 15.2.0’
- checking package directory ... OK
- checking for future file timestamps ... OK
- checking ‘build’ directory ... OK
- checking DESCRIPTION meta-information ... OK
- checking top-level files ... OK
- checking for left-over files ... OK
- checking index information ... OK
- checking package subdirectories ... OK
- checking code files for non-ASCII characters ... OK
- checking R files for syntax errors ... OK
- checking whether the package can be loaded ... [2s/2s] OK
- checking whether the package can be loaded with stated dependencies ... [1s/2s] OK
- checking whether the package can be unloaded cleanly ... [1s/2s] OK
- checking whether the namespace can be loaded with stated dependencies ... [1s/2s] OK
- checking whether the namespace can be unloaded cleanly ... [2s/2s] OK
- checking loading without being on the library search path ... [1s/2s] OK
- checking whether startup messages can be suppressed ... [2s/2s] OK
- checking use of S3 registration ... OK
- checking dependencies in R code ... OK
- checking S3 generic/method consistency ... OK
- checking replacement functions ... OK
- checking foreign function calls ... OK
- checking R code for possible problems ... [19s/22s] OK
- checking Rd files ... [0s/1s] OK
- checking Rd metadata ... OK
- checking Rd line widths ... OK
- checking Rd cross-references ... OK
- checking for missing documentation entries ... OK
- checking for code/documentation mismatches ... OK
- checking Rd \usage sections ... OK
- checking Rd contents ... OK
- checking for unstated dependencies in examples ... OK
- checking line endings in C/C++/Fortran sources/headers ... OK
- checking pragmas in C/C++ headers and code ... OK
- checking compilation flags used ... OK
- checking compiled code ... OK
- checking installed files from ‘inst/doc’ ... OK
- checking files in ‘vignettes’ ... OK
- checking examples ... [2s/2s] OK
- checking for unstated dependencies in ‘tests’ ... OK
- checking tests ... [0s/1s] OK
Running ‘testthat.R’ [0s/0s]
- checking for unstated dependencies in vignettes ... OK
- checking package vignettes ... OK
- checking re-building of vignette outputs ... [11s/15s] OK
- checking PDF version of manual ... [9s/12s] OK
- checking HTML version of manual ... [2s/4s] NOTE
Found the following HTML validation problems:
eng_python.html:154:1 (eng_python.Rd:81): Warning: missing </ul> before </div>
miniconda-params.html:42:1 (miniconda-params.Rd:9): Warning: missing </ul> before </div>
py_config_error_message.html:46:1 (py_config_error_message.Rd:10): Warning: missing </ul> before </div>
py_del_attr.html:50:1 (py_del_attr.Rd:12): Warning: missing </ul> before </div>
py_help.html:46:1 (py_help.Rd:10): Warning: missing </ul> before </div>
py_require.html:241:1 (py_require.Rd:164): Warning: missing </ul> before </div>
py_set_attr.html:54:1 (py_set_attr.Rd:14): Warning: missing </ul> before </div>
py_to_r_wrapper.html:48:1 (py_to_r_wrapper.Rd:10): Warning: missing </ul> before </div>
register_class_filter.html:47:1 (register_class_filter.Rd:11): Warning: missing </ul> before </div>
register_help_topics.html:50:1 (register_help_topics.Rd:12): Warning: missing </ul> before </div>
with-as-operator.html:50:1 (with-as-operator.Rd:13): Warning: missing </ul> before </div>
with.python.builtin.object.html:64:1 (with.python.builtin.object.Rd:17): Warning: missing </ul> before </div>
- checking for non-standard things in the check directory ... OK
- DONE
Status: 1 NOTE