- using R Under development (unstable) (2022-08-17 r82724)
- using platform: x86_64-pc-linux-gnu (64-bit)
- using session charset: UTF-8
- checking for file ‘resourcer/DESCRIPTION’ ... OK
- checking extension type ... Package
- this is package ‘resourcer’ version ‘1.2.0’
- package encoding: UTF-8
- checking package namespace information ... OK
- checking package dependencies ... OK
- checking if this is a source package ... OK
- checking if there is a namespace ... OK
- checking for executable files ... OK
- checking for hidden files and directories ... OK
- checking for portable file names ... OK
- checking for sufficient/correct file permissions ... OK
- checking whether package ‘resourcer’ can be installed ... OK
- checking package directory ... OK
- checking for future file timestamps ... OK
- checking ‘build’ directory ... OK
- checking DESCRIPTION meta-information ... OK
- checking top-level files ... OK
- checking for left-over files ... OK
- checking index information ... OK
- checking package subdirectories ... OK
- checking R files for non-ASCII characters ... OK
- checking R files for syntax errors ... OK
- checking whether the package can be loaded ... OK
- checking whether the package can be loaded with stated dependencies ... OK
- checking whether the package can be unloaded cleanly ... OK
- checking whether the namespace can be loaded with stated dependencies ... OK
- checking whether the namespace can be unloaded cleanly ... OK
- checking loading without being on the library search path ... OK
- checking use of S3 registration ... OK
- checking dependencies in R code ... OK
- checking S3 generic/method consistency ... OK
- checking replacement functions ... OK
- checking foreign function calls ... OK
- checking R code for possible problems ... [5s/8s] OK
- checking Rd files ... [1s/2s] OK
- checking Rd metadata ... OK
- checking Rd line widths ... OK
- checking Rd cross-references ... OK
- checking for missing documentation entries ... OK
- checking for code/documentation mismatches ... OK
- checking Rd \usage sections ... OK
- checking Rd contents ... OK
- checking for unstated dependencies in examples ... OK
- checking installed files from ‘inst/doc’ ... OK
- checking files in ‘vignettes’ ... OK
- checking examples ... [1s/1s] OK
- checking for unstated dependencies in ‘tests’ ... OK
- checking tests ... [3s/12s] OK
Running ‘testthat.R’ [3s/12s]
- checking for unstated dependencies in vignettes ... OK
- checking package vignettes in ‘inst/doc’ ... OK
- checking re-building of vignette outputs ... [2s/4s] OK
- checking PDF version of manual ... [6s/12s] OK
- checking HTML version of manual ... [2s/6s] NOTE
Found the following HTML validation problems:
CommandResourceClient.html:68:6: Warning: missing </span> before <p>
CommandResourceClient.html:68:103: Warning: inserting implicit <span>
CommandResourceClient.html:71:6: Warning: missing </span> before <p>
CommandResourceClient.html:71:97: Warning: inserting implicit <span>
CommandResourceClient.html:74:6: Warning: missing </span> before <p>
CommandResourceClient.html:74:97: Warning: inserting implicit <span>
CommandResourceClient.html:77:6: Warning: missing </span> before <p>
CommandResourceClient.html:77:104: Warning: inserting implicit <span>
CommandResourceClient.html:80:6: Warning: missing </span> before <p>
CommandResourceClient.html:80:96: Warning: inserting implicit <span>
CommandResourceClient.html:83:6: Warning: missing </span> before <p>
CommandResourceClient.html:83:105: Warning: inserting implicit <span>
CommandResourceClient.html:86:6: Warning: missing </span> before <p>
CommandResourceClient.html:86:103: Warning: inserting implicit <span>
FileResourceClient.html:73:6: Warning: missing </span> before <p>
FileResourceClient.html:73:103: Warning: inserting implicit <span>
FileResourceClient.html:76:6: Warning: missing </span> before <p>
FileResourceClient.html:76:97: Warning: inserting implicit <span>
FileResourceClient.html:79:6: Warning: missing </span> before <p>
FileResourceClient.html:79:96: Warning: inserting implicit <span>
FileResourceClient.html:82:6: Warning: missing </span> before <p>
FileResourceClient.html:82:105: Warning: inserting implicit <span>
FileResourceClient.html:85:6: Warning: missing </span> before <p>
FileResourceClient.html:85:103: Warning: inserting implicit <span>
GridFsFileResourceGetter.html:73:6: Warning: missing </span> before <p>
GridFsFileResourceGetter.html:73:111: Warning: inserting implicit <span>
GridFsFileResourceGetter.html:76:6: Warning: missing </span> before <p>
GridFsFileResourceGetter.html:76:111: Warning: inserting implicit <span>
HttpFileResourceGetter.html:74:6: Warning: missing </span> before <p>
HttpFileResourceGetter.html:74:111: Warning: inserting implicit <span>
HttpFileResourceGetter.html:77:6: Warning: missing </span> before <p>
HttpFileResourceGetter.html:77:111: Warning: inserting implicit <span>
LocalFileResourceGetter.html:73:6: Warning: missing </span> before <p>
LocalFileResourceGetter.html:73:111: Warning: inserting implicit <span>
LocalFileResourceGetter.html:76:6: Warning: missing </span> before <p>
LocalFileResourceGetter.html:76:111: Warning: inserting implicit <span>
MariaDBResourceConnector.html:73:6: Warning: missing </span> before <p>
MariaDBResourceConnector.html:73:116: Warning: inserting implicit <span>
MariaDBResourceConnector.html:76:6: Warning: missing </span> before <p>
MariaDBResourceConnector.html:76:110: Warning: inserting implicit <span>
MariaDBResourceConnector.html:79:6: Warning: missing </span> before <p>
MariaDBResourceConnector.html:79:109: Warning: inserting implicit <span>
MariaDBResourceConnector.html:82:6: Warning: missing </span> before <p>
MariaDBResourceConnector.html:82:110: Warning: inserting implicit <span>
NoSQLResourceClient.html:82:6: Warning: missing </span> before <p>
NoSQLResourceClient.html:82:97: Warning: inserting implicit <span>
NoSQLResourceClient.html:85:6: Warning: missing </span> before <p>
NoSQLResourceClient.html:85:104: Warning: inserting implicit <span>
NoSQLResourceClient.html:88:6: Warning: missing </span> before <p>
NoSQLResourceClient.html:88:96: Warning: inserting implicit <span>
NoSQLResourceClient.html:91:6: Warning: missing </span> before <p>
NoSQLResourceClient.html:91:103: Warning: inserting implicit <span>
NoSQLResourceResolver.html:70:6: Warning: missing </span> before <p>
NoSQLResourceResolver.html:70:104: Warning: inserting implicit <span>
OpalFileResourceGetter.html:74:6: Warning: missing </span> before <p>
OpalFileResourceGetter.html:74:111: Warning: inserting implicit <span>
OpalFileResourceGetter.html:77:6: Warning: missing </span> before <p>
OpalFileResourceGetter.html:77:111: Warning: inserting implicit <span>
PostgresResourceConnector.html:73:6: Warning: missing </span> before <p>
PostgresResourceConnector.html:73:116: Warning: inserting implicit <span>
PostgresResourceConnector.html:76:6: Warning: missing </span> before <p>
PostgresResourceConnector.html:76:110: Warning: inserting implicit <span>
PostgresResourceConnector.html:79:6: Warning: missing </span> before <p>
PostgresResourceConnector.html:79:109: Warning: inserting implicit <span>
PostgresResourceConnector.html:82:6: Warning: missing </span> before <p>
PostgresResourceConnector.html:82:110: Warning: inserting implicit <span>
PrestoResourceConnector.html:73:6: Warning: missing </span> before <p>
PrestoResourceConnector.html:73:116: Warning: inserting implicit <span>
PrestoResourceConnector.html:76:6: Warning: missing </span> before <p>
PrestoResourceConnector.html:76:110: Warning: inserting implicit <span>
PrestoResourceConnector.html:79:6: Warning: missing </span> before <p>
PrestoResourceConnector.html:79:109: Warning: inserting implicit <span>
PrestoResourceConnector.html:82:6: Warning: missing </span> before <p>
PrestoResourceConnector.html:82:110: Warning: inserting implicit <span>
RDSFileResourceClient.html:74:6: Warning: missing </span> before <p>
RDSFileResourceClient.html:74:97: Warning: inserting implicit <span>
RDSFileResourceClient.html:77:6: Warning: missing </span> before <p>
RDSFileResourceClient.html:77:96: Warning: inserting implicit <span>
RDSFileResourceClient.html:80:6: Warning: missing </span> before <p>
RDSFileResourceClient.html:80:105: Warning: inserting implicit <span>
RDSFileResourceClient.html:83:6: Warning: missing </span> before <p>
RDSFileResourceClient.html:83:103: Warning: inserting implicit <span>
RDSFileResourceClient.html:86:6: Warning: missing </span> before <p>
RDSFileResourceClient.html:86:101: Warning: inserting implicit <span>
RDSFileResourceClient.html:89:6: Warning: missing </span> before <p>
RDSFileResourceClient.html:89:108: Warning: inserting implicit <span>
RDSFileResourceResolver.html:70:6: Warning: missing </span> before <p>
RDSFileResourceResolver.html:70:104: Warning: inserting implicit <span>
RDataFileResourceClient.html:73:6: Warning: missing </span> before <p>
RDataFileResourceClient.html:73:97: Warning: inserting implicit <span>
RDataFileResourceClient.html:76:6: Warning: missing </span> before <p>
RDataFileResourceClient.html:76:96: Warning: inserting implicit <span>
RDataFileResourceClient.html:79:6: Warning: missing </span> before <p>
RDataFileResourceClient.html:79:105: Warning: inserting implicit <span>
RDataFileResourceClient.html:82:6: Warning: missing </span> before <p>
RDataFileResourceClient.html:82:103: Warning: inserting implicit <span>
RDataFileResourceClient.html:85:6: Warning: missing </span> before <p>
RDataFileResourceClient.html:85:101: Warning: inserting implicit <span>
RDataFileResourceClient.html:88:6: Warning: missing </span> before <p>
RDataFileResourceClient.html:88:108: Warning: inserting implicit <span>
RDataFileResourceResolver.html:70:6: Warning: missing </span> before <p>
RDataFileResourceResolver.html:70:104: Warning: inserting implicit <span>
SQLResourceClient.html:79:6: Warning: missing </span> before <p>
SQLResourceClient.html:79:104: Warning: inserting implicit <span>
SQLResourceClient.html:82:6: Warning: missing </span> before <p>
SQLResourceClient.html:82:96: Warning: inserting implicit <span>
SQLResourceClient.html:85:6: Warning: missing </span> before <p>
SQLResourceClient.html:85:103: Warning: inserting implicit <span>
SQLResourceResolver.html:70:6: Warning: missing </span> before <p>
SQLResourceResolver.html:70:104: Warning: inserting implicit <span>
ScpFileResourceGetter.html:73:6: Warning: missing </span> before <p>
ScpFileResourceGetter.html:73:111: Warning: inserting implicit <span>
ScpFileResourceGetter.html:76:6: Warning: missing </span> before <p>
ScpFileResourceGetter.html:76:111: Warning: inserting implicit <span>
ShellResourceClient.html:76:6: Warning: missing </span> before <p>
ShellResourceClient.html:76:103: Warning: inserting implicit <span>
ShellResourceClient.html:79:6: Warning: missing </span> before <p>
ShellResourceClient.html:79:97: Warning: inserting implicit <span>
ShellResourceClient.html:82:6: Warning: missing </span> before <p>
ShellResourceClient.html:82:97: Warning: inserting implicit <span>
ShellResourceClient.html:85:6: Warning: missing </span> before <p>
ShellResourceClient.html:85:104: Warning: inserting implicit <span>
ShellResourceClient.html:88:6: Warning: missing </span> before <p>
ShellResourceClient.html:88:105: Warning: inserting implicit <span>
ShellResourceClient.html:91:6: Warning: missing </span> before <p>
ShellResourceClient.html:91:103: Warning: inserting implicit <span>
ShellResourceResolver.html:70:6: Warning: missing </span> before <p>
ShellResourceResolver.html:70:104: Warning: inserting implicit <span>
SparkResourceConnector.html:76:6: Warning: missing </span> before <p>
SparkResourceConnector.html:76:110: Warning: inserting implicit <span>
SparkResourceConnector.html:79:6: Warning: missing </span> before <p>
SparkResourceConnector.html:79:109: Warning: inserting implicit <span>
SparkResourceConnector.html:82:6: Warning: missing </span> before <p>
SparkResourceConnector.html:82:110: Warning: inserting implicit <span>
SshResourceClient.html:91:6: Warning: missing </span> before <p>
SshResourceClient.html:91:103: Warning: inserting implicit <span>
SshResourceClient.html:94:6: Warning: missing </span> before <p>
SshResourceClient.html:94:97: Warning: inserting implicit <span>
SshResourceClient.html:97:6: Warning: missing </span> before <p>
SshResourceClient.html:97:103: Warning: inserting implicit <span>
SshResourceResolver.html:70:6: Warning: missing </span> before <p>
SshResourceResolver.html:70:104: Warning: inserting implicit <span>
TidyFileResourceClient.html:70:6: Warning: missing </span> before <p>
TidyFileResourceClient.html:70:97: Warning: inserting implicit <span>
TidyFileResourceClient.html:73:6: Warning: missing </span> before <p>
TidyFileResourceClient.html:73:96: Warning: inserting implicit <span>
TidyFileResourceClient.html:76:6: Warning: missing </span> before <p>
TidyFileResourceClient.html:76:105: Warning: inserting implicit <span>
TidyFileResourceClient.html:79:6: Warning: missing </span> before <p>
TidyFileResourceClient.html:79:103: Warning: inserting implicit <span>
TidyFileResourceClient.html:82:6: Warning: missing </span> before <p>
TidyFileResourceClient.html:82:101: Warning: inserting implicit <span>
TidyFileResourceClient.html:85:6: Warning: missing </span> before <p>
TidyFileResourceClient.html:85:108: Warning: inserting implicit <span>
TidyFileResourceResolver.html:81:6: Warning: missing </span> before <p>
TidyFileResourceResolver.html:81:104: Warning: inserting implicit <span>
- checking for non-standard things in the check directory ... OK
- DONE
Status: 1 NOTE