- using R Under development (unstable) (2025-06-27 r88363)
- using platform: x86_64-pc-linux-gnu
- R was compiled by
gcc-14 (Debian 14.2.0-19) 14.2.0
GNU Fortran (Debian 14.2.0-19) 14.2.0
- running under: Debian GNU/Linux 13 (trixie)
- using session charset: UTF-8
- checking for file ‘randnet/DESCRIPTION’ ... OK
- checking extension type ... Package
- this is package ‘randnet’ version ‘0.7’
- checking CRAN incoming feasibility ... [0s/0s] NOTE
Maintainer: ‘Tianxi Li <tianxili@virginia.edu>’
The Description field contains
<arXiv:1612.04717> . Several other model-based and task-specific
<arXiv:1411.1715>, likelihood ratio method from Wang and Bickel (2015)
<arXiv:1502.02069>, spectral methods from Le and Levina (2015)
<arXiv:1507.00827>. Many network analysis methods are also implemented,
neighborhood smoothing (Zhang et. al. 2015 <arXiv:1509.08588>). It also
<arXiv:1410.5837>, the method of moments estimation of nomination SBM
of Li et. al. (2020) <arxiv:2008.03652>, and the network mixing method
of Li and Le (2021) <arxiv:2106.02803>. It also includes the
<arXiv:2101.06388>. The work to build and improve this package is
Please refer to arXiv e-prints via their arXiv DOI <doi:10.48550/arXiv.YYMM.NNNNN>.
- checking package namespace information ... OK
- checking package dependencies ... OK
- checking if this is a source package ... OK
- checking if there is a namespace ... OK
- checking for executable files ... OK
- checking for hidden files and directories ... OK
- checking for portable file names ... OK
- checking for sufficient/correct file permissions ... OK
- checking serialization versions ... OK
- checking whether package ‘randnet’ can be installed ... OK
See the install log for details.
- checking package directory ... OK
- checking for future file timestamps ... OK
- checking DESCRIPTION meta-information ... OK
- checking top-level files ... OK
- checking for left-over files ... OK
- checking index information ... OK
- checking package subdirectories ... OK
- checking code files for non-ASCII characters ... OK
- checking R files for syntax errors ... OK
- checking whether the package can be loaded ... [3s/4s] OK
- checking whether the package can be loaded with stated dependencies ... [3s/4s] OK
- checking whether the package can be unloaded cleanly ... [3s/4s] OK
- checking whether the namespace can be loaded with stated dependencies ... [2s/3s] OK
- checking whether the namespace can be unloaded cleanly ... [3s/3s] OK
- checking loading without being on the library search path ... [3s/4s] OK
- checking use of S3 registration ... OK
- checking dependencies in R code ... OK
- checking S3 generic/method consistency ... OK
- checking replacement functions ... OK
- checking foreign function calls ... OK
- checking R code for possible problems ... [17s/21s] OK
- checking Rd files ... [0s/0s] OK
- checking Rd metadata ... OK
- checking Rd line widths ... OK
- checking Rd cross-references ... OK
- checking for missing documentation entries ... OK
- checking for code/documentation mismatches ... OK
- checking Rd \usage sections ... OK
- checking Rd contents ... OK
- checking for unstated dependencies in examples ... OK
- checking examples ... [16s/19s] OK
- checking PDF version of manual ... [4s/6s] OK
- checking HTML version of manual ... [1s/1s] OK
- checking for non-standard things in the check directory ... OK
- DONE
Status: 1 NOTE