- using R Under development (unstable) (2023-10-01 r85245)
- using platform: x86_64-pc-linux-gnu
- R was compiled by
gcc-13 (Debian 13.2.0-4) 13.2.0
GNU Fortran (Debian 13.2.0-4) 13.2.0
- running under: Debian GNU/Linux trixie/sid
- using session charset: UTF-8
- checking for file ‘prabclus/DESCRIPTION’ ... OK
- this is package ‘prabclus’ version ‘2.3-2’
- checking package namespace information ... OK
- checking package dependencies ... OK
- checking if this is a source package ... OK
- checking if there is a namespace ... OK
- checking for executable files ... OK
- checking for hidden files and directories ... OK
- checking for portable file names ... OK
- checking for sufficient/correct file permissions ... OK
- checking serialization versions ... OK
- checking whether package ‘prabclus’ can be installed ... OK
See the install log for details.
- checking package directory ... OK
- checking for future file timestamps ... OK
- checking DESCRIPTION meta-information ... OK
- checking top-level files ... OK
- checking for left-over files ... OK
- checking index information ... OK
- checking package subdirectories ... OK
- checking R files for non-ASCII characters ... OK
- checking R files for syntax errors ... OK
- checking whether the package can be loaded ... [0s/1s] OK
- checking whether the package can be loaded with stated dependencies ... [0s/1s] OK
- checking whether the package can be unloaded cleanly ... [0s/1s] OK
- checking whether the namespace can be loaded with stated dependencies ... [0s/1s] OK
- checking whether the namespace can be unloaded cleanly ... [0s/1s] OK
- checking loading without being on the library search path ... [0s/1s] OK
- checking use of S3 registration ... OK
- checking dependencies in R code ... OK
- checking S3 generic/method consistency ... OK
- checking replacement functions ... OK
- checking foreign function calls ... OK
- checking R code for possible problems ... [16s/27s] OK
- checking Rd files ... [1s/2s] OK
- checking Rd metadata ... OK
- checking Rd line widths ... OK
- checking Rd cross-references ... OK
- checking for missing documentation entries ... OK
- checking for code/documentation mismatches ... OK
- checking Rd \usage sections ... OK
- checking Rd contents ... OK
- checking for unstated dependencies in examples ... OK
- checking contents of ‘data’ directory ... OK
- checking data for non-ASCII characters ... [0s/1s] OK
- checking data for ASCII and uncompressed saves ... OK
- checking examples ... [7s/12s] OK
- checking differences from ‘prabclus-Ex.Rout’ to ‘prabclus-Ex.Rout.save’ ... OK
2c2
< Package 'mclust' version 6.0.0
---
> Package 'mclust' version 5.4.5
- checking for unstated dependencies in ‘tests’ ... OK
- checking tests ... [15s/28s] OK
Running ‘donttestexamples.R’ [2s/3s]
Running ‘prabclustests.R’ [13s/24s]
Comparing ‘prabclustests.Rout’ to ‘prabclustests.Rout.save’ ...4c4
< Package 'mclust' version 6.0.0
---
> Package 'mclust' version 5.4.5
103,108d102
< The legacy packages maptools, rgdal, and rgeos, underpinning the sp package,
< which was just loaded, were retired in October 2023.
< Please refer to R-spatial evolution reports for details, especially
< https://r-spatial.org/r/2023/05/15/evolution4.html.
< It may be desirable to make the sf package available;
< package maintainers should consider adding sf to Suggests:.
112c106
< Linking to GEOS 3.12.0, GDAL 3.7.2, PROJ 9.3.0; sf_use_s2() is TRUE
---
> Linking to GEOS 3.6.2, GDAL 2.2.3, PROJ 4.9.3
- checking PDF version of manual ... [8s/18s] OK
- checking HTML version of manual ... [4s/9s] OK
- checking for non-standard things in the check directory ... OK
- DONE
Status: OK