* using log directory ‘/home/hornik/tmp/R.check/r-devel-gcc/Work/PKGS/pimeta.Rcheck’ * using R Under development (unstable) (2025-07-15 r88411) * using platform: x86_64-pc-linux-gnu * R was compiled by gcc-14 (Debian 14.2.0-19) 14.2.0 GNU Fortran (Debian 14.2.0-19) 14.2.0 * running under: Debian GNU/Linux 13 (trixie) * using session charset: UTF-8 * checking for file ‘pimeta/DESCRIPTION’ ... OK * checking extension type ... Package * this is package ‘pimeta’ version ‘1.1.3’ * package encoding: UTF-8 * checking CRAN incoming feasibility ... [1s/1s] NOTE Maintainer: ‘Kengo Nagashima ’ Package CITATION file contains call(s) to old-style personList() or as.personList(). Please use c() on person objects instead. Package CITATION file contains call(s) to old-style citEntry(). Please use bibentry() instead. The Description field contains , . Please refer to arXiv e-prints via their arXiv DOI . Found the following URLs which should use \doi (with the DOI name only): File ‘cima.Rd’: https://doi.org/10.1002/jrsm.1319 https://doi.org/10.1177/0962280218773520 https://doi.org/10.1111/j.1467-985X.2008.00552.x https://doi.org/10.1002/sim.7140 https://doi.org/10.1002/sim.791 https://doi.org/10.1016/j.csda.2005.07.019 https://doi.org/10.1002/sim.4350 File ‘convert_bin.Rd’: https://doi.org/10.1002/sim.1009 File ‘hyp.Rd’: https://doi.org/10.1161/01.HYP.0000165020.14745.79 File ‘i2h.Rd’: https://doi.org/10.1002/sim.1186 File ‘pain.Rd’: https://doi.org/10.1001/jama.2008.944 https://doi.org/10.1136/bmj.d549 File ‘pima.Rd’: https://doi.org/10.1111/j.1467-985X.2008.00552.x https://doi.org/10.1002/sim.7140 https://doi.org/10.1177/0962280218773520 https://doi.org/10.1002/(SICI)1521-4036(199912)41:8<901::AID-BIMJ901>3.0.CO;2-W https://doi.org/10.1002/sim.791 https://doi.org/10.1016/j.csda.2005.07.019 File ‘sbp.Rd’: https://doi.org/10.1136/bmj.d549 File ‘setshift.Rd’: https://doi.org/10.1017/S0033291707009877 https://doi.org/10.1111/j.1467-985X.2008.00552.x File ‘tau2h.Rd’: https://doi.org/10.1002/sim.2688 https://doi.org/10.1002/jrsm.1164 https://doi.org/10.1002/jrsm.1316 https://doi.org/10.1016/0197-2456(86)90046-2 https://doi.org/10.1037/0033-2909.93.2.388 https://doi.org/10.6028/jres.087.022 https://doi.org/10.1081/SAC-120023884 https://doi.org/10.3102/10769986030003261 https://doi.org/10.1002/(SICI)1097-0258(19991030)18:20<2693::AID-SIM235>3.0.CO;2-V https://doi.org/10.1111/j.1467-9876.2005.00489.x https://doi.org/10.1080/01621459.1983.10477920 https://doi.org/10.1002/sim.5821 https://doi.org/10.1002/(SICI)1097-0258(19970415)16:7<753::AID-SIM494>3.0.CO;2-G * checking package namespace information ... OK * checking package dependencies ... OK * checking if this is a source package ... OK * checking if there is a namespace ... OK * checking for executable files ... OK * checking for hidden files and directories ... OK * checking for portable file names ... OK * checking for sufficient/correct file permissions ... OK * checking serialization versions ... OK * checking whether package ‘pimeta’ can be installed ... OK See 'https://www.r-project.org/nosvn/R.check/r-devel-linux-x86_64-debian-gcc/pimeta-00install.html' for details. * used C compiler: ‘gcc-14 (Debian 14.2.0-19) 14.2.0’ * used C++ compiler: ‘g++-14 (Debian 14.2.0-19) 14.2.0’ * checking package directory ... OK * checking for future file timestamps ... OK * checking ‘build’ directory ... OK * checking DESCRIPTION meta-information ... OK * checking top-level files ... OK * checking for left-over files ... OK * checking index information ... OK * checking package subdirectories ... OK * checking code files for non-ASCII characters ... OK * checking R files for syntax errors ... OK * checking whether the package can be loaded ... [0s/1s] OK * checking whether the package can be loaded with stated dependencies ... [0s/0s] OK * checking whether the package can be unloaded cleanly ... [0s/0s] OK * checking whether the namespace can be loaded with stated dependencies ... [0s/0s] OK * checking whether the namespace can be unloaded cleanly ... [0s/1s] OK * checking loading without being on the library search path ... [0s/0s] OK * checking use of S3 registration ... OK * checking dependencies in R code ... OK * checking S3 generic/method consistency ... OK * checking replacement functions ... OK * checking foreign function calls ... OK * checking R code for possible problems ... [6s/7s] OK * checking Rd files ... [0s/0s] OK * checking Rd metadata ... OK * checking Rd line widths ... OK * checking Rd cross-references ... OK * checking for missing documentation entries ... OK * checking for code/documentation mismatches ... OK * checking Rd \usage sections ... OK * checking Rd contents ... OK * checking for unstated dependencies in examples ... OK * checking contents of ‘data’ directory ... OK * checking data for non-ASCII characters ... [0s/0s] OK * checking data for ASCII and uncompressed saves ... OK * checking line endings in C/C++/Fortran sources/headers ... OK * checking line endings in Makefiles ... OK * checking compilation flags in Makevars ... OK * checking for GNU extensions in Makefiles ... OK * checking for portable use of $(BLAS_LIBS) and $(LAPACK_LIBS) ... OK * checking use of PKG_*FLAGS in Makefiles ... OK * checking use of SHLIB_OPENMP_*FLAGS in Makefiles ... OK * checking pragmas in C/C++ headers and code ... OK * checking compilation flags used ... OK * checking compiled code ... OK * checking installed files from ‘inst/doc’ ... OK * checking files in ‘vignettes’ ... OK * checking examples ... [0s/1s] OK * checking for unstated dependencies in vignettes ... OK * checking package vignettes ... OK * checking re-building of vignette outputs ... [10s/6s] OK * checking PDF version of manual ... [4s/5s] OK * checking HTML version of manual ... [1s/1s] OK * checking for non-standard things in the check directory ... OK * DONE Status: 1 NOTE