- using R Under development (unstable) (2025-10-19 r88945)
- using platform: x86_64-pc-linux-gnu
- R was compiled by
gcc-15 (Debian 15.2.0-4) 15.2.0
GNU Fortran (Debian 15.2.0-4) 15.2.0
- running under: Debian GNU/Linux forky/sid
- using session charset: UTF-8
- checking for file ‘pharmr/DESCRIPTION’ ... OK
- this is package ‘pharmr’ version ‘1.7.2’
- package encoding: UTF-8
- checking CRAN incoming feasibility ... [2s/3s] OK
- checking package namespace information ... OK
- checking package dependencies ... OK
- checking if this is a source package ... OK
- checking if there is a namespace ... OK
- checking for executable files ... OK
- checking for hidden files and directories ... OK
- checking for portable file names ... OK
- checking for sufficient/correct file permissions ... OK
- checking whether package ‘pharmr’ can be installed ... OK
See the install log for details.
- checking package directory ... OK
- checking for future file timestamps ... OK
- checking DESCRIPTION meta-information ... OK
- checking top-level files ... OK
- checking for left-over files ... OK
- checking index information ... OK
- checking package subdirectories ... OK
- checking code files for non-ASCII characters ... OK
- checking R files for syntax errors ... OK
- checking whether the package can be loaded ... [2s/2s] OK
- checking whether the package can be loaded with stated dependencies ... [1s/2s] OK
- checking whether the package can be unloaded cleanly ... [2s/2s] OK
- checking whether the namespace can be loaded with stated dependencies ... [2s/2s] OK
- checking whether the namespace can be unloaded cleanly ... [2s/3s] OK
- checking loading without being on the library search path ... [2s/3s] OK
- checking whether startup messages can be suppressed ... [2s/2s] OK
- checking use of S3 registration ... OK
- checking dependencies in R code ... OK
- checking S3 generic/method consistency ... OK
- checking replacement functions ... OK
- checking foreign function calls ... OK
- checking R code for possible problems ... [13s/17s] OK
- checking Rd files ... [1s/1s] OK
- checking Rd metadata ... OK
- checking Rd line widths ... OK
- checking Rd cross-references ... OK
- checking for missing documentation entries ... OK
- checking for code/documentation mismatches ... OK
- checking Rd \usage sections ... OK
- checking Rd contents ... OK
- checking for unstated dependencies in examples ... OK
- checking installed files from ‘inst/doc’ ... OK
- checking examples ... [2s/3s] OK
- checking for unstated dependencies in ‘tests’ ... OK
- checking tests ... [2s/3s] OK
Running ‘testthat.R’ [2s/2s]
- checking PDF version of manual ... [11s/13s] OK
- checking HTML version of manual ... [5s/9s] NOTE
Found the following HTML validation problems:
broadcast_log.html:53:1 (broadcast_log.Rd:12): Warning: missing </ul> before </div>
check_pharmpy.html:46:1 (check_pharmpy.Rd:10): Warning: missing </ul> before </div>
create_report.html:52:1 (create_report.Rd:12): Warning: missing </ul> before </div>
install_pharmpy.html:50:1 (install_pharmpy.Rd:12): Warning: missing </ul> before </div>
install_pharmpy_devel.html:58:1 (install_pharmpy_devel.Rd:18): Warning: missing </ul> before </div>
print_fit_summary.html:50:1 (print_fit_summary.Rd:12): Warning: missing </ul> before </div>
print_log.html:46:1 (print_log.Rd:10): Warning: missing </ul> before </div>
reset_index.html:48:1 (reset_index.Rd:10): Warning: missing </ul> before </div>
reset_indices_results.html:46:1 (reset_indices_results.Rd:10): Warning: missing </ul> before </div>
write_results.html:60:1 (write_results.Rd:16): Warning: missing </ul> before </div>
- checking for non-standard things in the check directory ... OK
- DONE
Status: 1 NOTE