* using log directory ‘/home/hornik/tmp/R.check/r-devel-gcc/Work/PKGS/pbox.Rcheck’ * using R Under development (unstable) (2025-07-15 r88411) * using platform: x86_64-pc-linux-gnu * R was compiled by gcc-14 (Debian 14.2.0-19) 14.2.0 GNU Fortran (Debian 14.2.0-19) 14.2.0 * running under: Debian GNU/Linux 13 (trixie) * using session charset: UTF-8 * checking for file ‘pbox/DESCRIPTION’ ... OK * checking extension type ... Package * this is package ‘pbox’ version ‘0.1.8’ * package encoding: UTF-8 * checking CRAN incoming feasibility ... [0s/1s] OK * checking package namespace information ... OK * checking package dependencies ... OK * checking if this is a source package ... OK * checking if there is a namespace ... OK * checking for executable files ... OK * checking for hidden files and directories ... OK * checking for portable file names ... OK * checking for sufficient/correct file permissions ... OK * checking serialization versions ... OK * checking whether package ‘pbox’ can be installed ... OK See 'https://www.r-project.org/nosvn/R.check/r-devel-linux-x86_64-debian-gcc/pbox-00install.html' for details. * checking package directory ... OK * checking for future file timestamps ... OK * checking ‘build’ directory ... OK * checking DESCRIPTION meta-information ... OK * checking top-level files ... OK * checking for left-over files ... OK * checking index information ... OK * checking package subdirectories ... OK * checking code files for non-ASCII characters ... OK * checking R files for syntax errors ... OK * checking whether the package can be loaded ... [2s/3s] OK * checking whether the package can be loaded with stated dependencies ... [2s/3s] OK * checking whether the package can be unloaded cleanly ... [2s/2s] OK * checking whether the namespace can be loaded with stated dependencies ... [2s/2s] OK * checking whether the namespace can be unloaded cleanly ... [2s/3s] OK * checking loading without being on the library search path ... [2s/3s] OK * checking use of S3 registration ... OK * checking dependencies in R code ... OK * checking S3 generic/method consistency ... OK * checking replacement functions ... OK * checking foreign function calls ... OK * checking R code for possible problems ... [11s/15s] OK * checking Rd files ... [0s/0s] OK * checking Rd metadata ... OK * checking Rd line widths ... OK * checking Rd cross-references ... NOTE Found the following Rd file(s) with Rd \link{} targets missing package anchors: perProb.Rd: pMvdc Please provide package anchors for all Rd \link{} targets not in the package itself and the base packages. * checking for missing documentation entries ... OK * checking for code/documentation mismatches ... OK * checking Rd \usage sections ... OK * checking Rd contents ... OK * checking for unstated dependencies in examples ... OK * checking contents of ‘data’ directory ... OK * checking data for non-ASCII characters ... [0s/0s] OK * checking LazyData ... OK * checking data for ASCII and uncompressed saves ... OK * checking installed files from ‘inst/doc’ ... OK * checking files in ‘vignettes’ ... OK * checking examples ... [45s/61s] OK Examples with CPU (user + system) or elapsed time > 5s user system elapsed coefAll2-methods 6.237 0.197 8.641 grid_pbox 6.133 0.068 9.282 scenario_pbox 5.569 0.054 7.260 qpbox 5.538 0.080 7.360 final_pbox 5.466 0.123 7.090 set_pbox 5.460 0.012 7.119 fit_dist_pbox 4.571 0.078 6.395 * checking for unstated dependencies in ‘tests’ ... OK * checking tests ... [68s/90s] OK Running ‘spelling.R’ [0s/0s] Running ‘testthat.R’ [68s/89s] * checking for unstated dependencies in vignettes ... OK * checking package vignettes ... OK * checking re-building of vignette outputs ... [16s/21s] OK * checking PDF version of manual ... [5s/7s] OK * checking HTML version of manual ... [0s/1s] OK * checking for non-standard things in the check directory ... OK * DONE Status: 1 NOTE