- using R Under development (unstable) (2023-05-31 r84480)
- using platform: x86_64-pc-linux-gnu
- R was compiled by
gcc-12 (Debian 12.2.0-14) 12.2.0
GNU Fortran (Debian 12.2.0-14) 12.2.0
- running under: Debian GNU/Linux 12 (bookworm)
- using session charset: UTF-8
- checking for file ‘party/DESCRIPTION’ ... OK
- this is package ‘party’ version ‘1.3-13’
- checking package namespace information ... OK
- checking package dependencies ... OK
- checking if this is a source package ... OK
- checking if there is a namespace ... OK
- checking for executable files ... OK
- checking for hidden files and directories ... OK
- checking for portable file names ... OK
- checking for sufficient/correct file permissions ... OK
- checking serialization versions ... OK
- checking whether package ‘party’ can be installed ... OK
- used C compiler: ‘gcc-12 (Debian 12.2.0-14) 12.2.0’
- checking package directory ... OK
- checking for future file timestamps ... OK
- checking ‘build’ directory ... OK
- checking DESCRIPTION meta-information ... OK
- checking top-level files ... OK
- checking for left-over files ... OK
- checking index information ... OK
- checking package subdirectories ... OK
- checking R files for non-ASCII characters ... OK
- checking R files for syntax errors ... OK
- checking whether the package can be loaded ... [3s/5s] OK
- checking whether the package can be loaded with stated dependencies ... [2s/3s] OK
- checking whether the package can be unloaded cleanly ... [2s/5s] OK
- checking whether the namespace can be loaded with stated dependencies ... [2s/3s] OK
- checking whether the namespace can be unloaded cleanly ... [2s/3s] OK
- checking loading without being on the library search path ... [2s/4s] OK
- checking startup messages can be suppressed ... [2s/3s] OK
- checking use of S3 registration ... OK
- checking dependencies in R code ... OK
- checking S3 generic/method consistency ... OK
- checking replacement functions ... OK
- checking foreign function calls ... OK
- checking R code for possible problems ... [21s/37s] OK
- checking Rd files ... [1s/1s] OK
- checking Rd metadata ... OK
- checking Rd line widths ... OK
- checking Rd cross-references ... OK
- checking for missing documentation entries ... OK
- checking for code/documentation mismatches ... OK
- checking Rd \usage sections ... OK
- checking Rd contents ... OK
- checking for unstated dependencies in examples ... OK
- checking contents of ‘data’ directory ... OK
- checking data for non-ASCII characters ... [0s/1s] OK
- checking LazyData ... OK
- checking data for ASCII and uncompressed saves ... OK
- checking line endings in shell scripts ... OK
- checking line endings in C/C++/Fortran sources/headers ... OK
- checking line endings in Makefiles ... OK
- checking compilation flags in Makevars ... OK
- checking for GNU extensions in Makefiles ... OK
- checking for portable use of $(BLAS_LIBS) and $(LAPACK_LIBS) ... OK
- checking use of PKG_*FLAGS in Makefiles ... OK
- checking use of SHLIB_OPENMP_*FLAGS in Makefiles ... OK
- checking pragmas in C/C++ headers and code ... OK
- checking compilation flags used ... OK
- checking compiled code ... OK
- checking sizes of PDF files under ‘inst/doc’ ... OK
- checking installed files from ‘inst/doc’ ... OK
- checking files in ‘vignettes’ ... OK
- checking examples ... [15s/26s] OK
Examples with CPU (user + system) or elapsed time > 5s
user system elapsed
plot.mob 3.157 0.012 5.502
- checking differences from ‘party-Ex.Rout’ to ‘party-Ex.Rout.save’ ... OK
- checking for unstated dependencies in ‘tests’ ... OK
- checking tests ... [39s/64s] OK
Running ‘Distributions.R’ [2s/4s]
Comparing ‘Distributions.Rout’ to ‘Distributions.Rout.save’ ... OK
Running ‘LinearStatistic-regtest.R’ [3s/4s]
Comparing ‘LinearStatistic-regtest.Rout’ to ‘LinearStatistic-regtest.Rout.save’ ... OK
Running ‘Predict-regtest.R’ [4s/7s]
Comparing ‘Predict-regtest.Rout’ to ‘Predict-regtest.Rout.save’ ... OK
Running ‘RandomForest-regtest.R’ [5s/9s]
Comparing ‘RandomForest-regtest.Rout’ to ‘RandomForest-regtest.Rout.save’ ... OK
Running ‘TestStatistic-regtest.R’ [2s/4s]
Comparing ‘TestStatistic-regtest.Rout’ to ‘TestStatistic-regtest.Rout.save’ ... OK
Running ‘TreeGrow-regtest.R’ [5s/8s]
Comparing ‘TreeGrow-regtest.Rout’ to ‘TreeGrow-regtest.Rout.save’ ... OK
Running ‘Utils-regtest.R’ [3s/4s]
Comparing ‘Utils-regtest.Rout’ to ‘Utils-regtest.Rout.save’ ... OK
Running ‘bugfixes.R’ [11s/16s]
Comparing ‘bugfixes.Rout’ to ‘bugfixes.Rout.save’ ... OK
Running ‘mob.R’ [4s/7s]
Comparing ‘mob.Rout’ to ‘mob.Rout.save’ ...379a380,383
> Deviance Residuals:
> Min 1Q Median 3Q Max
> -1.817 0.000 0.000 0.000 2.718
>
400a405,408
> Deviance Residuals:
> Min 1Q Median 3Q Max
> -1.9438 -0.3484 0.0000 0.0000 2.4893
>
420a429,432
>
> Deviance Residuals:
> Min 1Q Median 3Q Max
> -2.005 0.000 0.000 0.000 2.380
- checking for unstated dependencies in vignettes ... OK
- checking package vignettes in ‘inst/doc’ ... OK
- checking running R code from vignettes ... [9s/13s] OK
‘MOB.Rnw’... [5s/7s] OK
‘party.Rnw’... [4s/5s] OK
- checking re-building of vignette outputs ... [22s/41s] OK
- checking PDF version of manual ... [5s/13s] OK
- checking HTML version of manual ... [2s/4s] OK
- checking for non-standard things in the check directory ... OK
- DONE
Status: OK