* using log directory ‘/home/hornik/tmp/R.check/r-devel-gcc/Work/PKGS/nparLD.Rcheck’ * using R Under development (unstable) (2025-07-15 r88411) * using platform: x86_64-pc-linux-gnu * R was compiled by gcc-14 (Debian 14.2.0-19) 14.2.0 GNU Fortran (Debian 14.2.0-19) 14.2.0 * running under: Debian GNU/Linux 13 (trixie) * using session charset: UTF-8 * checking for file ‘nparLD/DESCRIPTION’ ... OK * this is package ‘nparLD’ version ‘2.2’ * checking CRAN incoming feasibility ... [0s/1s] NOTE Maintainer: ‘Frank Konietschke ’ No Authors@R field in DESCRIPTION. Please add one, modifying Authors@R: c(person(given = "Kimihiro", family = "Noguchi", role = "aut", email = "noguchk@wwu.edu"), person(given = "Mahbub", family = "Latif", role = "aut", email = "mlatif@isrt.ac.bd"), person(given = "Karthinathan", family = "Thangavelu", role = "aut"), person(given = "Frank", family = "Konietschke", role = c("aut", "cre"), email = "frank.konietschke@charite.de"), person(given = c("Yulia", "R."), family = "Gel", role = "aut", email = "yxg142030@utdallas.edu"), person(given = "Edgar", family = "Brunner", role = "aut", email = "ebrunne1@gwdg.de")) as necessary. Package CITATION file contains call(s) to old-style personList() or as.personList(). Please use c() on person objects instead. Package CITATION file contains call(s) to old-style citEntry(). Please use bibentry() instead. * checking package namespace information ... OK * checking package dependencies ... OK * checking if this is a source package ... OK * checking if there is a namespace ... OK * checking for executable files ... OK * checking for hidden files and directories ... OK * checking for portable file names ... OK * checking for sufficient/correct file permissions ... OK * checking serialization versions ... OK * checking whether package ‘nparLD’ can be installed ... OK See 'https://www.r-project.org/nosvn/R.check/r-devel-linux-x86_64-debian-gcc/nparLD-00install.html' for details. * checking package directory ... OK * checking for future file timestamps ... OK * checking DESCRIPTION meta-information ... OK * checking top-level files ... OK * checking for left-over files ... OK * checking index information ... OK * checking package subdirectories ... OK * checking code files for non-ASCII characters ... OK * checking R files for syntax errors ... OK * checking whether the package can be loaded ... [0s/0s] OK * checking whether the package can be loaded with stated dependencies ... [0s/0s] OK * checking whether the package can be unloaded cleanly ... [0s/0s] OK * checking whether the namespace can be loaded with stated dependencies ... [0s/0s] OK * checking whether the namespace can be unloaded cleanly ... [0s/0s] OK * checking loading without being on the library search path ... [0s/0s] OK * checking use of S3 registration ... OK * checking dependencies in R code ... OK * checking S3 generic/method consistency ... OK * checking replacement functions ... OK * checking foreign function calls ... OK * checking R code for possible problems ... [12s/13s] OK * checking Rd files ... [0s/0s] OK * checking Rd metadata ... OK * checking Rd line widths ... OK * checking Rd cross-references ... OK * checking for missing documentation entries ... OK * checking for code/documentation mismatches ... OK * checking Rd \usage sections ... OK * checking Rd contents ... OK * checking for unstated dependencies in examples ... OK * checking contents of ‘data’ directory ... OK * checking data for non-ASCII characters ... [0s/0s] OK * checking data for ASCII and uncompressed saves ... OK * checking examples ... [3s/3s] OK * checking PDF version of manual ... [4s/5s] OK * checking HTML version of manual ... [1s/1s] OK * checking for non-standard things in the check directory ... OK * DONE Status: 1 NOTE