- using R Under development (unstable) (2025-10-20 r88955)
- using platform: x86_64-pc-linux-gnu
- R was compiled by
gcc-15 (Debian 15.2.0-4) 15.2.0
GNU Fortran (Debian 15.2.0-4) 15.2.0
- running under: Debian GNU/Linux forky/sid
- using session charset: UTF-8
- checking for file ‘myownrobs/DESCRIPTION’ ... OK
- checking extension type ... Package
- this is package ‘myownrobs’ version ‘0.1.0’
- package encoding: UTF-8
- checking CRAN incoming feasibility ... [1s/1s] OK
- checking package namespace information ... OK
- checking package dependencies ... OK
- checking if this is a source package ... OK
- checking if there is a namespace ... OK
- checking for executable files ... OK
- checking for hidden files and directories ... OK
- checking for portable file names ... OK
- checking for sufficient/correct file permissions ... OK
- checking serialization versions ... OK
- checking whether package ‘myownrobs’ can be installed ... OK
See the install log for details.
- checking package directory ... OK
- checking for future file timestamps ... OK
- checking DESCRIPTION meta-information ... OK
- checking top-level files ... OK
- checking for left-over files ... OK
- checking index information ... OK
- checking package subdirectories ... OK
- checking code files for non-ASCII characters ... OK
- checking R files for syntax errors ... OK
- checking whether the package can be loaded ... [1s/2s] OK
- checking whether the package can be loaded with stated dependencies ... [1s/1s] OK
- checking whether the package can be unloaded cleanly ... [1s/1s] OK
- checking whether the namespace can be loaded with stated dependencies ... [1s/1s] OK
- checking whether the namespace can be unloaded cleanly ... [1s/2s] OK
- checking loading without being on the library search path ... [1s/1s] OK
- checking use of S3 registration ... OK
- checking dependencies in R code ... OK
- checking S3 generic/method consistency ... OK
- checking replacement functions ... OK
- checking foreign function calls ... OK
- checking R code for possible problems ... [6s/8s] OK
- checking Rd files ... [0s/1s] OK
- checking Rd metadata ... OK
- checking Rd line widths ... OK
- checking Rd cross-references ... OK
- checking for missing documentation entries ... OK
- checking for code/documentation mismatches ... OK
- checking Rd \usage sections ... OK
- checking Rd contents ... OK
- checking for unstated dependencies in examples ... OK
- checking examples ... [1s/2s] OK
- checking for unstated dependencies in ‘tests’ ... OK
- checking tests ... [2s/3s] OK
Running ‘testthat.R’ [2s/3s]
- checking PDF version of manual ... [4s/6s] OK
- checking HTML version of manual ... [0s/1s] NOTE
Found the following HTML validation problems:
debug_print.html:47:1 (debug_print.Rd:10): Warning: missing </ul> before </div>
execute_llm_tools.html:50:1 (execute_llm_tools.Rd:12): Warning: missing </ul> before </div>
get_config.html:46:1 (get_config.Rd:10): Warning: missing </ul> before </div>
myownrobs_server.html:46:1 (myownrobs_server.Rd:10): Warning: missing </ul> before </div>
parse_agent_response.html:47:1 (parse_agent_response.Rd:10): Warning: missing </ul> before </div>
policy_server.html:46:1 (policy_server.Rd:10): Warning: missing </ul> before </div>
policy_ui.html:46:1 (policy_ui.Rd:10): Warning: missing </ul> before </div>
save_api_key.html:46:1 (save_api_key.Rd:10): Warning: missing </ul> before </div>
send_prompt.html:84:1 (send_prompt.Rd:34): Warning: missing </ul> before </div>
send_prompt_async.html:84:1 (send_prompt_async.Rd:34): Warning: missing </ul> before </div>
set_config.html:50:1 (set_config.Rd:12): Warning: missing </ul> before </div>
set_initial_project.html:47:1 (set_initial_project.Rd:11): Warning: missing </ul> before </div>
settings_module.html:50:1 (settings_module.Rd:12): Warning: missing </ul> before </div>
validate_command_args.html:53:1 (validate_command_args.Rd:13): Warning: missing </ul> before </div>
validate_credentials.html:50:1 (validate_credentials.Rd:12): Warning: missing </ul> before </div>
- checking for non-standard things in the check directory ... OK
- DONE
Status: 1 NOTE