* using log directory ‘/home/hornik/tmp/R.check/r-devel-gcc/Work/PKGS/mvoutlier.Rcheck’
* using R Under development (unstable) (2025-07-15 r88411)
* using platform: x86_64-pc-linux-gnu
* R was compiled by
gcc-14 (Debian 14.2.0-19) 14.2.0
GNU Fortran (Debian 14.2.0-19) 14.2.0
* running under: Debian GNU/Linux 13 (trixie)
* using session charset: UTF-8
* checking for file ‘mvoutlier/DESCRIPTION’ ... OK
* this is package ‘mvoutlier’ version ‘2.1.1’
* checking CRAN incoming feasibility ... [1s/1s] NOTE
Maintainer: ‘P. Filzmoser
’
No Authors@R field in DESCRIPTION.
Please add one, modifying
Authors@R: c(person(given = "Peter",
family = "Filzmoser",
role = "aut",
email = "P.Filzmoser@tuwien.ac.at"),
person(given = "Moritz",
family = "Gschwandtner",
role = "aut",
email = "e0125439@student.tuwien.ac.at"),
person(given = "P.",
family = "Filzmoser",
role = "cre",
email = "P.Filzmoser@tuwien.ac.at"))
as necessary.
* checking package namespace information ... OK
* checking package dependencies ... OK
* checking if this is a source package ... OK
* checking if there is a namespace ... OK
* checking for executable files ... OK
* checking for hidden files and directories ... OK
* checking for portable file names ... OK
* checking for sufficient/correct file permissions ... OK
* checking serialization versions ... OK
* checking whether package ‘mvoutlier’ can be installed ... OK
See 'https://www.r-project.org/nosvn/R.check/r-devel-linux-x86_64-debian-gcc/mvoutlier-00install.html' for details.
* checking package directory ... OK
* checking for future file timestamps ... OK
* checking DESCRIPTION meta-information ... OK
* checking top-level files ... OK
* checking for left-over files ... OK
* checking index information ... OK
* checking package subdirectories ... OK
* checking code files for non-ASCII characters ... OK
* checking R files for syntax errors ... OK
* checking whether the package can be loaded ... [0s/0s] OK
* checking whether the package can be loaded with stated dependencies ... [0s/1s] OK
* checking whether the package can be unloaded cleanly ... [0s/1s] OK
* checking whether the namespace can be loaded with stated dependencies ... [0s/1s] OK
* checking whether the namespace can be unloaded cleanly ... [0s/0s] OK
* checking loading without being on the library search path ... [0s/0s] OK
* checking use of S3 registration ... OK
* checking dependencies in R code ... OK
* checking S3 generic/method consistency ... OK
* checking replacement functions ... OK
* checking foreign function calls ... OK
* checking R code for possible problems ... [6s/9s] OK
* checking Rd files ... [0s/1s] NOTE
checkRd: (-1) pkb.Rd:14: Escaped LaTeX specials: \# \# \#
* checking Rd metadata ... OK
* checking Rd line widths ... OK
* checking Rd cross-references ... OK
* checking for missing documentation entries ... OK
* checking for code/documentation mismatches ... OK
* checking Rd \usage sections ... OK
* checking Rd contents ... OK
* checking for unstated dependencies in examples ... OK
* checking contents of ‘data’ directory ... OK
* checking data for non-ASCII characters ... [0s/0s] OK
* checking LazyData ... OK
* checking data for ASCII and uncompressed saves ... OK
* checking examples ... [4s/5s] OK
* checking PDF version of manual ... [4s/6s] OK
* checking HTML version of manual ... [1s/2s] OK
* checking for non-standard things in the check directory ... OK
* DONE
Status: 2 NOTEs