- using R Under development (unstable) (2022-05-18 r82376)
- using platform: x86_64-pc-linux-gnu (64-bit)
- using session charset: UTF-8
- checking for file ‘multiPIM/DESCRIPTION’ ... OK
- this is package ‘multiPIM’ version ‘1.4-3’
- checking package namespace information ... OK
- checking package dependencies ... OK
- checking if this is a source package ... OK
- checking if there is a namespace ... OK
- checking for executable files ... OK
- checking for hidden files and directories ... OK
- checking for portable file names ... OK
- checking for sufficient/correct file permissions ... OK
- checking serialization versions ... OK
- checking whether package ‘multiPIM’ can be installed ... OK
- checking package directory ... OK
- checking for future file timestamps ... OK
- checking DESCRIPTION meta-information ... OK
- checking top-level files ... OK
- checking for left-over files ... OK
- checking index information ... OK
- checking package subdirectories ... OK
- checking R files for non-ASCII characters ... OK
- checking R files for syntax errors ... OK
- checking whether the package can be loaded ... OK
- checking whether the package can be loaded with stated dependencies ... OK
- checking whether the package can be unloaded cleanly ... OK
- checking whether the namespace can be loaded with stated dependencies ... OK
- checking whether the namespace can be unloaded cleanly ... OK
- checking loading without being on the library search path ... OK
- checking use of S3 registration ... OK
- checking dependencies in R code ... OK
- checking S3 generic/method consistency ... OK
- checking replacement functions ... OK
- checking foreign function calls ... OK
- checking R code for possible problems ... [14s/27s] NOTE
multiPIM : expand.factors: no visible global function definition for
‘formula’
multiPIM : expand.factors: no visible global function definition for
‘model.matrix’
multiPIM : <anonymous>: no visible global function definition for ‘glm’
multiPIM : <anonymous>: no visible binding for global variable
‘binomial’
multiPIM : <anonymous>: no visible global function definition for
‘qlogis’
multiPIM : <anonymous>: no visible global function definition for
‘as.formula’
multiPIM : <anonymous>: no visible global function definition for ‘lm’
multiPIM: no visible global function definition for ‘glm’
multiPIM: no visible global function definition for ‘qlogis’
multiPIM: no visible binding for global variable ‘binomial’
multiPIM: no visible global function definition for ‘plogis’
multiPIM: no visible global function definition for ‘sd’
multiPIM: no visible global function definition for ‘lm’
summary.multiPIM: no visible binding for global variable ‘sd’
summary.multiPIM: no visible global function definition for ‘pnorm’
Undefined global functions or variables:
as.formula binomial formula glm lm model.matrix plogis pnorm qlogis
sd
Consider adding
importFrom("stats", "as.formula", "binomial", "formula", "glm", "lm",
"model.matrix", "plogis", "pnorm", "qlogis", "sd")
to your NAMESPACE file.
- checking Rd files ... [1s/1s] OK
- checking Rd metadata ... OK
- checking Rd line widths ... OK
- checking Rd cross-references ... OK
- checking for missing documentation entries ... OK
- checking for code/documentation mismatches ... OK
- checking Rd \usage sections ... OK
- checking Rd contents ... OK
- checking for unstated dependencies in examples ... OK
- checking contents of ‘data’ directory ... OK
- checking data for non-ASCII characters ... OK
- checking data for ASCII and uncompressed saves ... OK
- checking examples ... [7s/11s] OK
- checking PDF version of manual ... OK
- checking HTML version of manual ... OK
- checking for non-standard things in the check directory ... OK
- DONE
Status: 1 NOTE