- using R Under development (unstable) (2023-12-02 r85657)
- using platform: x86_64-pc-linux-gnu
- R was compiled by
gcc-13 (Debian 13.2.0-5) 13.2.0
GNU Fortran (Debian 13.2.0-5) 13.2.0
- running under: Debian GNU/Linux trixie/sid
- using session charset: UTF-8
- checking for file ‘metaplot/DESCRIPTION’ ... OK
- checking extension type ... Package
- this is package ‘metaplot’ version ‘0.8.3’
- package encoding: UTF-8
- checking package namespace information ... OK
- checking package dependencies ... OK
- checking if this is a source package ... OK
- checking if there is a namespace ... OK
- checking for executable files ... OK
- checking for hidden files and directories ... OK
- checking for portable file names ... OK
- checking for sufficient/correct file permissions ... OK
- checking serialization versions ... OK
- checking whether package ‘metaplot’ can be installed ... OK
See the install log for details.
- checking package directory ... OK
- checking for future file timestamps ... OK
- checking DESCRIPTION meta-information ... OK
- checking top-level files ... OK
- checking for left-over files ... OK
- checking index information ... OK
- checking package subdirectories ... OK
- checking R files for non-ASCII characters ... OK
- checking R files for syntax errors ... OK
- checking whether the package can be loaded ... [1s/2s] OK
- checking whether the package can be loaded with stated dependencies ... [1s/2s] OK
- checking whether the package can be unloaded cleanly ... [1s/1s] OK
- checking whether the namespace can be loaded with stated dependencies ... [1s/2s] OK
- checking whether the namespace can be unloaded cleanly ... [1s/3s] OK
- checking loading without being on the library search path ... [1s/3s] OK
- checking use of S3 registration ... OK
- checking dependencies in R code ... OK
- checking S3 generic/method consistency ... OK
- checking replacement functions ... OK
- checking foreign function calls ... OK
- checking R code for possible problems ... [17s/29s] OK
- checking Rd files ... [1s/2s] NOTE
checkRd: (-1) metaplot.Rd:33: Lost braces in \itemize; meant \describe ?
checkRd: (-1) metaplot.Rd:35: Lost braces in \itemize; meant \describe ?
checkRd: (-1) metaplot.Rd:37: Lost braces in \itemize; meant \describe ?
checkRd: (-1) metaplot.Rd:39: Lost braces in \itemize; meant \describe ?
checkRd: (-1) metaplot.Rd:41: Lost braces in \itemize; meant \describe ?
checkRd: (-1) metaplot.Rd:43: Lost braces in \itemize; meant \describe ?
checkRd: (-1) metaplot.Rd:45: Lost braces in \itemize; meant \describe ?
checkRd: (-1) metaplot.Rd:47: Lost braces in \itemize; meant \describe ?
checkRd: (-1) metaplot.Rd:49: Lost braces in \itemize; meant \describe ?
checkRd: (-1) metaplot.Rd:51: Lost braces in \itemize; meant \describe ?
checkRd: (-1) metaplot.Rd:53: Lost braces in \itemize; meant \describe ?
checkRd: (-1) metaplot.Rd:55: Lost braces in \itemize; meant \describe ?
checkRd: (-1) metaplot.Rd:57: Lost braces in \itemize; meant \describe ?
checkRd: (-1) metaplot.Rd:59: Lost braces in \itemize; meant \describe ?
checkRd: (-1) metaplot.Rd:61: Lost braces in \itemize; meant \describe ?
checkRd: (-1) metaplot.Rd:63: Lost braces in \itemize; meant \describe ?
checkRd: (-1) metaplot.Rd:65: Lost braces in \itemize; meant \describe ?
checkRd: (-1) metaplot.Rd:71: Lost braces in \itemize; meant \describe ?
checkRd: (-1) metaplot.Rd:72: Lost braces in \itemize; meant \describe ?
checkRd: (-1) metaplot.Rd:73: Lost braces in \itemize; meant \describe ?
checkRd: (-1) metaplot.Rd:74: Lost braces in \itemize; meant \describe ?
- checking Rd metadata ... OK
- checking Rd line widths ... OK
- checking Rd cross-references ... OK
- checking for missing documentation entries ... OK
- checking for code/documentation mismatches ... OK
- checking Rd \usage sections ... NOTE
Documented arguments not in \usage in Rd file 'plot.metaplot_gtable.Rd':
‘y’
Functions with \usage entries need to have the appropriate \alias
entries, and all their arguments documented.
The \usage entries must correspond to syntactically valid R code.
See chapter ‘Writing R documentation files’ in the ‘Writing R
Extensions’ manual.
- checking Rd contents ... OK
- checking for unstated dependencies in examples ... OK
- checking LazyData ... NOTE
'LazyData' is specified without a 'data' directory
- checking examples ... [26s/43s] OK
Examples with CPU (user + system) or elapsed time > 5s
user system elapsed
categorical_data_frame 4.476 0.092 8.902
boxplot.data.frame 3.872 0.026 6.287
densplot.data.frame 2.865 0.005 5.749
- checking PDF version of manual ... [8s/18s] OK
- checking HTML version of manual ... [3s/7s] OK
- checking for non-standard things in the check directory ... OK
- DONE
Status: 3 NOTEs